PDS_VERSION_ID = PDS3
/* FILE DATA ELEMENTS */
RECORD_TYPE = UNDEFINED
/* POINTERS TO DATA OBJECTS */
^IMAGE = ("HM796_0009_P24.TIF")
/* IDENTIFICATION DATA ELEMENTS */
DATA_SET_ID = "MEX-M-HRSC-4-REFDR-MAPPROJECT-EXT8-V4.0"
DATA_SET_NAME = "MARS EXPRESS HRSC MAP PROJECTED REFDR EXTENSION8 V4.0"
DETECTOR_ID = MEX_HRSC_P2
EVENT_TYPE = "MARS-TERMINATOR-CALIBRATION-Tc"
INSTRUMENT_HOST_ID = MEX
INSTRUMENT_HOST_NAME = "MARS EXPRESS"
INSTRUMENT_ID = HRSC
INSTRUMENT_NAME = "HIGH RESOLUTION STEREO CAMERA"
MISSION_NAME = "MARS EXPRESS"
MISSION_PHASE_NAME = ME_Phase_46
PROCESSING_LEVEL_ID = 4
PRODUCT_CREATION_TIME = 2023-01-28T19:10:30.000Z
PRODUCT_ID = "HM796_0009_P24.TIF"
RELEASE_ID = 0003
REVISION_ID = 0000
/* QUALITY DATA ELEMENTS */
DATA_QUALITY_ID = 1
DATA_QUALITY_DESC = "Data calculated based on original SPICE kernels"
/* TIME DATA ELEMENTS */
SPACECRAFT_CLOCK_START_COUNT = "1/0590429226.23922"
SPACECRAFT_CLOCK_STOP_COUNT = "1/0590429641.07519"
START_TIME = 2022-01-16T16:11:28.469Z
STOP_TIME = 2022-01-16T16:13:49.367Z
/* ORBITAL DATA ELEMENTS */
ASCENDING_NODE_LONGITUDE = 148.94
MAXIMUM_RESOLUTION = 1.3092
FOOTPRINT_POINT_LATITUDE = (-5.60802,-5.43397,-5.33534,-5.17748, -5.06862,-5.00676,-4.98986,-5.01683, -5.08778,-5.20274,-5.36206,-5.56736, -5.82099,-6.12565,-6.29875,-6.48626, -6.5355,-6.56245,-5.37529,-4.20607, -1.95586,0.22356,2.33312,4.39474, 6.40935,8.38852,10.8186,12.7438,14.6624 ,16.5697,18.4768,20.3893,22.3143, 24.2575,26.2241,28.2322,29.7465,31.8233 ,33.9606,36.1611,37.2965,38.4468, 39.6262,40.8333,42.065,43.3363,45.3107, 45.9878,46.0251,46.1458,46.2615,46.4505 ,46.5494,46.6438,46.7313,46.8942, 47.0367,47.1593,47.2637,47.3448,47.4136 ,47.462,47.4779,47.4882,47.4946,47.4945 ,47.4804,47.4769,47.4695,46.077,44.731, 43.4252,42.1553,40.9202,39.7138,38.5353 ,37.3812,35.1365,32.9672,30.8591, 28.8008,26.7845,24.8018,22.8447,20.9062 ,18.9804,17.0609,15.1418,13.2158,11.278 ,9.32046,7.33825,5.32009,3.78021, 1.68472,0.0911033,-2.11398,-4.99202, -5.60738,-5.60802)
FOOTPRINT_POINT_LONGITUDE = (322.86,324.614,325.765,328.027,330.25, 332.444,334.618,336.781,338.939,341.098 ,343.269,345.46,347.68,349.941,351.089, 352.252,352.545,352.629,352.566,352.509 ,352.437,352.395,352.389,352.409, 352.461,352.54,352.689,352.839,353.001, 353.206,353.444,353.717,354.035,354.394 ,354.8,355.282,355.654,356.245,356.93, 357.716,358.165,358.64,359.164,359.736, 360.356,361.049,362.227,362.662,362.687 ,360.899,359.103,356.022,354.29,352.576 ,350.878,347.519,344.191,340.877,337.56 ,334.227,330.865,327.454,325.725, 323.978,322.208,320.411,317.194,316.725 ,316.572,317.246,317.846,318.383, 318.868,319.306,319.704,320.066,320.398 ,320.983,321.477,321.898,322.258, 322.565,322.826,323.045,323.23,323.379, 323.499,323.589,323.648,323.682,323.686 ,323.665,323.612,323.553,323.449,323.36 ,323.193,322.92,322.843,322.86)
ORBIT_NUMBER = 22796
ORBITAL_ECCENTRICITY = 0.574
ORBITAL_INCLINATION = 87.02
ORBITAL_SEMIMAJOR_AXIS = 8837.43
PERIAPSIS_ALTITUDE = 365.85
PERIAPSIS_ARGUMENT_ANGLE = 14.18
PERIAPSIS_TIME = 2022-01-16T14:21:43.000Z
SPACECRAFT_ORIENTATION = (0.0,1.0,0.0)
^MEX_ORIENTATION_DESC = "MEX_ORIENTATION_DESC.TXT"
SPACECRAFT_POINTING_MODE = FIXED
^MEX_POINTING_DESC = "MEX_POINTING_DESC.TXT"
RIGHT_ASCENSION = -1e+32
DECLINATION = -1e+32
OFFSET_ANGLE = -1e+32
SPACECRAFT_SOLAR_DISTANCE = 2.26849e+08
TARGET_NAME = MARS
/* CAMERA DATA ELEMENTS */
DETECTOR_TEMPERATURE = 18.3705
FOCAL_PLANE_TEMPERATURE = 7.9716
INST_CMPRS_NAME = "DISCRETE COSINE TRANSFORMATION (DCT)"
INST_CMPRS_RATIO = 11.1789
INST_CMPRS_QUALITY = 0
INST_CMPRS_QUANTZ_TBL_ID = 0
INSTRUMENT_TEMPERATURE = 10.8262
LENS_TEMPERATURE = 8.3794
MACROPIXEL_SIZE = 4
MISSING_FRAMES = 0
PIXEL_SUBSAMPLING_FLAG = N
SIGNAL_CHAIN_ID = 3
/* RADIOMETRIC DATA ELEMENTS */
BANDWIDTH = 177.0
CENTER_FILTER_WAVELENGTH = 676.5
RADIANCE_OFFSET = 2.60288
RADIANCE_SCALING_FACTOR = 0.0294622
REFLECTANCE_SCALING_FACTOR = 0.000803785
MEX:REFLECTANCE_OFFSET = 0.0710116
/* IMAGE OBJECT DEFINITIONS */
OBJECT = IMAGE
  INTERCHANGE_FORMAT = BINARY
  LINES = 1909
  LINE_SAMPLES = 1185
  SAMPLE_TYPE = UNSIGNED_INTEGER
  SAMPLE_BITS = 8
  BANDS = 1
  BAND_STORAGE_TYPE = BAND_SEQUENTIAL
  MAXIMUM = 255
  MEAN = 81.1162
  MINIMUM = 2
  STANDARD_DEVIATION = 47.9803
END_OBJECT = IMAGE
/* MAP OBJECT DEFINITIONS */
OBJECT = IMAGE_MAP_PROJECTION
  ^DATA_SET_MAP_PROJECTION_CATALOG= "DSMAP.CAT"
  A_AXIS_RADIUS = 3396.0
  B_AXIS_RADIUS = 3396.0
  C_AXIS_RADIUS = 3396.0
  CENTER_LATITUDE = 19.7579
  CENTER_LONGITUDE = 338.617
  COORDINATE_SYSTEM_NAME = PLANETOGRAPHIC
  COORDINATE_SYSTEM_TYPE = "BODY-FIXED ROTATING"
  EASTERNMOST_LONGITUDE = 2.687
  FIRST_STANDARD_PARALLEL = "N/A"
  LINE_FIRST_PIXEL = 1
  LINE_LAST_PIXEL = 1909
  LINE_PROJECTION_OFFSET = 983.25
  MAP_PROJECTION_ROTATION = 0.0
  MAP_PROJECTION_TYPE = ORTHOGRAPHIC
  MAP_RESOLUTION = 37.0446127416667
  MAP_SCALE = 1.6
  MAXIMUM_LATITUDE = 47.4946
  MINIMUM_LATITUDE = -6.56245
  POSITIVE_LONGITUDE_DIRECTION = EAST
  REFERENCE_LATITUDE = "N/A"
  REFERENCE_LONGITUDE = "N/A"
  SAMPLE_FIRST_PIXEL = 1
  SAMPLE_LAST_PIXEL = 1185
  SAMPLE_PROJECTION_OFFSET = 579.25
  SECOND_STANDARD_PARALLEL = "N/A"
  WESTERNMOST_LONGITUDE = -43.428
END_OBJECT = IMAGE_MAP_PROJECTION
END
