PDS_VERSION_ID = PDS3
/* FILE DATA ELEMENTS */
RECORD_TYPE = UNDEFINED
/* POINTERS TO DATA OBJECTS */
^IMAGE = ("HM796_0009_S24.TIF")
/* IDENTIFICATION DATA ELEMENTS */
DATA_SET_ID = "MEX-M-HRSC-4-REFDR-MAPPROJECT-EXT8-V4.0"
DATA_SET_NAME = "MARS EXPRESS HRSC MAP PROJECTED REFDR EXTENSION8 V4.0"
DETECTOR_ID = MEX_HRSC_S2
EVENT_TYPE = "MARS-TERMINATOR-CALIBRATION-Tc"
INSTRUMENT_HOST_ID = MEX
INSTRUMENT_HOST_NAME = "MARS EXPRESS"
INSTRUMENT_ID = HRSC
INSTRUMENT_NAME = "HIGH RESOLUTION STEREO CAMERA"
MISSION_NAME = "MARS EXPRESS"
MISSION_PHASE_NAME = ME_Phase_46
PROCESSING_LEVEL_ID = 4
PRODUCT_CREATION_TIME = 2023-01-28T19:10:30.000Z
PRODUCT_ID = "HM796_0009_S24.TIF"
RELEASE_ID = 0003
REVISION_ID = 0000
/* QUALITY DATA ELEMENTS */
DATA_QUALITY_ID = 1
DATA_QUALITY_DESC = "Data calculated based on original SPICE kernels"
/* TIME DATA ELEMENTS */
SPACECRAFT_CLOCK_START_COUNT = "1/0590429226.23922"
SPACECRAFT_CLOCK_STOP_COUNT = "1/0590429641.07519"
START_TIME = 2022-01-16T16:12:12.503Z
STOP_TIME = 2022-01-16T16:14:33.299Z
/* ORBITAL DATA ELEMENTS */
ASCENDING_NODE_LONGITUDE = 148.94
MAXIMUM_RESOLUTION = 1.3138
FOOTPRINT_POINT_LATITUDE = (-5.70303,-5.45916,-5.3184,-5.22319, -5.17117,-5.16104,-5.19195,-5.26375, -5.37658,-5.5311,-5.72822,-5.97005, -6.25981,-6.60057,-6.64697,-6.67668, -5.48487,-4.31902,-3.18343,-0.965131, 1.18464,3.27209,5.31012,7.31177,9.28098 ,11.2264,13.1558,14.5966,16.0334,17.949 ,19.8699,21.8002,23.7502,25.7234, 27.7278,29.771,31.3395,33.4744,35.679, 36.8082,37.9645,39.1453,40.3521,41.587, 42.85,44.8256,45.5024,46.1805,46.3767, 46.4809,46.5824,46.6765,46.767,46.8511, 47.0077,47.146,47.2667,47.3707,47.4563, 47.525,47.5792,47.5988,47.6124,47.6235, 47.6284,47.6254,47.6237,47.6163,46.2051 ,44.8415,43.5192,42.2363,40.9868, 39.7686,38.5785,37.4132,36.2708,35.1498 ,32.9627,30.8394,28.7677,26.7388, 24.7445,22.7767,20.8287,18.8944,16.9669 ,15.0401,13.1087,11.1641,9.20085,7.2135 ,5.19166,3.12828,1.01972,-1.13775, -3.38539,-4.54297,-5.14154,-5.70303)
FOOTPRINT_POINT_LONGITUDE = (323.206,326.013,328.207,330.366, 332.499,334.614,336.718,338.817,340.918 ,343.029,345.16,347.319,349.515,351.757 ,352.041,352.125,352.062,352.01,351.971 ,351.916,351.892,351.901,351.941, 352.006,352.101,352.225,352.376,352.507 ,352.657,352.884,353.149,353.443,353.79 ,354.181,354.626,355.133,355.569, 356.216,356.969,357.388,357.849,358.349 ,358.894,359.488,360.136,361.257, 361.669,362.101,359.046,357.313,355.605 ,353.915,352.244,350.586,347.305, 344.056,340.82,337.582,334.327,331.044, 327.716,326.03,324.327,322.603,320.856, 317.734,317.28,317.132,317.79,318.376, 318.9,319.371,319.797,320.183,320.535, 320.857,321.152,321.423,321.901,322.307 ,322.654,322.949,323.2,323.411,323.588, 323.73,323.843,323.927,323.986,324.014, 324.016,323.993,323.94,323.858,323.749, 323.615,323.429,323.32,323.253,323.206)
ORBIT_NUMBER = 22796
ORBITAL_ECCENTRICITY = 0.574
ORBITAL_INCLINATION = 87.02
ORBITAL_SEMIMAJOR_AXIS = 8837.43
PERIAPSIS_ALTITUDE = 365.85
PERIAPSIS_ARGUMENT_ANGLE = 14.18
PERIAPSIS_TIME = 2022-01-16T14:21:43.000Z
SPACECRAFT_ORIENTATION = (0.0,1.0,0.0)
^MEX_ORIENTATION_DESC = "MEX_ORIENTATION_DESC.TXT"
SPACECRAFT_POINTING_MODE = FIXED
^MEX_POINTING_DESC = "MEX_POINTING_DESC.TXT"
RIGHT_ASCENSION = -1e+32
DECLINATION = -1e+32
OFFSET_ANGLE = -1e+32
SPACECRAFT_SOLAR_DISTANCE = 2.26849e+08
TARGET_NAME = MARS
/* CAMERA DATA ELEMENTS */
DETECTOR_TEMPERATURE = 18.3705
FOCAL_PLANE_TEMPERATURE = 7.9716
INST_CMPRS_NAME = "DISCRETE COSINE TRANSFORMATION (DCT)"
INST_CMPRS_RATIO = 17.8159
INST_CMPRS_QUALITY = 0
INST_CMPRS_QUANTZ_TBL_ID = 0
INSTRUMENT_TEMPERATURE = 10.8262
LENS_TEMPERATURE = 8.3794
MACROPIXEL_SIZE = 4
MISSING_FRAMES = 0
PIXEL_SUBSAMPLING_FLAG = N
SIGNAL_CHAIN_ID = 3
/* RADIOMETRIC DATA ELEMENTS */
BANDWIDTH = 178.0
CENTER_FILTER_WAVELENGTH = 679.0
RADIANCE_OFFSET = 2.53119
RADIANCE_SCALING_FACTOR = 0.0297787
REFLECTANCE_SCALING_FACTOR = 0.000811434
MEX:REFLECTANCE_OFFSET = 0.0689719
/* IMAGE OBJECT DEFINITIONS */
OBJECT = IMAGE
  INTERCHANGE_FORMAT = BINARY
  LINES = 1909
  LINE_SAMPLES = 1185
  SAMPLE_TYPE = UNSIGNED_INTEGER
  SAMPLE_BITS = 8
  BANDS = 1
  BAND_STORAGE_TYPE = BAND_SEQUENTIAL
  MAXIMUM = 255
  MEAN = 85.7698
  MINIMUM = 1
  STANDARD_DEVIATION = 47.1766
END_OBJECT = IMAGE
/* MAP OBJECT DEFINITIONS */
OBJECT = IMAGE_MAP_PROJECTION
  ^DATA_SET_MAP_PROJECTION_CATALOG= "DSMAP.CAT"
  A_AXIS_RADIUS = 3396.0
  B_AXIS_RADIUS = 3396.0
  C_AXIS_RADIUS = 3396.0
  CENTER_LATITUDE = 19.7579
  CENTER_LONGITUDE = 338.617
  COORDINATE_SYSTEM_NAME = PLANETOGRAPHIC
  COORDINATE_SYSTEM_TYPE = "BODY-FIXED ROTATING"
  EASTERNMOST_LONGITUDE = 2.101
  FIRST_STANDARD_PARALLEL = "N/A"
  LINE_FIRST_PIXEL = 1
  LINE_LAST_PIXEL = 1909
  LINE_PROJECTION_OFFSET = 983.25
  MAP_PROJECTION_ROTATION = 0.0
  MAP_PROJECTION_TYPE = ORTHOGRAPHIC
  MAP_RESOLUTION = 37.0446127416667
  MAP_SCALE = 1.6
  MAXIMUM_LATITUDE = 47.6284
  MINIMUM_LATITUDE = -6.67668
  POSITIVE_LONGITUDE_DIRECTION = EAST
  REFERENCE_LATITUDE = "N/A"
  REFERENCE_LONGITUDE = "N/A"
  SAMPLE_FIRST_PIXEL = 1
  SAMPLE_LAST_PIXEL = 1185
  SAMPLE_PROJECTION_OFFSET = 579.25
  SECOND_STANDARD_PARALLEL = "N/A"
  WESTERNMOST_LONGITUDE = -42.868
END_OBJECT = IMAGE_MAP_PROJECTION
END
