PDS_VERSION_ID = PDS3
/* FILE DATA ELEMENTS */
RECORD_TYPE = UNDEFINED
/* POINTERS TO DATA OBJECTS */
^IMAGE = ("HM830_0000_ND4.TIF")
/* IDENTIFICATION DATA ELEMENTS */
DATA_SET_ID = "MEX-M-HRSC-4-REFDR-MAPPROJECT-EXT8-V4.0"
DATA_SET_NAME = "MARS EXPRESS HRSC MAP PROJECTED REFDR EXTENSION8 V4.0"
DETECTOR_ID = MEX_HRSC_NADIR
EVENT_TYPE = "MARS-TERMINATOR-CALIBRATION-Tc"
INSTRUMENT_HOST_ID = MEX
INSTRUMENT_HOST_NAME = "MARS EXPRESS"
INSTRUMENT_ID = HRSC
INSTRUMENT_NAME = "HIGH RESOLUTION STEREO CAMERA"
MISSION_NAME = "MARS EXPRESS"
MISSION_PHASE_NAME = ME_Phase_46
PROCESSING_LEVEL_ID = 4
PRODUCT_CREATION_TIME = 2023-01-28T19:10:30.000Z
PRODUCT_ID = "HM830_0000_ND4.TIF"
RELEASE_ID = 0003
REVISION_ID = 0000
/* QUALITY DATA ELEMENTS */
DATA_QUALITY_ID = 1
DATA_QUALITY_DESC = "Data calculated based on original SPICE kernels"
/* TIME DATA ELEMENTS */
SPACECRAFT_CLOCK_START_COUNT = "1/0591283007.25660"
SPACECRAFT_CLOCK_STOP_COUNT = "1/0591283313.17216"
START_TIME = 2022-01-26T13:19:17.584Z
STOP_TIME = 2022-01-26T13:20:29.566Z
/* ORBITAL DATA ELEMENTS */
ASCENDING_NODE_LONGITUDE = 148.33
MAXIMUM_RESOLUTION = 0.5756
FOOTPRINT_POINT_LATITUDE = (18.8794,18.8921,18.8811,18.8573, 18.8208,18.7718,18.7105,18.637,18.5517, 18.4549,18.3465,18.2262,18.0942,17.9508 ,17.796,17.6295,17.4513,17.2609,17.0583 ,16.8435,16.6162,16.3757,16.1218, 15.8546,15.3535,15.2783,15.2212,16.777, 17.6522,18.5179,19.3755,20.2258,21.0689 ,21.9057,22.7368,23.5631,24.3849, 26.0179,27.6399,29.2551,30.8671,31.6731 ,32.4798,33.2877,34.0972,34.9087, 35.7229,35.9269,35.9673,36.4946,36.7816 ,37.0579,37.323,37.5771,37.8208,38.0537 ,38.2766,38.489,38.6914,38.8839,39.0669 ,39.24,39.403,39.556,39.6989,39.8321, 39.9554,40.0675,40.1692,40.2601,40.3403 ,40.4098,40.5034,40.514,40.5152,39.6349 ,38.7609,37.8925,37.0289,36.1691, 35.3131,34.4598,33.6088,32.7594,31.9112 ,30.2156,29.3671,28.5172,27.6655, 26.8111,25.9535,25.092,24.2266,23.355, 22.4776,21.5931,20.7014,19.1202,18.8919 ,18.8794)
FOOTPRINT_POINT_LONGITUDE = (93.8724,95.8045,96.8936,97.9729, 99.0433,100.106,101.161,102.211,103.255 ,104.295,105.329,106.359,107.386,108.41 ,109.431,110.45,111.468,112.486,113.505 ,114.525,115.545,116.57,117.598,118.629 ,120.444,120.704,120.808,121.117, 121.302,121.492,121.688,121.891,122.1, 122.316,122.539,122.77,123.008,123.509, 124.044,124.62,125.238,125.566,125.907, 126.261,126.631,127.015,127.417,127.521 ,127.541,125.391,124.158,122.927, 121.696,120.469,119.242,118.011,116.78, 115.547,114.311,113.07,111.825,110.574, 109.317,108.053,106.781,105.502,104.214 ,102.918,101.613,100.298,98.9708, 97.6306,95.2535,94.9102,94.7864,94.8183 ,94.8425,94.8592,94.8694,94.8739, 94.8717,94.8641,94.8511,94.8323,94.8084 ,94.7454,94.7063,94.6624,94.6135, 94.5594,94.5005,94.4365,94.3686,94.2941 ,94.2147,94.1295,94.0396,93.8688, 93.8429,93.8724)
ORBIT_NUMBER = 22830
ORBITAL_ECCENTRICITY = 0.575
ORBITAL_INCLINATION = 87.02
ORBITAL_SEMIMAJOR_AXIS = 8843.03
PERIAPSIS_ALTITUDE = 362.19
PERIAPSIS_ARGUMENT_ANGLE = 8.34
PERIAPSIS_TIME = 2022-01-26T11:47:26.000Z
SPACECRAFT_ORIENTATION = (0.0,1.0,0.0)
^MEX_ORIENTATION_DESC = "MEX_ORIENTATION_DESC.TXT"
SPACECRAFT_POINTING_MODE = FIXED
^MEX_POINTING_DESC = "MEX_POINTING_DESC.TXT"
RIGHT_ASCENSION = -1e+32
DECLINATION = -1e+32
OFFSET_ANGLE = -1e+32
SPACECRAFT_SOLAR_DISTANCE = 2.24915e+08
TARGET_NAME = MARS
/* CAMERA DATA ELEMENTS */
DETECTOR_TEMPERATURE = 18.1666
FOCAL_PLANE_TEMPERATURE = 7.9716
INST_CMPRS_NAME = "DISCRETE COSINE TRANSFORMATION (DCT)"
INST_CMPRS_RATIO = 9.88936
INST_CMPRS_QUALITY = 0
INST_CMPRS_QUANTZ_TBL_ID = 0
INSTRUMENT_TEMPERATURE = 11.234
LENS_TEMPERATURE = 8.1755
MACROPIXEL_SIZE = 2
MISSING_FRAMES = 0
PIXEL_SUBSAMPLING_FLAG = N
SIGNAL_CHAIN_ID = 0
/* RADIOMETRIC DATA ELEMENTS */
BANDWIDTH = 177.0
CENTER_FILTER_WAVELENGTH = 677.5
RADIANCE_OFFSET = 2.14882
RADIANCE_SCALING_FACTOR = 0.0315401
REFLECTANCE_SCALING_FACTOR = 0.000847493
MEX:REFLECTANCE_OFFSET = 0.0577395
/* IMAGE OBJECT DEFINITIONS */
OBJECT = IMAGE
  INTERCHANGE_FORMAT = BINARY
  LINES = 3729
  LINE_SAMPLES = 4281
  SAMPLE_TYPE = UNSIGNED_INTEGER
  SAMPLE_BITS = 8
  BANDS = 1
  BAND_STORAGE_TYPE = BAND_SEQUENTIAL
  MAXIMUM = 255
  MEAN = 98.5512
  MINIMUM = 1
  STANDARD_DEVIATION = 48.4348
END_OBJECT = IMAGE
/* MAP OBJECT DEFINITIONS */
OBJECT = IMAGE_MAP_PROJECTION
  ^DATA_SET_MAP_PROJECTION_CATALOG= "DSMAP.CAT"
  A_AXIS_RADIUS = 3396.0
  B_AXIS_RADIUS = 3396.0
  C_AXIS_RADIUS = 3396.0
  CENTER_LATITUDE = 28.665
  CENTER_LONGITUDE = 109.377
  COORDINATE_SYSTEM_NAME = PLANETOGRAPHIC
  COORDINATE_SYSTEM_TYPE = "BODY-FIXED ROTATING"
  EASTERNMOST_LONGITUDE = 127.541
  FIRST_STANDARD_PARALLEL = "N/A"
  LINE_FIRST_PIXEL = 1
  LINE_LAST_PIXEL = 3729
  LINE_PROJECTION_OFFSET = 1836.0
  MAP_PROJECTION_ROTATION = 0.0
  MAP_PROJECTION_TYPE = ORTHOGRAPHIC
  MAP_RESOLUTION = 148.178450966667
  MAP_SCALE = 0.4
  MAXIMUM_LATITUDE = 40.5152
  MINIMUM_LATITUDE = 15.2212
  POSITIVE_LONGITUDE_DIRECTION = EAST
  REFERENCE_LATITUDE = "N/A"
  REFERENCE_LONGITUDE = "N/A"
  SAMPLE_FIRST_PIXEL = 1
  SAMPLE_LAST_PIXEL = 4281
  SAMPLE_PROJECTION_OFFSET = 2147.0
  SECOND_STANDARD_PARALLEL = "N/A"
  WESTERNMOST_LONGITUDE = 93.8429
END_OBJECT = IMAGE_MAP_PROJECTION
END
