PDS_VERSION_ID = PDS3
/* FILE DATA ELEMENTS */
RECORD_TYPE = UNDEFINED
/* POINTERS TO DATA OBJECTS */
^IMAGE = ("HM830_0000_RE4.TIF")
/* IDENTIFICATION DATA ELEMENTS */
DATA_SET_ID = "MEX-M-HRSC-4-REFDR-MAPPROJECT-EXT8-V4.0"
DATA_SET_NAME = "MARS EXPRESS HRSC MAP PROJECTED REFDR EXTENSION8 V4.0"
DETECTOR_ID = MEX_HRSC_RED
EVENT_TYPE = "MARS-TERMINATOR-CALIBRATION-Tc"
INSTRUMENT_HOST_ID = MEX
INSTRUMENT_HOST_NAME = "MARS EXPRESS"
INSTRUMENT_ID = HRSC
INSTRUMENT_NAME = "HIGH RESOLUTION STEREO CAMERA"
MISSION_NAME = "MARS EXPRESS"
MISSION_PHASE_NAME = ME_Phase_46
PROCESSING_LEVEL_ID = 4
PRODUCT_CREATION_TIME = 2023-01-28T19:10:30.000Z
PRODUCT_ID = "HM830_0000_RE4.TIF"
RELEASE_ID = 0003
REVISION_ID = 0000
/* QUALITY DATA ELEMENTS */
DATA_QUALITY_ID = 1
DATA_QUALITY_DESC = "Data calculated based on original SPICE kernels"
/* TIME DATA ELEMENTS */
SPACECRAFT_CLOCK_START_COUNT = "1/0591283007.25660"
SPACECRAFT_CLOCK_STOP_COUNT = "1/0591283313.17216"
START_TIME = 2022-01-26T13:21:13.526Z
STOP_TIME = 2022-01-26T13:22:25.445Z
/* ORBITAL DATA ELEMENTS */
ASCENDING_NODE_LONGITUDE = 148.33
MAXIMUM_RESOLUTION = 0.5849
FOOTPRINT_POINT_LATITUDE = (18.8594,18.8524,18.8333,18.8025, 18.7604,18.7071,18.6426,18.5673,18.4811 ,18.3842,18.2766,18.1584,18.0295, 17.8901,17.7399,17.579,17.4073,17.2248, 17.0314,16.8267,16.6106,16.3827,16.143, 15.891,15.6262,15.2043,15.1309,15.077, 16.6439,17.526,18.3997,19.2654,20.1243, 20.9767,21.8232,22.6646,23.5017,25.1646 ,26.8165,28.4617,30.104,30.9254,31.7475 ,32.571,33.3962,34.2237,35.0539,35.8877 ,36.0966,36.1196,36.4191,36.7106, 36.9911,37.2611,37.5207,37.7707,38.0109 ,38.2411,38.4614,38.6729,38.875,39.068, 39.252,39.4266,39.5919,39.7482,39.8951, 40.0329,40.1613,40.2802,40.3894,40.4886 ,40.5783,40.658,40.7589,40.773,40.7755, 39.6493,38.7562,37.8695,36.9882,36.112, 35.2399,34.3714,33.5057,31.7808,30.0601 ,28.3388,27.4764,26.612,25.7447,24.8742 ,23.9999,23.1206,22.2356,21.3444, 20.4461,19.0834,18.8544,18.8594)
FOOTPRINT_POINT_LONGITUDE = (94.5349,95.6054,96.6661,97.7177, 98.7611,99.7965,100.824,101.846,102.864 ,103.877,104.885,105.89,106.892,107.891 ,108.886,109.88,110.874,111.867,112.859 ,113.852,114.847,115.845,116.845, 117.849,118.858,120.381,120.636,120.739 ,121.058,121.249,121.446,121.649, 121.859,122.075,122.3,122.531,122.77, 123.274,123.813,124.392,125.015,125.345 ,125.689,126.047,126.419,126.808, 127.214,127.639,127.748,127.76,126.55, 125.333,124.119,122.909,121.701,120.493 ,119.287,118.079,116.87,115.659,114.444 ,113.226,112.004,110.776,109.542, 108.302,107.056,105.802,104.541,103.273 ,101.995,100.707,99.4067,98.0952, 96.1034,95.7692,95.6484,95.6694,95.6788 ,95.6815,95.6786,95.6696,95.6552, 95.6358,95.6113,95.5479,95.4654,95.3648 ,95.3077,95.2463,95.1799,95.1092, 95.0343,94.9543,94.8692,94.7792,94.6842 ,94.5318,94.5052,94.5349)
ORBIT_NUMBER = 22830
ORBITAL_ECCENTRICITY = 0.575
ORBITAL_INCLINATION = 87.02
ORBITAL_SEMIMAJOR_AXIS = 8843.03
PERIAPSIS_ALTITUDE = 362.19
PERIAPSIS_ARGUMENT_ANGLE = 8.34
PERIAPSIS_TIME = 2022-01-26T11:47:26.000Z
SPACECRAFT_ORIENTATION = (0.0,1.0,0.0)
^MEX_ORIENTATION_DESC = "MEX_ORIENTATION_DESC.TXT"
SPACECRAFT_POINTING_MODE = FIXED
^MEX_POINTING_DESC = "MEX_POINTING_DESC.TXT"
RIGHT_ASCENSION = -1e+32
DECLINATION = -1e+32
OFFSET_ANGLE = -1e+32
SPACECRAFT_SOLAR_DISTANCE = 2.24915e+08
TARGET_NAME = MARS
/* CAMERA DATA ELEMENTS */
DETECTOR_TEMPERATURE = 18.3705
FOCAL_PLANE_TEMPERATURE = 7.9716
INST_CMPRS_NAME = "DISCRETE COSINE TRANSFORMATION (DCT)"
INST_CMPRS_RATIO = 9.53473
INST_CMPRS_QUALITY = 0
INST_CMPRS_QUANTZ_TBL_ID = 0
INSTRUMENT_TEMPERATURE = 11.234
LENS_TEMPERATURE = 8.1755
MACROPIXEL_SIZE = 2
MISSING_FRAMES = 0
PIXEL_SUBSAMPLING_FLAG = N
SIGNAL_CHAIN_ID = 1
/* RADIOMETRIC DATA ELEMENTS */
BANDWIDTH = 48.0
CENTER_FILTER_WAVELENGTH = 748.0
RADIANCE_OFFSET = 0.648147
RADIANCE_SCALING_FACTOR = 0.00847251
REFLECTANCE_SCALING_FACTOR = 0.000977971
MEX:REFLECTANCE_OFFSET = 0.0748148
/* IMAGE OBJECT DEFINITIONS */
OBJECT = IMAGE
  INTERCHANGE_FORMAT = BINARY
  LINES = 3729
  LINE_SAMPLES = 4281
  SAMPLE_TYPE = UNSIGNED_INTEGER
  SAMPLE_BITS = 8
  BANDS = 1
  BAND_STORAGE_TYPE = BAND_SEQUENTIAL
  MAXIMUM = 255
  MEAN = 104.443
  MINIMUM = 1
  STANDARD_DEVIATION = 49.2352
END_OBJECT = IMAGE
/* MAP OBJECT DEFINITIONS */
OBJECT = IMAGE_MAP_PROJECTION
  ^DATA_SET_MAP_PROJECTION_CATALOG= "DSMAP.CAT"
  A_AXIS_RADIUS = 3396.0
  B_AXIS_RADIUS = 3396.0
  C_AXIS_RADIUS = 3396.0
  CENTER_LATITUDE = 28.665
  CENTER_LONGITUDE = 109.377
  COORDINATE_SYSTEM_NAME = PLANETOGRAPHIC
  COORDINATE_SYSTEM_TYPE = "BODY-FIXED ROTATING"
  EASTERNMOST_LONGITUDE = 127.76
  FIRST_STANDARD_PARALLEL = "N/A"
  LINE_FIRST_PIXEL = 1
  LINE_LAST_PIXEL = 3729
  LINE_PROJECTION_OFFSET = 1836.0
  MAP_PROJECTION_ROTATION = 0.0
  MAP_PROJECTION_TYPE = ORTHOGRAPHIC
  MAP_RESOLUTION = 148.178450966667
  MAP_SCALE = 0.4
  MAXIMUM_LATITUDE = 40.7755
  MINIMUM_LATITUDE = 15.077
  POSITIVE_LONGITUDE_DIRECTION = EAST
  REFERENCE_LATITUDE = "N/A"
  REFERENCE_LONGITUDE = "N/A"
  SAMPLE_FIRST_PIXEL = 1
  SAMPLE_LAST_PIXEL = 4281
  SAMPLE_PROJECTION_OFFSET = 2147.0
  SECOND_STANDARD_PARALLEL = "N/A"
  WESTERNMOST_LONGITUDE = 94.5052
END_OBJECT = IMAGE_MAP_PROJECTION
END
