PDS_VERSION_ID = PDS3
/* FILE DATA ELEMENTS */
RECORD_TYPE = UNDEFINED
/* POINTERS TO DATA OBJECTS */
^IMAGE = ("HM842_0000_IR4.TIF")
/* IDENTIFICATION DATA ELEMENTS */
DATA_SET_ID = "MEX-M-HRSC-4-REFDR-MAPPROJECT-EXT8-V4.0"
DATA_SET_NAME = "MARS EXPRESS HRSC MAP PROJECTED REFDR EXTENSION8 V4.0"
DETECTOR_ID = MEX_HRSC_IR
EVENT_TYPE = "MARS-TERMINATOR-CALIBRATION-Tc"
INSTRUMENT_HOST_ID = MEX
INSTRUMENT_HOST_NAME = "MARS EXPRESS"
INSTRUMENT_ID = HRSC
INSTRUMENT_NAME = "HIGH RESOLUTION STEREO CAMERA"
MISSION_NAME = "MARS EXPRESS"
MISSION_PHASE_NAME = ME_Phase_46
PROCESSING_LEVEL_ID = 4
PRODUCT_CREATION_TIME = 2023-01-28T19:10:30.000Z
PRODUCT_ID = "HM842_0000_IR4.TIF"
RELEASE_ID = 0003
REVISION_ID = 0000
/* QUALITY DATA ELEMENTS */
DATA_QUALITY_ID = 1
DATA_QUALITY_DESC = "Data calculated based on original SPICE kernels"
/* TIME DATA ELEMENTS */
SPACECRAFT_CLOCK_START_COUNT = "1/0591581940.25061"
SPACECRAFT_CLOCK_STOP_COUNT = "1/0591582597.24889"
START_TIME = 2022-01-30T00:19:34.528Z
STOP_TIME = 2022-01-30T00:26:43.520Z
/* ORBITAL DATA ELEMENTS */
ASCENDING_NODE_LONGITUDE = 148.1
MAXIMUM_RESOLUTION = 0.3155
FOOTPRINT_POINT_LATITUDE = (7.76686,7.7368,7.91835,7.61243,7.9544, 7.15892,8.45404,11.3882,14.6285,16.5673 ,18.8436,21.546,23.5311,27.4875,29.971, 33.3869,35.6758,38.89,41.578,43.467, 46.288,50.1988,53.1579,55.1895,58.3164, 60.3957,62.7004,64.2232,65.4626,66.3403 ,67.2598,67.7857,68.1468,68.0836, 67.8114,67.0321,66.1015,64.9474,63.9178 ,62.5424,60.6563,59.2943,57.4293, 55.7727,53.5826,49.9823,46.7406,48.6749 ,48.4226,50.2205,51.0486,51.4063, 52.7695,53.4944,53.6276,54.1898,57.9326 ,60.945,63.534,67.118,70.9851,72.8802, 75.5037,77.3048,79.2807,81.5317,83.475, 84.0949,83.9864,82.4243,80.9342,78.2619 ,75.1564,73.0289,70.5667,68.6649, 65.8699,61.6946,58.7303,56.7441,54.0798 ,50.8518,47.6298,45.568,42.2597,39.6915 ,35.7574,31.8165,29.2103,26.5154, 24.5395,22.1689,19.2265,16.348,11.7389, 9.45713,9.32656,8.28403,8.09921, 7.76686)
FOOTPRINT_POINT_LONGITUDE = (314.593,314.597,315.59,318.148,320.857 ,323.041,326.701,326.843,327.059, 327.225,327.45,327.769,328.041,328.698, 329.203,330.037,330.702,331.813,332.935 ,333.85,335.446,338.268,341.016,343.318 ,347.77,351.586,357.044,361.76,366.682, 371.16,377.6,383.275,392.605,398.154, 403.712,411.649,417.608,423.014,426.837 ,431.023,435.64,438.409,441.647,444.113 ,446.917,450.688,454.708,455.874, 460.705,462.089,465.041,469.858,475.134 ,480.023,483.7,486.174,486.534,485.106, 483.669,481.228,477.683,475.399,471.269 ,467.412,461.533,450.638,430.481, 413.014,388.479,362.729,352.147,341.409 ,334.219,330.817,327.756,325.827, 323.465,320.652,319.014,318.039,316.859 ,315.589,314.464,313.806,312.836, 312.146,311.172,310.278,309.722,309.169 ,308.777,308.316,307.755,307.217, 306.356,305.931,308.94,311.808,312.675, 314.593)
ORBIT_NUMBER = 22842
ORBITAL_ECCENTRICITY = 0.575
ORBITAL_INCLINATION = 87.02
ORBITAL_SEMIMAJOR_AXIS = 8842.52
PERIAPSIS_ALTITUDE = 361.41
PERIAPSIS_ARGUMENT_ANGLE = 6.26
PERIAPSIS_TIME = 2022-01-29T23:35:02.000Z
SPACECRAFT_ORIENTATION = (0.0,1.0,0.0)
^MEX_ORIENTATION_DESC = "MEX_ORIENTATION_DESC.TXT"
SPACECRAFT_POINTING_MODE = FIXED
^MEX_POINTING_DESC = "MEX_POINTING_DESC.TXT"
RIGHT_ASCENSION = -1e+32
DECLINATION = -1e+32
OFFSET_ANGLE = -1e+32
SPACECRAFT_SOLAR_DISTANCE = 2.24234e+08
TARGET_NAME = MARS
/* CAMERA DATA ELEMENTS */
DETECTOR_TEMPERATURE = 17.1471
FOCAL_PLANE_TEMPERATURE = 7.7677
INST_CMPRS_NAME = "DISCRETE COSINE TRANSFORMATION (DCT)"
INST_CMPRS_RATIO = 5.29847
INST_CMPRS_QUALITY = 0
INST_CMPRS_QUANTZ_TBL_ID = 0
INSTRUMENT_TEMPERATURE = 10.6223
LENS_TEMPERATURE = 8.1755
MACROPIXEL_SIZE = 2
PIXEL_SUBSAMPLING_FLAG = N
SIGNAL_CHAIN_ID = 1
/* RADIOMETRIC DATA ELEMENTS */
BANDWIDTH = 81.0
CENTER_FILTER_WAVELENGTH = 955.5
RADIANCE_OFFSET = 0.0
RADIANCE_SCALING_FACTOR = 0.00648595
REFLECTANCE_SCALING_FACTOR = 0.000703525
MEX:REFLECTANCE_OFFSET = 0.0
/* IMAGE OBJECT DEFINITIONS */
OBJECT = IMAGE
  INTERCHANGE_FORMAT = BINARY
  LINES = 13958
  LINE_SAMPLES = 9872
  SAMPLE_TYPE = UNSIGNED_INTEGER
  SAMPLE_BITS = 8
  BANDS = 1
  BAND_STORAGE_TYPE = BAND_SEQUENTIAL
  MAXIMUM = 255
  MEAN = 153.189
  MINIMUM = 21
  STANDARD_DEVIATION = 61.4108
END_OBJECT = IMAGE
/* MAP OBJECT DEFINITIONS */
OBJECT = IMAGE_MAP_PROJECTION
  ^DATA_SET_MAP_PROJECTION_CATALOG= "DSMAP.CAT"
  A_AXIS_RADIUS = 3396.0
  B_AXIS_RADIUS = 3396.0
  C_AXIS_RADIUS = 3396.0
  CENTER_LATITUDE = 59.2109
  CENTER_LONGITUDE = 337.604
  COORDINATE_SYSTEM_NAME = PLANETOGRAPHIC
  COORDINATE_SYSTEM_TYPE = "BODY-FIXED ROTATING"
  EASTERNMOST_LONGITUDE = 126.534
  FIRST_STANDARD_PARALLEL = "N/A"
  LINE_FIRST_PIXEL = 1
  LINE_LAST_PIXEL = 13958
  LINE_PROJECTION_OFFSET = 7067.0
  MAP_PROJECTION_ROTATION = 0.0
  MAP_PROJECTION_TYPE = ORTHOGRAPHIC
  MAP_RESOLUTION = 148.178450966667
  MAP_SCALE = 0.4
  MAXIMUM_LATITUDE = 84.0949
  MINIMUM_LATITUDE = 7.15892
  POSITIVE_LONGITUDE_DIRECTION = EAST
  REFERENCE_LATITUDE = "N/A"
  REFERENCE_LONGITUDE = "N/A"
  SAMPLE_FIRST_PIXEL = 1
  SAMPLE_LAST_PIXEL = 9872
  SAMPLE_PROJECTION_OFFSET = 4349.0
  SECOND_STANDARD_PARALLEL = "N/A"
  WESTERNMOST_LONGITUDE = -54.069
END_OBJECT = IMAGE_MAP_PROJECTION
END
