PDS_VERSION_ID = PDS3
/* FILE DATA ELEMENTS */
RECORD_TYPE = UNDEFINED
/* POINTERS TO DATA OBJECTS */
^IMAGE = ("HM842_0001_BL4.TIF")
/* IDENTIFICATION DATA ELEMENTS */
DATA_SET_ID = "MEX-M-HRSC-4-REFDR-MAPPROJECT-EXT8-V4.0"
DATA_SET_NAME = "MARS EXPRESS HRSC MAP PROJECTED REFDR EXTENSION8 V4.0"
DETECTOR_ID = MEX_HRSC_BLUE
EVENT_TYPE = "MARS-TERMINATOR-CALIBRATION-Tc"
INSTRUMENT_HOST_ID = MEX
INSTRUMENT_HOST_NAME = "MARS EXPRESS"
INSTRUMENT_ID = HRSC
INSTRUMENT_NAME = "HIGH RESOLUTION STEREO CAMERA"
MISSION_NAME = "MARS EXPRESS"
MISSION_PHASE_NAME = ME_Phase_46
PROCESSING_LEVEL_ID = 4
PRODUCT_CREATION_TIME = 2023-01-28T19:10:30.000Z
PRODUCT_ID = "HM842_0001_BL4.TIF"
RELEASE_ID = 0003
REVISION_ID = 0000
/* QUALITY DATA ELEMENTS */
DATA_QUALITY_ID = 1
DATA_QUALITY_DESC = "Data calculated based on original SPICE kernels"
/* TIME DATA ELEMENTS */
SPACECRAFT_CLOCK_START_COUNT = "1/0591583799.25686"
SPACECRAFT_CLOCK_STOP_COUNT = "1/0591584268.22425"
START_TIME = 2022-01-30T00:51:53.551Z
STOP_TIME = 2022-01-30T00:56:19.582Z
/* ORBITAL DATA ELEMENTS */
ASCENDING_NODE_LONGITUDE = 148.1
MAXIMUM_RESOLUTION = 0.5068
FOOTPRINT_POINT_LATITUDE = (67.1444,67.1199,67.0625,65.8851, 64.7166,62.1256,60.497,63.0831,64.7843, 66.7193,67.8674,68.7707,69.3647,69.4116 ,68.7473,67.8332,65.8841,63.5055, 61.3872,58.4447,56.1628,52.2036,49.5198 ,45.7833,42.5873,39.1038,36.3002, 32.1981,28.4103,24.0137,21.6118,18.9848 ,16.3805,12.0884,7.72772,5.09521, 1.68288,-2.40027,-6.66819,-10.3121, -15.0854,-18.3378,-21.8409,-25.1079, -28.2008,-28.2998,-29.5749,-30.0573, -29.4829,-29.3841,-29.3459,-29.2503, -27.4199,-26.0273,-25.7862,-23.5139, -19.9303,-15.7894,-13.3277,-9.76365, -5.3219,-1.29755,1.75567,4.06958, 9.36019,12.7528,17.1735,21.7545,25.4631 ,28.3372,32.7554,37.1424,39.8707, 43.3324,46.2121,48.8536,52.5558,55.1148 ,59.8036,62.9741,65.6675,68.6851, 71.1118,74.262,77.4122,79.6483,82.162, 83.1752,82.8804,80.8666,78.9937,76.2752 ,72.2124,68.9127,69.308,69.9623,69.1863 ,68.4662,67.1444)
FOOTPRINT_POINT_LONGITUDE = (121.985,121.975,121.543,112.615, 104.629,96.5685,91.325,85.8149,81.0624, 73.7463,67.5532,60.3017,50.6737,43.5893 ,31.6777,24.4498,15.0019,7.53318, 2.67681,357.541,354.406,350.133,347.833 ,345.207,343.364,341.681,340.526, 339.095,337.998,336.944,336.452,335.975 ,335.559,334.987,334.532,334.314, 334.099,333.917,333.83,333.826,333.944, 334.095,334.329,334.622,334.977,331.2, 327.448,323.46,318.439,316.869,315.125, 314.52,308.759,305.05,301.731,299.586, 301.06,302.576,303.398,304.501,305.735, 306.739,307.437,307.928,308.958,309.544 ,310.223,310.833,311.254,311.533,311.87 ,312.085,312.151,312.143,312.051, 311.886,311.496,311.093,309.984,308.859 ,307.564,305.583,303.402,299.312, 292.622,284.569,265.921,241.382,219.615 ,195.342,185.658,177.537,170.779, 167.507,153.765,141.835,134.432,127.331 ,121.985)
ORBIT_NUMBER = 22842
ORBITAL_ECCENTRICITY = 0.575
ORBITAL_INCLINATION = 87.02
ORBITAL_SEMIMAJOR_AXIS = 8842.52
PERIAPSIS_ALTITUDE = 361.41
PERIAPSIS_ARGUMENT_ANGLE = 6.26
PERIAPSIS_TIME = 2022-01-29T23:35:02.000Z
SPACECRAFT_ORIENTATION = (0.0,1.0,0.0)
^MEX_ORIENTATION_DESC = "MEX_ORIENTATION_DESC.TXT"
SPACECRAFT_POINTING_MODE = FIXED
^MEX_POINTING_DESC = "MEX_POINTING_DESC.TXT"
RIGHT_ASCENSION = -1e+32
DECLINATION = -1e+32
OFFSET_ANGLE = -1e+32
SPACECRAFT_SOLAR_DISTANCE = 2.24234e+08
TARGET_NAME = MARS
/* CAMERA DATA ELEMENTS */
DETECTOR_TEMPERATURE = 23.0602
FOCAL_PLANE_TEMPERATURE = 8.7872
INST_CMPRS_NAME = "DISCRETE COSINE TRANSFORMATION (DCT)"
INST_CMPRS_RATIO = 4.45208
INST_CMPRS_QUALITY = 0
INST_CMPRS_QUANTZ_TBL_ID = 0
INSTRUMENT_TEMPERATURE = 16.9432
LENS_TEMPERATURE = 9.3989
MACROPIXEL_SIZE = 2
MISSING_FRAMES = 0
PIXEL_SUBSAMPLING_FLAG = N
SIGNAL_CHAIN_ID = 2
/* RADIOMETRIC DATA ELEMENTS */
BANDWIDTH = 76.0
CENTER_FILTER_WAVELENGTH = 444.0
RADIANCE_OFFSET = 0.0
RADIANCE_SCALING_FACTOR = 0.00846243
REFLECTANCE_SCALING_FACTOR = 0.000437132
MEX:REFLECTANCE_OFFSET = 0.0
/* IMAGE OBJECT DEFINITIONS */
OBJECT = IMAGE
  INTERCHANGE_FORMAT = BINARY
  LINES = 15843
  LINE_SAMPLES = 7167
  SAMPLE_TYPE = UNSIGNED_INTEGER
  SAMPLE_BITS = 8
  BANDS = 1
  BAND_STORAGE_TYPE = BAND_SEQUENTIAL
  MAXIMUM = 255
  MEAN = 109.821
  MINIMUM = 1
  STANDARD_DEVIATION = 42.1929
END_OBJECT = IMAGE
/* MAP OBJECT DEFINITIONS */
OBJECT = IMAGE_MAP_PROJECTION
  ^DATA_SET_MAP_PROJECTION_CATALOG= "DSMAP.CAT"
  A_AXIS_RADIUS = 3396.0
  B_AXIS_RADIUS = 3396.0
  C_AXIS_RADIUS = 3396.0
  CENTER_LATITUDE = 41.0354
  CENTER_LONGITUDE = 327.281
  COORDINATE_SYSTEM_NAME = PLANETOGRAPHIC
  COORDINATE_SYSTEM_TYPE = "BODY-FIXED ROTATING"
  EASTERNMOST_LONGITUDE = 360.0
  FIRST_STANDARD_PARALLEL = "N/A"
  LINE_FIRST_PIXEL = 1
  LINE_LAST_PIXEL = 15843
  LINE_PROJECTION_OFFSET = 7875.0
  MAP_PROJECTION_ROTATION = 0.0
  MAP_PROJECTION_TYPE = ORTHOGRAPHIC
  MAP_RESOLUTION = 148.178450966667
  MAP_SCALE = 0.4
  MAXIMUM_LATITUDE = 90.0
  MINIMUM_LATITUDE = -30.0573
  POSITIVE_LONGITUDE_DIRECTION = EAST
  REFERENCE_LATITUDE = "N/A"
  REFERENCE_LONGITUDE = "N/A"
  SAMPLE_FIRST_PIXEL = 1
  SAMPLE_LAST_PIXEL = 7167
  SAMPLE_PROJECTION_OFFSET = 3656.0
  SECOND_STANDARD_PARALLEL = "N/A"
  WESTERNMOST_LONGITUDE = 0.0
END_OBJECT = IMAGE_MAP_PROJECTION
END
