PDS_VERSION_ID = PDS3
/* FILE DATA ELEMENTS */
RECORD_TYPE = UNDEFINED
/* POINTERS TO DATA OBJECTS */
^IMAGE = ("HM842_0001_ND4.TIF")
/* IDENTIFICATION DATA ELEMENTS */
DATA_SET_ID = "MEX-M-HRSC-4-REFDR-MAPPROJECT-EXT8-V4.0"
DATA_SET_NAME = "MARS EXPRESS HRSC MAP PROJECTED REFDR EXTENSION8 V4.0"
DETECTOR_ID = MEX_HRSC_NADIR
EVENT_TYPE = "MARS-TERMINATOR-CALIBRATION-Tc"
INSTRUMENT_HOST_ID = MEX
INSTRUMENT_HOST_NAME = "MARS EXPRESS"
INSTRUMENT_ID = HRSC
INSTRUMENT_NAME = "HIGH RESOLUTION STEREO CAMERA"
MISSION_NAME = "MARS EXPRESS"
MISSION_PHASE_NAME = ME_Phase_46
PROCESSING_LEVEL_ID = 4
PRODUCT_CREATION_TIME = 2023-01-28T19:10:30.000Z
PRODUCT_ID = "HM842_0001_ND4.TIF"
RELEASE_ID = 0003
REVISION_ID = 0000
/* QUALITY DATA ELEMENTS */
DATA_QUALITY_ID = 1
DATA_QUALITY_DESC = "Data calculated based on original SPICE kernels"
/* TIME DATA ELEMENTS */
SPACECRAFT_CLOCK_START_COUNT = "1/0591583799.25686"
SPACECRAFT_CLOCK_STOP_COUNT = "1/0591584268.22425"
START_TIME = 2022-01-30T00:52:15.593Z
STOP_TIME = 2022-01-30T00:56:40.549Z
/* ORBITAL DATA ELEMENTS */
ASCENDING_NODE_LONGITUDE = 148.1
MAXIMUM_RESOLUTION = 0.5092
FOOTPRINT_POINT_LATITUDE = (67.2148,67.1481,67.1283,65.8407, 64.2635,63.0634,60.8724,63.0965,65.7942 ,67.2731,68.1268,68.9798,69.1481, 68.4783,67.0815,65.8814,63.5843,61.2445 ,58.7827,56.9428,54.9243,52.0745, 50.0996,46.9016,44.8034,42.0922,39.1868 ,34.6754,31.2023,28.823,24.6643,21.1058 ,18.3765,15.8274,11.441,8.49977,5.67314 ,1.97511,-1.95562,-5.18013,-8.16292, -10.992,-15.022,-18.729,-21.5121, -24.4746,-28.702,-29.818,-30.2628, -29.8794,-29.8819,-29.4527,-29.4669, -29.1002,-27.7116,-25.644,-24.6857, -21.9767,-17.569,-14.1993,-8.6886, -6.02472,-2.98846,0.408125,2.62955, 7.24401,10.5766,12.8095,17.8124,21.0274 ,25.7452,28.9277,31.3736,36.4754, 42.0029,46.136,49.389,53.2622,56.317, 58.5644,61.5378,66.5328,69.0478,72.2245 ,75.1784,77.1941,79.8773,82.7756, 83.2553,82.19,78.5265,75.9319,72.2082, 69.8856,69.951,69.8907,69.7541,68.4065, 67.2148)
FOOTPRINT_POINT_LONGITUDE = (120.807,120.839,120.528,110.902, 104.955,96.7535,89.7079,84.7261,76.1924 ,69.2033,63.4222,53.2866,44.6276,31.741 ,21.7064,16.1489,8.58498,3.06753, 358.623,355.914,353.382,350.406,348.657 ,346.251,344.903,343.377,341.967, 340.146,338.992,338.304,337.27,336.527, 336.04,335.639,335.068,334.758,334.51, 334.268,334.084,334.008,333.972,333.994 ,334.105,334.284,334.479,334.743,335.24 ,331.482,328.588,325.047,321.695, 318.721,317.446,313.052,308.268,303.8, 300.763,300.277,301.983,303.106,304.832 ,305.574,306.352,307.158,307.646, 308.585,309.195,309.575,310.336,310.765 ,311.306,311.609,311.803,312.091, 312.191,312.096,311.888,311.451,310.923 ,310.404,309.498,307.176,305.432, 302.332,297.956,293.517,283.926,257.469 ,233.231,206.432,183.402,176.38,170.45, 168.053,155.537,146.87,136.361,126.83, 120.807)
ORBIT_NUMBER = 22842
ORBITAL_ECCENTRICITY = 0.575
ORBITAL_INCLINATION = 87.02
ORBITAL_SEMIMAJOR_AXIS = 8842.52
PERIAPSIS_ALTITUDE = 361.41
PERIAPSIS_ARGUMENT_ANGLE = 6.26
PERIAPSIS_TIME = 2022-01-29T23:35:02.000Z
SPACECRAFT_ORIENTATION = (0.0,1.0,0.0)
^MEX_ORIENTATION_DESC = "MEX_ORIENTATION_DESC.TXT"
SPACECRAFT_POINTING_MODE = FIXED
^MEX_POINTING_DESC = "MEX_POINTING_DESC.TXT"
RIGHT_ASCENSION = -1e+32
DECLINATION = -1e+32
OFFSET_ANGLE = -1e+32
SPACECRAFT_SOLAR_DISTANCE = 2.24234e+08
TARGET_NAME = MARS
/* CAMERA DATA ELEMENTS */
DETECTOR_TEMPERATURE = 23.0602
FOCAL_PLANE_TEMPERATURE = 8.7872
INST_CMPRS_NAME = "DISCRETE COSINE TRANSFORMATION (DCT)"
INST_CMPRS_RATIO = 9.85974
INST_CMPRS_QUALITY = 0
INST_CMPRS_QUANTZ_TBL_ID = 0
INSTRUMENT_TEMPERATURE = 16.9432
LENS_TEMPERATURE = 9.3989
MACROPIXEL_SIZE = 2
MISSING_FRAMES = 0
PIXEL_SUBSAMPLING_FLAG = N
SIGNAL_CHAIN_ID = 0
/* RADIOMETRIC DATA ELEMENTS */
BANDWIDTH = 177.0
CENTER_FILTER_WAVELENGTH = 677.5
RADIANCE_OFFSET = 0.0
RADIANCE_SCALING_FACTOR = 0.033852
REFLECTANCE_SCALING_FACTOR = 0.000904127
MEX:REFLECTANCE_OFFSET = 0.0
/* IMAGE OBJECT DEFINITIONS */
OBJECT = IMAGE
  INTERCHANGE_FORMAT = BINARY
  LINES = 15843
  LINE_SAMPLES = 7167
  SAMPLE_TYPE = UNSIGNED_INTEGER
  SAMPLE_BITS = 8
  BANDS = 1
  BAND_STORAGE_TYPE = BAND_SEQUENTIAL
  MAXIMUM = 255
  MEAN = 123.379
  MINIMUM = 1
  STANDARD_DEVIATION = 50.1846
END_OBJECT = IMAGE
/* MAP OBJECT DEFINITIONS */
OBJECT = IMAGE_MAP_PROJECTION
  ^DATA_SET_MAP_PROJECTION_CATALOG= "DSMAP.CAT"
  A_AXIS_RADIUS = 3396.0
  B_AXIS_RADIUS = 3396.0
  C_AXIS_RADIUS = 3396.0
  CENTER_LATITUDE = 41.0354
  CENTER_LONGITUDE = 327.281
  COORDINATE_SYSTEM_NAME = PLANETOGRAPHIC
  COORDINATE_SYSTEM_TYPE = "BODY-FIXED ROTATING"
  EASTERNMOST_LONGITUDE = 360.0
  FIRST_STANDARD_PARALLEL = "N/A"
  LINE_FIRST_PIXEL = 1
  LINE_LAST_PIXEL = 15843
  LINE_PROJECTION_OFFSET = 7875.0
  MAP_PROJECTION_ROTATION = 0.0
  MAP_PROJECTION_TYPE = ORTHOGRAPHIC
  MAP_RESOLUTION = 148.178450966667
  MAP_SCALE = 0.4
  MAXIMUM_LATITUDE = 90.0
  MINIMUM_LATITUDE = -30.2628
  POSITIVE_LONGITUDE_DIRECTION = EAST
  REFERENCE_LATITUDE = "N/A"
  REFERENCE_LONGITUDE = "N/A"
  SAMPLE_FIRST_PIXEL = 1
  SAMPLE_LAST_PIXEL = 7167
  SAMPLE_PROJECTION_OFFSET = 3656.0
  SECOND_STANDARD_PARALLEL = "N/A"
  WESTERNMOST_LONGITUDE = 0.0
END_OBJECT = IMAGE_MAP_PROJECTION
END
