PDS_VERSION_ID = PDS3
/* FILE DATA ELEMENTS */
RECORD_TYPE = UNDEFINED
/* POINTERS TO DATA OBJECTS */
^IMAGE = ("HM855_0000_RE4.TIF")
/* IDENTIFICATION DATA ELEMENTS */
DATA_SET_ID = "MEX-M-HRSC-4-REFDR-MAPPROJECT-EXT8-V4.0"
DATA_SET_NAME = "MARS EXPRESS HRSC MAP PROJECTED REFDR EXTENSION8 V4.0"
DETECTOR_ID = MEX_HRSC_RED
EVENT_TYPE = "MARS-TERMINATOR-CALIBRATION-Tc"
INSTRUMENT_HOST_ID = MEX
INSTRUMENT_HOST_NAME = "MARS EXPRESS"
INSTRUMENT_ID = HRSC
INSTRUMENT_NAME = "HIGH RESOLUTION STEREO CAMERA"
MISSION_NAME = "MARS EXPRESS"
MISSION_PHASE_NAME = ME_Phase_46
PROCESSING_LEVEL_ID = 4
PRODUCT_CREATION_TIME = 2023-01-28T19:10:30.000Z
PRODUCT_ID = "HM855_0000_RE4.TIF"
RELEASE_ID = 0003
REVISION_ID = 0000
/* QUALITY DATA ELEMENTS */
DATA_QUALITY_ID = 1
DATA_QUALITY_DESC = "Data calculated based on original SPICE kernels"
/* TIME DATA ELEMENTS */
SPACECRAFT_CLOCK_START_COUNT = "1/0591912535.25698"
SPACECRAFT_CLOCK_STOP_COUNT = "1/0591912826.30749"
START_TIME = 2022-02-02T20:13:17.613Z
STOP_TIME = 2022-02-02T20:14:18.677Z
/* ORBITAL DATA ELEMENTS */
ASCENDING_NODE_LONGITUDE = 147.87
MAXIMUM_RESOLUTION = 0.6595
FOOTPRINT_POINT_LATITUDE = (14.9293,14.9603,14.9772,14.9806,14.971 ,14.9484,14.9131,14.8655,14.8057, 14.7337,14.6496,14.5536,14.4457,14.3259 ,14.1939,14.0499,13.8938,13.7255, 13.5449,13.3516,13.1453,12.9257,12.6927 ,12.4456,12.1839,11.7627,11.689,11.6392 ,12.9564,13.8236,14.6829,15.5349, 16.3805,17.2205,18.0546,18.8839,19.7093 ,20.5313,21.35,22.1656,22.9793,23.7901, 24.5997,25.4081,26.2164,27.0246,27.8332 ,28.6426,29.4533,30.2655,31.0801, 32.1018,32.3067,32.3489,32.5609,32.8365 ,33.0997,33.3509,33.5904,33.8189, 34.0364,34.2427,34.4387,34.6247,34.8426 ,35.0048,35.1577,35.3005,35.4335, 35.5833,35.7219,35.8173,35.9838,36.0655 ,36.1488,36.1851,36.2061,36.212,36.2099 ,34.6966,33.8428,32.9928,32.1464, 30.6737,29.415,28.5787,26.9086,25.8617, 24.1935,23.3554,22.3052,21.25,19.7619, 18.6881,17.8259,16.9591,16.079,15.1979, 14.9755,14.9293)
FOOTPRINT_POINT_LONGITUDE = (56.6738,57.8696,59.0528,60.2246, 61.3862,62.5381,63.6809,64.8167,65.9472 ,67.0727,68.1934,69.3102,70.4239, 71.5347,72.643,73.7502,74.8578,75.9659, 77.0745,78.1856,79.3009,80.4206,81.5453 ,82.6765,83.8156,85.541,85.8306,85.946, 86.1423,86.2802,86.4239,86.5736,86.729, 86.8903,87.0585,87.2332,87.4139,87.601, 87.7951,87.997,88.205,88.4245,88.6517, 88.8896,89.135,89.3908,89.6566,89.9333, 90.2219,90.5213,90.8352,91.2463,91.3314 ,91.3488,90.355,89.0196,87.6919,86.3715 ,85.0566,83.7455,82.4378,81.1327, 79.8292,78.5251,76.8931,75.5858,74.2759 ,72.9614,71.6422,69.9866,68.3198, 66.9805,64.2748,62.5635,60.1398,58.7302 ,57.3121,56.9501,56.8215,56.9454, 56.9968,57.0422,57.0813,57.1282,57.1658 ,57.179,57.1899,57.1608,57.163,57.1437, 57.1137,57.0741,57.0034,56.9397,56.888, 56.8326,56.7633,56.6967,56.6781, 56.6738)
ORBIT_NUMBER = 22855
ORBITAL_ECCENTRICITY = 0.576
ORBITAL_INCLINATION = 87.01
ORBITAL_SEMIMAJOR_AXIS = 8854.5
PERIAPSIS_ALTITUDE = 359.79
PERIAPSIS_ARGUMENT_ANGLE = 4.02
PERIAPSIS_TIME = 2022-02-02T18:21:46.000Z
SPACECRAFT_ORIENTATION = (0.0,1.0,0.0)
^MEX_ORIENTATION_DESC = "MEX_ORIENTATION_DESC.TXT"
SPACECRAFT_POINTING_MODE = FIXED
^MEX_POINTING_DESC = "MEX_POINTING_DESC.TXT"
RIGHT_ASCENSION = -1e+32
DECLINATION = -1e+32
OFFSET_ANGLE = -1e+32
SPACECRAFT_SOLAR_DISTANCE = 2.23498e+08
TARGET_NAME = MARS
/* CAMERA DATA ELEMENTS */
DETECTOR_TEMPERATURE = 16.7393
FOCAL_PLANE_TEMPERATURE = 7.7677
INST_CMPRS_NAME = "DISCRETE COSINE TRANSFORMATION (DCT)"
INST_CMPRS_RATIO = 8.09663
INST_CMPRS_QUALITY = 0
INST_CMPRS_QUANTZ_TBL_ID = 0
INSTRUMENT_TEMPERATURE = 11.0301
LENS_TEMPERATURE = 8.5833
MACROPIXEL_SIZE = 2
MISSING_FRAMES = 0
PIXEL_SUBSAMPLING_FLAG = N
SIGNAL_CHAIN_ID = 1
/* RADIOMETRIC DATA ELEMENTS */
BANDWIDTH = 48.0
CENTER_FILTER_WAVELENGTH = 748.0
RADIANCE_OFFSET = 0.450783
RADIANCE_SCALING_FACTOR = 0.00828891
REFLECTANCE_SCALING_FACTOR = 0.000944742
MEX:REFLECTANCE_OFFSET = 0.0513787
/* IMAGE OBJECT DEFINITIONS */
OBJECT = IMAGE
  INTERCHANGE_FORMAT = BINARY
  LINES = 1799
  LINE_SAMPLES = 2328
  SAMPLE_TYPE = UNSIGNED_INTEGER
  SAMPLE_BITS = 8
  BANDS = 1
  BAND_STORAGE_TYPE = BAND_SEQUENTIAL
  MAXIMUM = 255
  MEAN = 88.6053
  MINIMUM = 1
  STANDARD_DEVIATION = 60.7036
END_OBJECT = IMAGE
/* MAP OBJECT DEFINITIONS */
OBJECT = IMAGE_MAP_PROJECTION
  ^DATA_SET_MAP_PROJECTION_CATALOG= "DSMAP.CAT"
  A_AXIS_RADIUS = 3396.0
  B_AXIS_RADIUS = 3396.0
  C_AXIS_RADIUS = 3396.0
  CENTER_LATITUDE = 24.9311
  CENTER_LONGITUDE = 72.6553
  COORDINATE_SYSTEM_NAME = PLANETOGRAPHIC
  COORDINATE_SYSTEM_TYPE = "BODY-FIXED ROTATING"
  EASTERNMOST_LONGITUDE = 91.3488
  FIRST_STANDARD_PARALLEL = "N/A"
  LINE_FIRST_PIXEL = 1
  LINE_LAST_PIXEL = 1799
  LINE_PROJECTION_OFFSET = 881.0
  MAP_PROJECTION_ROTATION = 0.0
  MAP_PROJECTION_TYPE = ORTHOGRAPHIC
  MAP_RESOLUTION = 74.08922548333329
  MAP_SCALE = 0.8
  MAXIMUM_LATITUDE = 36.212
  MINIMUM_LATITUDE = 11.6392
  POSITIVE_LONGITUDE_DIRECTION = EAST
  REFERENCE_LATITUDE = "N/A"
  REFERENCE_LONGITUDE = "N/A"
  SAMPLE_FIRST_PIXEL = 1
  SAMPLE_LAST_PIXEL = 2328
  SAMPLE_PROJECTION_OFFSET = 1168.0
  SECOND_STANDARD_PARALLEL = "N/A"
  WESTERNMOST_LONGITUDE = 56.6738
END_OBJECT = IMAGE_MAP_PROJECTION
END
