PDS_VERSION_ID = PDS3
/* FILE DATA ELEMENTS */
RECORD_TYPE = UNDEFINED
/* POINTERS TO DATA OBJECTS */
^IMAGE = ("HM965_0000_BL4.TIF")
/* IDENTIFICATION DATA ELEMENTS */
DATA_SET_ID = "MEX-M-HRSC-4-REFDR-MAPPROJECT-EXT8-V4.0"
DATA_SET_NAME = "MARS EXPRESS HRSC MAP PROJECTED REFDR EXTENSION8 V4.0"
DETECTOR_ID = MEX_HRSC_BLUE
EVENT_TYPE = "MARS-TERMINATOR-CALIBRATION-Tc"
INSTRUMENT_HOST_ID = MEX
INSTRUMENT_HOST_NAME = "MARS EXPRESS"
INSTRUMENT_ID = HRSC
INSTRUMENT_NAME = "HIGH RESOLUTION STEREO CAMERA"
MISSION_NAME = "MARS EXPRESS"
MISSION_PHASE_NAME = ME_Phase_46
PROCESSING_LEVEL_ID = 4
PRODUCT_CREATION_TIME = 2023-01-28T19:10:30.000Z
PRODUCT_ID = "HM965_0000_BL4.TIF"
RELEASE_ID = 0003
REVISION_ID = 0000
/* QUALITY DATA ELEMENTS */
DATA_QUALITY_ID = 1
DATA_QUALITY_DESC = "Data calculated based on original SPICE kernels"
/* TIME DATA ELEMENTS */
SPACECRAFT_CLOCK_START_COUNT = "1/0594662869.24919"
SPACECRAFT_CLOCK_STOP_COUNT = "1/0594663317.25155"
START_TIME = 2022-03-06T16:10:37.673Z
STOP_TIME = 2022-03-06T16:14:21.676Z
/* ORBITAL DATA ELEMENTS */
ASCENDING_NODE_LONGITUDE = 145.86
MAXIMUM_RESOLUTION = 0.7432
FOOTPRINT_POINT_LATITUDE = (-72.6127,-73.8742,-76.4495,-77.2558, -79.5084,-74.3351,-72.1433,-68.979, -65.103,-62.7281,-61.1512,-58.2219, -56.7997,-53.1512,-48.9542,-47.8296, -45.6992,-42.8839,-41.1928,-39.4513, -37.7715,-36.2323,-34.7931,-32.1002, -29.6028,-27.246,-24.991,-22.818, -18.6748,-14.7,-10.8316,-7.01231, -3.19235,0.68753,4.67943,8.85502, 13.3295,15.7308,18.2957,21.0687,24.1673 ,25.9079,27.8554,30.1931,34.579,36.6008 ,41.5502,41.2995,43.684,46.5104,48.954, 50.1575,52.4416,53.9685,57.854,58.8625, 60.5623,63.4911,64.0852,61.9339,60.0622 ,59.9874,59.9321,53.8581,49.9376,46.828 ,41.8254,37.7481,34.2506,31.117,28.238, 25.6067,23.1283,18.5665,14.365,10.4312, 6.68874,3.08154,-0.434533,-3.89931, -7.34121,-10.7951,-14.2925,-17.8679, -21.5705,-25.4365,-29.5576,-34.0274, -36.3923,-38.9144,-41.6047,-44.5023, -47.6925,-51.2442,-55.3194,-60.2066, -63.4126,-67.4136,-73.451,-72.6127)
FOOTPRINT_POINT_LONGITUDE = (56.7834,67.6828,80.9199,84.1136, 80.3528,101.677,117.791,122.427,118.689 ,121.594,128.552,124.286,129.893, 133.228,128.315,134.392,129.179,133.074 ,130.786,126.73,122.468,119.461,117.148 ,113.632,111.068,109.092,107.499, 106.192,104.278,102.953,102.094,101.604 ,101.449,101.665,102.226,103.213, 104.806,105.922,107.365,109.237,111.835 ,113.594,115.893,119.289,123.829, 119.609,123.79,117.47,118.605,114.454, 114.56,111.039,109.645,105.772,105.971, 98.8163,90.9873,80.2575,78.7439,73.8701 ,65.9084,65.1116,64.8236,64.404,64.2087 ,64.0832,63.922,63.8187,63.7457,63.6892 ,63.6428,63.6052,63.5721,63.516,63.4663 ,63.4193,63.3721,63.3226,63.2692,63.21, 63.1438,63.0688,62.9827,62.8829,62.7658 ,62.6265,62.4569,62.2448,62.1184,61.972 ,61.8009,61.5967,61.3443,61.0215, 60.5818,59.9181,59.3704,58.4924,56.4342 ,56.7834)
ORBIT_NUMBER = 22965
ORBITAL_ECCENTRICITY = 0.576
ORBITAL_INCLINATION = 87.01
ORBITAL_SEMIMAJOR_AXIS = 8840.92
PERIAPSIS_ALTITUDE = 351.33
PERIAPSIS_ARGUMENT_ANGLE = 345.08
PERIAPSIS_TIME = 2022-03-06T18:30:25.000Z
SPACECRAFT_ORIENTATION = (0.0,1.0,0.0)
^MEX_ORIENTATION_DESC = "MEX_ORIENTATION_DESC.TXT"
SPACECRAFT_POINTING_MODE = FIXED
^MEX_POINTING_DESC = "MEX_POINTING_DESC.TXT"
RIGHT_ASCENSION = -1e+32
DECLINATION = -1e+32
OFFSET_ANGLE = -1e+32
SPACECRAFT_SOLAR_DISTANCE = 2.17492e+08
TARGET_NAME = MARS
/* CAMERA DATA ELEMENTS */
DETECTOR_TEMPERATURE = 18.3705
FOCAL_PLANE_TEMPERATURE = 7.9716
INST_CMPRS_NAME = "DISCRETE COSINE TRANSFORMATION (DCT)"
INST_CMPRS_RATIO = 4.48671
INST_CMPRS_QUALITY = 0
INST_CMPRS_QUANTZ_TBL_ID = 0
INSTRUMENT_TEMPERATURE = 11.0301
LENS_TEMPERATURE = 8.5833
MACROPIXEL_SIZE = 2
MISSING_FRAMES = 0
PIXEL_SUBSAMPLING_FLAG = N
SIGNAL_CHAIN_ID = 2
/* RADIOMETRIC DATA ELEMENTS */
BANDWIDTH = 76.0
CENTER_FILTER_WAVELENGTH = 444.0
RADIANCE_OFFSET = 0.0
RADIANCE_SCALING_FACTOR = 0.0104033
REFLECTANCE_SCALING_FACTOR = 0.00050569
MEX:REFLECTANCE_OFFSET = 0.0
/* IMAGE OBJECT DEFINITIONS */
OBJECT = IMAGE
  INTERCHANGE_FORMAT = BINARY
  LINES = 7941
  LINE_SAMPLES = 3899
  SAMPLE_TYPE = UNSIGNED_INTEGER
  SAMPLE_BITS = 8
  BANDS = 1
  BAND_STORAGE_TYPE = BAND_SEQUENTIAL
  MAXIMUM = 255
  MEAN = 132.487
  MINIMUM = 23
  STANDARD_DEVIATION = 58.3552
END_OBJECT = IMAGE
/* MAP OBJECT DEFINITIONS */
OBJECT = IMAGE_MAP_PROJECTION
  ^DATA_SET_MAP_PROJECTION_CATALOG= "DSMAP.CAT"
  A_AXIS_RADIUS = 3396.0
  B_AXIS_RADIUS = 3396.0
  C_AXIS_RADIUS = 3396.0
  CENTER_LATITUDE = -6.6288
  CENTER_LONGITUDE = 80.06659999999999
  COORDINATE_SYSTEM_NAME = PLANETOGRAPHIC
  COORDINATE_SYSTEM_TYPE = "BODY-FIXED ROTATING"
  EASTERNMOST_LONGITUDE = 134.392
  FIRST_STANDARD_PARALLEL = "N/A"
  LINE_FIRST_PIXEL = 1
  LINE_LAST_PIXEL = 7941
  LINE_PROJECTION_OFFSET = 4069.0
  MAP_PROJECTION_ROTATION = 0.0
  MAP_PROJECTION_TYPE = ORTHOGRAPHIC
  MAP_RESOLUTION = 74.08922548333329
  MAP_SCALE = 0.8
  MAXIMUM_LATITUDE = 64.0852
  MINIMUM_LATITUDE = -79.50839999999999
  POSITIVE_LONGITUDE_DIRECTION = EAST
  REFERENCE_LATITUDE = "N/A"
  REFERENCE_LONGITUDE = "N/A"
  SAMPLE_FIRST_PIXEL = 1
  SAMPLE_LAST_PIXEL = 3899
  SAMPLE_PROJECTION_OFFSET = 1225.0
  SECOND_STANDARD_PARALLEL = "N/A"
  WESTERNMOST_LONGITUDE = 56.4342
END_OBJECT = IMAGE_MAP_PROJECTION
END
