PDS_VERSION_ID = PDS3
/* FILE DATA ELEMENTS */
RECORD_TYPE = UNDEFINED
/* POINTERS TO DATA OBJECTS */
^IMAGE = ("HM965_0000_GR4.TIF")
/* IDENTIFICATION DATA ELEMENTS */
DATA_SET_ID = "MEX-M-HRSC-4-REFDR-MAPPROJECT-EXT8-V4.0"
DATA_SET_NAME = "MARS EXPRESS HRSC MAP PROJECTED REFDR EXTENSION8 V4.0"
DETECTOR_ID = MEX_HRSC_GREEN
EVENT_TYPE = "MARS-TERMINATOR-CALIBRATION-Tc"
INSTRUMENT_HOST_ID = MEX
INSTRUMENT_HOST_NAME = "MARS EXPRESS"
INSTRUMENT_ID = HRSC
INSTRUMENT_NAME = "HIGH RESOLUTION STEREO CAMERA"
MISSION_NAME = "MARS EXPRESS"
MISSION_PHASE_NAME = ME_Phase_46
PROCESSING_LEVEL_ID = 4
PRODUCT_CREATION_TIME = 2023-01-28T19:10:30.000Z
PRODUCT_ID = "HM965_0000_GR4.TIF"
RELEASE_ID = 0003
REVISION_ID = 0000
/* QUALITY DATA ELEMENTS */
DATA_QUALITY_ID = 1
DATA_QUALITY_DESC = "Data calculated based on original SPICE kernels"
/* TIME DATA ELEMENTS */
SPACECRAFT_CLOCK_START_COUNT = "1/0594662869.24919"
SPACECRAFT_CLOCK_STOP_COUNT = "1/0594663317.25155"
START_TIME = 2022-03-06T16:09:50.653Z
STOP_TIME = 2022-03-06T16:13:34.656Z
/* ORBITAL DATA ELEMENTS */
ASCENDING_NODE_LONGITUDE = 145.86
MAXIMUM_RESOLUTION = 0.7455
FOOTPRINT_POINT_LATITUDE = (-74.9705,-77.7108,-78.6025,-79.3382, -75.6184,-71.8343,-69.8793,-66.7138, -63.8476,-61.0077,-58.9359,-56.6477, -55.2892,-53.7701,-49.3238,-46.54, -44.5176,-41.9405,-39.8849,-38.1114, -36.5177,-35.043,-32.2946,-29.7597, -27.3751,-25.0941,-22.9049,-18.728, -14.7289,-10.8412,-7.00716,-3.17491, 0.713339,4.71026,8.88742,13.3585, 15.7583,18.3162,21.0782,24.1607,25.887, 27.8129,30.1104,32.4692,35.3377,38.1204 ,40.9486,43.4415,46.3189,49.9112, 52.0816,53.6842,56.81,58.4232,62.0202, 64.4206,64.0339,61.2314,59.9229,59.8531 ,59.8075,53.9242,50.0524,46.9664, 44.3237,41.9888,37.9166,34.4319,31.2765 ,28.4204,25.7853,23.2617,18.7041, 14.5035,10.5649,6.817,3.20322,-0.320571 ,-3.79468,-7.2469,-10.7127,-14.2237, -17.8155,-21.5367,-25.4257,-29.5765, -34.0827,-36.4722,-39.0196,-41.7408, -44.6853,-47.9246,-51.5581,-55.6884, -58.0289,-60.8746,-64.2428,-68.649, -76.9822,-74.9705)
FOOTPRINT_POINT_LONGITUDE = (55.4275,70.7763,73.4802,52.722,99.3108 ,109.555,121.971,123.775,124.514, 123.218,125.435,124.69,130.569,134.466, 128.025,134.274,129.847,136.237,128.762 ,123.746,120.425,117.95,114.235,111.571 ,109.538,107.894,106.571,104.61,103.263 ,102.388,101.886,101.738,101.951, 102.512,103.501,105.098,106.223,107.667 ,109.54,112.136,113.887,116.166,119.506 ,122.593,121.389,124.931,122.508, 118.346,114.324,110.8,109.183,105.485, 104.274,98.3373,93.9467,82.0918,79.7911 ,72.8275,65.9839,65.1895,64.9031, 64.5117,64.3243,64.2029,64.1143,64.046, 63.9447,63.8731,63.8163,63.7711,63.7333 ,63.6993,63.6426,63.592,63.5435,63.4945 ,63.4431,63.3874,63.3256,63.2565, 63.1782,63.0883,62.9841,62.8617,62.7161 ,62.5385,62.3159,62.183,62.0289,61.8482 ,61.6312,61.3624,61.0147,60.5419, 60.2268,59.7869,59.1549,58.0578,54.1072 ,55.4275)
ORBIT_NUMBER = 22965
ORBITAL_ECCENTRICITY = 0.576
ORBITAL_INCLINATION = 87.01
ORBITAL_SEMIMAJOR_AXIS = 8840.92
PERIAPSIS_ALTITUDE = 351.33
PERIAPSIS_ARGUMENT_ANGLE = 345.08
PERIAPSIS_TIME = 2022-03-06T18:30:25.000Z
SPACECRAFT_ORIENTATION = (0.0,1.0,0.0)
^MEX_ORIENTATION_DESC = "MEX_ORIENTATION_DESC.TXT"
SPACECRAFT_POINTING_MODE = FIXED
^MEX_POINTING_DESC = "MEX_POINTING_DESC.TXT"
RIGHT_ASCENSION = -1e+32
DECLINATION = -1e+32
OFFSET_ANGLE = -1e+32
SPACECRAFT_SOLAR_DISTANCE = 2.17492e+08
TARGET_NAME = MARS
/* CAMERA DATA ELEMENTS */
DETECTOR_TEMPERATURE = 18.3705
FOCAL_PLANE_TEMPERATURE = 7.9716
INST_CMPRS_NAME = "DISCRETE COSINE TRANSFORMATION (DCT)"
INST_CMPRS_RATIO = 8.18209
INST_CMPRS_QUALITY = 0
INST_CMPRS_QUANTZ_TBL_ID = 0
INSTRUMENT_TEMPERATURE = 11.0301
LENS_TEMPERATURE = 8.5833
MACROPIXEL_SIZE = 2
MISSING_FRAMES = 1
PIXEL_SUBSAMPLING_FLAG = N
SIGNAL_CHAIN_ID = 2
/* RADIOMETRIC DATA ELEMENTS */
BANDWIDTH = 88.0
CENTER_FILTER_WAVELENGTH = 538.0
RADIANCE_OFFSET = 0.0
RADIANCE_SCALING_FACTOR = 0.0121613
REFLECTANCE_SCALING_FACTOR = 0.000495363
MEX:REFLECTANCE_OFFSET = 0.0
/* IMAGE OBJECT DEFINITIONS */
OBJECT = IMAGE
  INTERCHANGE_FORMAT = BINARY
  LINES = 7941
  LINE_SAMPLES = 3899
  SAMPLE_TYPE = UNSIGNED_INTEGER
  SAMPLE_BITS = 8
  BANDS = 1
  BAND_STORAGE_TYPE = BAND_SEQUENTIAL
  MAXIMUM = 255
  MEAN = 199.176
  MINIMUM = 52
  STANDARD_DEVIATION = 61.8309
END_OBJECT = IMAGE
/* MAP OBJECT DEFINITIONS */
OBJECT = IMAGE_MAP_PROJECTION
  ^DATA_SET_MAP_PROJECTION_CATALOG= "DSMAP.CAT"
  A_AXIS_RADIUS = 3396.0
  B_AXIS_RADIUS = 3396.0
  C_AXIS_RADIUS = 3396.0
  CENTER_LATITUDE = -6.6288
  CENTER_LONGITUDE = 80.06659999999999
  COORDINATE_SYSTEM_NAME = PLANETOGRAPHIC
  COORDINATE_SYSTEM_TYPE = "BODY-FIXED ROTATING"
  EASTERNMOST_LONGITUDE = 136.237
  FIRST_STANDARD_PARALLEL = "N/A"
  LINE_FIRST_PIXEL = 1
  LINE_LAST_PIXEL = 7941
  LINE_PROJECTION_OFFSET = 4069.0
  MAP_PROJECTION_ROTATION = 0.0
  MAP_PROJECTION_TYPE = ORTHOGRAPHIC
  MAP_RESOLUTION = 74.08922548333329
  MAP_SCALE = 0.8
  MAXIMUM_LATITUDE = 64.42059999999999
  MINIMUM_LATITUDE = -79.3382
  POSITIVE_LONGITUDE_DIRECTION = EAST
  REFERENCE_LATITUDE = "N/A"
  REFERENCE_LONGITUDE = "N/A"
  SAMPLE_FIRST_PIXEL = 1
  SAMPLE_LAST_PIXEL = 3899
  SAMPLE_PROJECTION_OFFSET = 1225.0
  SECOND_STANDARD_PARALLEL = "N/A"
  WESTERNMOST_LONGITUDE = 52.722
END_OBJECT = IMAGE_MAP_PROJECTION
END
