PDS_VERSION_ID = PDS3
/* FILE DATA ELEMENTS */
RECORD_TYPE = UNDEFINED
/* POINTERS TO DATA OBJECTS */
^IMAGE = ("HM965_0000_RE4.TIF")
/* IDENTIFICATION DATA ELEMENTS */
DATA_SET_ID = "MEX-M-HRSC-4-REFDR-MAPPROJECT-EXT8-V4.0"
DATA_SET_NAME = "MARS EXPRESS HRSC MAP PROJECTED REFDR EXTENSION8 V4.0"
DETECTOR_ID = MEX_HRSC_RED
EVENT_TYPE = "MARS-TERMINATOR-CALIBRATION-Tc"
INSTRUMENT_HOST_ID = MEX
INSTRUMENT_HOST_NAME = "MARS EXPRESS"
INSTRUMENT_ID = HRSC
INSTRUMENT_NAME = "HIGH RESOLUTION STEREO CAMERA"
MISSION_NAME = "MARS EXPRESS"
MISSION_PHASE_NAME = ME_Phase_46
PROCESSING_LEVEL_ID = 4
PRODUCT_CREATION_TIME = 2023-01-28T19:10:30.000Z
PRODUCT_ID = "HM965_0000_RE4.TIF"
RELEASE_ID = 0003
REVISION_ID = 0000
/* QUALITY DATA ELEMENTS */
DATA_QUALITY_ID = 1
DATA_QUALITY_DESC = "Data calculated based on original SPICE kernels"
/* TIME DATA ELEMENTS */
SPACECRAFT_CLOCK_START_COUNT = "1/0594662869.24919"
SPACECRAFT_CLOCK_STOP_COUNT = "1/0594663317.25155"
START_TIME = 2022-03-06T16:12:04.645Z
STOP_TIME = 2022-03-06T16:15:49.685Z
/* ORBITAL DATA ELEMENTS */
ASCENDING_NODE_LONGITUDE = 145.86
MAXIMUM_RESOLUTION = 0.7407
FOOTPRINT_POINT_LATITUDE = (-73.8215,-75.4642,-77.2002,-78.0033, -79.471,-74.9632,-71.5787,-68.1215, -66.3632,-63.463,-60.6716,-58.5393, -54.6936,-51.2764,-49.2972,-48.1093, -44.4104,-41.3213,-39.5151,-37.9188, -35.0234,-32.378,-29.917,-27.587, -25.3529,-23.1972,-19.0827,-15.1327, -11.2867,-7.48881,-3.69073,0.163872, 4.12584,8.27507,12.7033,15.077,17.6015, 20.3163,23.3193,26.8039,28.8758,31.4647 ,34.7136,36.5834,39.759,42.1459,42.7919 ,46.0142,48.8272,50.1549,51.058,54.7132 ,55.8221,57.6351,61.72,62.9435,63.557, 61.2869,59.3809,59.2725,59.1994,53.1959 ,49.3003,46.2021,43.5612,41.2207, 37.1503,33.6506,30.5315,27.665,25.0206, 22.5782,18.0092,13.8192,9.89329,6.1582, 2.55901,-0.953436,-4.40978,-7.84572, -11.2939,-14.7856,-18.3574,-22.0541, -25.9108,-30.0514,-34.491,-36.8593, -39.3748,-42.0552,-44.9612,-48.1467, -51.7022,-55.7087,-57.9696,-60.7298, -63.8432,-67.8355,-73.9005,-73.8215)
FOOTPRINT_POINT_LONGITUDE = (59.542,71.4098,79.8763,83.117,75.7307, 102.265,112.567,115.217,125.113,124.902 ,123.242,124.721,127.75,131.407,129.368 ,135.33,129.956,129.32,123.682,120.164, 115.402,112.124,109.704,107.815,106.277 ,105.006,103.132,101.827,100.969,100.46 ,100.278,100.441,100.93,101.846,103.293 ,104.313,105.614,107.283,109.544, 112.891,115.383,119.292,124.8,120.247, 119.117,120.467,116.724,113.81,114.836, 111.716,107.031,108.184,102.716,97.5702 ,94.2982,82.0581,78.8199,74.0606, 67.2132,66.4503,66.1724,65.4795,65.1506 ,64.937,64.7814,64.6604,64.4813,64.354, 64.257,64.1783,64.1139,64.0619,63.9734, 63.9024,63.8413,63.7858,63.733,63.6799, 63.6256,63.5685,63.5065,63.438,63.3613, 63.274,63.1722,63.0529,62.9066,62.8202, 62.7222,62.6094,62.4768,62.3166,62.1157 ,61.8513,61.6805,61.4528,61.1489, 60.6652,59.5574,59.542)
ORBIT_NUMBER = 22965
ORBITAL_ECCENTRICITY = 0.576
ORBITAL_INCLINATION = 87.01
ORBITAL_SEMIMAJOR_AXIS = 8840.92
PERIAPSIS_ALTITUDE = 351.33
PERIAPSIS_ARGUMENT_ANGLE = 345.08
PERIAPSIS_TIME = 2022-03-06T18:30:25.000Z
SPACECRAFT_ORIENTATION = (0.0,1.0,0.0)
^MEX_ORIENTATION_DESC = "MEX_ORIENTATION_DESC.TXT"
SPACECRAFT_POINTING_MODE = FIXED
^MEX_POINTING_DESC = "MEX_POINTING_DESC.TXT"
RIGHT_ASCENSION = -1e+32
DECLINATION = -1e+32
OFFSET_ANGLE = -1e+32
SPACECRAFT_SOLAR_DISTANCE = 2.17492e+08
TARGET_NAME = MARS
/* CAMERA DATA ELEMENTS */
DETECTOR_TEMPERATURE = 18.5744
FOCAL_PLANE_TEMPERATURE = 7.9716
INST_CMPRS_NAME = "DISCRETE COSINE TRANSFORMATION (DCT)"
INST_CMPRS_RATIO = 10.1949
INST_CMPRS_QUALITY = 0
INST_CMPRS_QUANTZ_TBL_ID = 0
INSTRUMENT_TEMPERATURE = 11.0301
LENS_TEMPERATURE = 8.5833
MACROPIXEL_SIZE = 2
MISSING_FRAMES = 0
PIXEL_SUBSAMPLING_FLAG = N
SIGNAL_CHAIN_ID = 1
/* RADIOMETRIC DATA ELEMENTS */
BANDWIDTH = 48.0
CENTER_FILTER_WAVELENGTH = 748.0
RADIANCE_OFFSET = 0.0
RADIANCE_SCALING_FACTOR = 0.0116797
REFLECTANCE_SCALING_FACTOR = 0.00126099
MEX:REFLECTANCE_OFFSET = 0.0
/* IMAGE OBJECT DEFINITIONS */
OBJECT = IMAGE
  INTERCHANGE_FORMAT = BINARY
  LINES = 7941
  LINE_SAMPLES = 3899
  SAMPLE_TYPE = UNSIGNED_INTEGER
  SAMPLE_BITS = 8
  BANDS = 1
  BAND_STORAGE_TYPE = BAND_SEQUENTIAL
  MAXIMUM = 255
  MEAN = 147.07
  MINIMUM = 30
  STANDARD_DEVIATION = 62.0603
END_OBJECT = IMAGE
/* MAP OBJECT DEFINITIONS */
OBJECT = IMAGE_MAP_PROJECTION
  ^DATA_SET_MAP_PROJECTION_CATALOG= "DSMAP.CAT"
  A_AXIS_RADIUS = 3396.0
  B_AXIS_RADIUS = 3396.0
  C_AXIS_RADIUS = 3396.0
  CENTER_LATITUDE = -6.6288
  CENTER_LONGITUDE = 80.06659999999999
  COORDINATE_SYSTEM_NAME = PLANETOGRAPHIC
  COORDINATE_SYSTEM_TYPE = "BODY-FIXED ROTATING"
  EASTERNMOST_LONGITUDE = 135.33
  FIRST_STANDARD_PARALLEL = "N/A"
  LINE_FIRST_PIXEL = 1
  LINE_LAST_PIXEL = 7941
  LINE_PROJECTION_OFFSET = 4069.0
  MAP_PROJECTION_ROTATION = 0.0
  MAP_PROJECTION_TYPE = ORTHOGRAPHIC
  MAP_RESOLUTION = 74.08922548333329
  MAP_SCALE = 0.8
  MAXIMUM_LATITUDE = 63.557
  MINIMUM_LATITUDE = -79.471
  POSITIVE_LONGITUDE_DIRECTION = EAST
  REFERENCE_LATITUDE = "N/A"
  REFERENCE_LONGITUDE = "N/A"
  SAMPLE_FIRST_PIXEL = 1
  SAMPLE_LAST_PIXEL = 3899
  SAMPLE_PROJECTION_OFFSET = 1225.0
  SECOND_STANDARD_PARALLEL = "N/A"
  WESTERNMOST_LONGITUDE = 59.542
END_OBJECT = IMAGE_MAP_PROJECTION
END
