PDS_VERSION_ID = PDS3
/* FILE DATA ELEMENTS */
RECORD_TYPE = UNDEFINED
/* POINTERS TO DATA OBJECTS */
^IMAGE = ("HM989_0000_ND4.TIF")
/* IDENTIFICATION DATA ELEMENTS */
DATA_SET_ID = "MEX-M-HRSC-4-REFDR-MAPPROJECT-EXT8-V4.0"
DATA_SET_NAME = "MARS EXPRESS HRSC MAP PROJECTED REFDR EXTENSION8 V4.0"
DETECTOR_ID = MEX_HRSC_NADIR
EVENT_TYPE = "MARS-TERMINATOR-CALIBRATION-Tc"
INSTRUMENT_HOST_ID = MEX
INSTRUMENT_HOST_NAME = "MARS EXPRESS"
INSTRUMENT_ID = HRSC
INSTRUMENT_NAME = "HIGH RESOLUTION STEREO CAMERA"
MISSION_NAME = "MARS EXPRESS"
MISSION_PHASE_NAME = ME_Phase_46
PROCESSING_LEVEL_ID = 4
PRODUCT_CREATION_TIME = 2023-01-28T19:10:30.000Z
PRODUCT_ID = "HM989_0000_ND4.TIF"
RELEASE_ID = 0003
REVISION_ID = 0000
/* QUALITY DATA ELEMENTS */
DATA_QUALITY_ID = 1
DATA_QUALITY_DESC = "Data calculated based on original SPICE kernels"
/* TIME DATA ELEMENTS */
SPACECRAFT_CLOCK_START_COUNT = "1/0595267061.24924"
SPACECRAFT_CLOCK_STOP_COUNT = "1/0595267520.23573"
START_TIME = 2022-03-13T16:00:06.700Z
STOP_TIME = 2022-03-13T16:04:00.659Z
/* ORBITAL DATA ELEMENTS */
ASCENDING_NODE_LONGITUDE = 145.42
MAXIMUM_RESOLUTION = 0.7027
FOOTPRINT_POINT_LATITUDE = (-80.1656,-80.5521,-79.248,-78.242, -75.6412,-70.9092,-66.5221,-62.7221, -59.826,-55.1982,-54.4337,-49.6454, -45.5526,-45.347,-44.7605,-43.2023, -42.1492,-42.3861,-41.7911,-41.8638, -41.285,-40.9801,-40.4466,-38.943, -38.4544,-37.2319,-36.808,-35.9351, -33.4853,-31.5066,-28.4805,-23.3002, -19.0981,-13.0398,-8.85322,-5.20269, -0.348866,4.25834,10.09,13.9564,17.6935 ,22.1767,24.4732,25.831,24.8961,26.1403 ,25.1736,26.4115,25.4587,28.3085, 27.5402,28.9447,28.9368,32.6128,33.863, 37.5936,39.7163,44.9784,48.7028,51.6466 ,54.2075,54.8721,57.3445,61.4577, 62.2589,62.2087,62.1878,58.3145,54.7812 ,50.3558,45.8507,42.2498,36.6121, 31.3291,27.3656,21.9841,18.6643,14.267, 8.5679,2.37378,-1.48073,-7.90145, -12.5566,-17.9297,-22.6996,-26.3657, -32.1955,-37.383,-41.7951,-46.9784, -50.1979,-54.1321,-58.812,-63.0533, -67.9337,-71.2387,-74.5119,-77.8318, -79.1888,-80.1656)
FOOTPRINT_POINT_LONGITUDE = (138.227,138.715,138.47,163.92,176.069, 186.236,190.293,197.005,193.768,195.351 ,200.939,197.202,198.221,202.731, 198.232,202.805,198.797,202.981,198.333 ,203.419,198.692,203.088,198.812, 203.531,199.279,199.257,203.234,197.294 ,190.156,186.616,182.687,178.28,175.928 ,174.001,173.305,173.282,173.731, 174.829,177.298,179.753,183.152,189.294 ,191.89,195.641,192.106,195.601,191.978 ,195.429,191.873,194.47,190.753,194.553 ,190.441,192.407,187.838,189.694, 184.355,180.587,180.579,178.006,174.671 ,168.153,163.012,156.236,148.913, 148.084,147.712,145.091,143.232,141.404 ,139.947,138.997,137.791,136.894, 136.334,135.689,135.35,134.955,134.516, 134.111,133.89,133.557,133.346,133.128, 132.954,132.83,132.663,132.546,132.471, 132.431,132.442,132.496,132.654,132.921 ,133.467,134.082,135.007,136.593,137.56 ,138.227)
ORBIT_NUMBER = 22989
ORBITAL_ECCENTRICITY = 0.577
ORBITAL_INCLINATION = 86.99
ORBITAL_SEMIMAJOR_AXIS = 8845.21
PERIAPSIS_ALTITUDE = 349.64
PERIAPSIS_ARGUMENT_ANGLE = 340.96
PERIAPSIS_TIME = 2022-03-13T18:05:43.000Z
SPACECRAFT_ORIENTATION = (0.0,1.0,0.0)
^MEX_ORIENTATION_DESC = "MEX_ORIENTATION_DESC.TXT"
SPACECRAFT_POINTING_MODE = FIXED
^MEX_POINTING_DESC = "MEX_POINTING_DESC.TXT"
RIGHT_ASCENSION = -1e+32
DECLINATION = -1e+32
OFFSET_ANGLE = -1e+32
SPACECRAFT_SOLAR_DISTANCE = 2.16271e+08
TARGET_NAME = MARS
/* CAMERA DATA ELEMENTS */
DETECTOR_TEMPERATURE = 18.3705
FOCAL_PLANE_TEMPERATURE = 8.3794
INST_CMPRS_NAME = "DISCRETE COSINE TRANSFORMATION (DCT)"
INST_CMPRS_RATIO = 9.80403
INST_CMPRS_QUALITY = 0
INST_CMPRS_QUANTZ_TBL_ID = 0
INSTRUMENT_TEMPERATURE = 11.4379
LENS_TEMPERATURE = 8.5833
MACROPIXEL_SIZE = 2
MISSING_FRAMES = 5
PIXEL_SUBSAMPLING_FLAG = N
SIGNAL_CHAIN_ID = 0
/* RADIOMETRIC DATA ELEMENTS */
BANDWIDTH = 177.0
CENTER_FILTER_WAVELENGTH = 677.5
RADIANCE_OFFSET = 0.0
RADIANCE_SCALING_FACTOR = 0.0594687
REFLECTANCE_SCALING_FACTOR = 0.00147784
MEX:REFLECTANCE_OFFSET = 0.0
/* IMAGE OBJECT DEFINITIONS */
OBJECT = IMAGE
  INTERCHANGE_FORMAT = BINARY
  LINES = 8067
  LINE_SAMPLES = 3951
  SAMPLE_TYPE = UNSIGNED_INTEGER
  SAMPLE_BITS = 8
  BANDS = 1
  BAND_STORAGE_TYPE = BAND_SEQUENTIAL
  MAXIMUM = 255
  MEAN = 127.26
  MINIMUM = 24
  STANDARD_DEVIATION = 54.2589
END_OBJECT = IMAGE
/* MAP OBJECT DEFINITIONS */
OBJECT = IMAGE_MAP_PROJECTION
  ^DATA_SET_MAP_PROJECTION_CATALOG= "DSMAP.CAT"
  A_AXIS_RADIUS = 3396.0
  B_AXIS_RADIUS = 3396.0
  C_AXIS_RADIUS = 3396.0
  CENTER_LATITUDE = -8.04044
  CENTER_LONGITUDE = 150.088
  COORDINATE_SYSTEM_NAME = PLANETOGRAPHIC
  COORDINATE_SYSTEM_TYPE = "BODY-FIXED ROTATING"
  EASTERNMOST_LONGITUDE = 203.531
  FIRST_STANDARD_PARALLEL = "N/A"
  LINE_FIRST_PIXEL = 1
  LINE_LAST_PIXEL = 8067
  LINE_PROJECTION_OFFSET = 4023.0
  MAP_PROJECTION_ROTATION = 0.0
  MAP_PROJECTION_TYPE = ORTHOGRAPHIC
  MAP_RESOLUTION = 74.08922548333329
  MAP_SCALE = 0.8
  MAXIMUM_LATITUDE = 62.2589
  MINIMUM_LATITUDE = -80.5521
  POSITIVE_LONGITUDE_DIRECTION = EAST
  REFERENCE_LATITUDE = "N/A"
  REFERENCE_LONGITUDE = "N/A"
  SAMPLE_FIRST_PIXEL = 1
  SAMPLE_LAST_PIXEL = 3951
  SAMPLE_PROJECTION_OFFSET = 1196.0
  SECOND_STANDARD_PARALLEL = "N/A"
  WESTERNMOST_LONGITUDE = 132.431
END_OBJECT = IMAGE_MAP_PROJECTION
END
