PDS_VERSION_ID = PDS3
/* FILE DATA ELEMENTS */
RECORD_TYPE = UNDEFINED
/* POINTERS TO DATA OBJECTS */
^IMAGE = ("HM989_0000_RE4.TIF")
/* IDENTIFICATION DATA ELEMENTS */
DATA_SET_ID = "MEX-M-HRSC-4-REFDR-MAPPROJECT-EXT8-V4.0"
DATA_SET_NAME = "MARS EXPRESS HRSC MAP PROJECTED REFDR EXTENSION8 V4.0"
DETECTOR_ID = MEX_HRSC_RED
EVENT_TYPE = "MARS-TERMINATOR-CALIBRATION-Tc"
INSTRUMENT_HOST_ID = MEX
INSTRUMENT_HOST_NAME = "MARS EXPRESS"
INSTRUMENT_ID = HRSC
INSTRUMENT_NAME = "HIGH RESOLUTION STEREO CAMERA"
MISSION_NAME = "MARS EXPRESS"
MISSION_PHASE_NAME = ME_Phase_46
PROCESSING_LEVEL_ID = 4
PRODUCT_CREATION_TIME = 2023-01-28T19:10:30.000Z
PRODUCT_ID = "HM989_0000_RE4.TIF"
RELEASE_ID = 0003
REVISION_ID = 0000
/* QUALITY DATA ELEMENTS */
DATA_QUALITY_ID = 1
DATA_QUALITY_DESC = "Data calculated based on original SPICE kernels"
/* TIME DATA ELEMENTS */
SPACECRAFT_CLOCK_START_COUNT = "1/0595267061.24924"
SPACECRAFT_CLOCK_STOP_COUNT = "1/0595267520.23573"
START_TIME = 2022-03-13T16:01:57.716Z
STOP_TIME = 2022-03-13T16:05:52.685Z
/* ORBITAL DATA ELEMENTS */
ASCENDING_NODE_LONGITUDE = 145.42
MAXIMUM_RESOLUTION = 0.6975
FOOTPRINT_POINT_LATITUDE = (-80.5451,-79.9004,-78.1681,-74.6634, -70.5918,-66.2145,-62.1654,-57.3288, -52.778,-50.7746,-47.3082,-47.6253, -47.0788,-44.895,-43.8922,-43.6069, -43.1348,-42.3006,-41.7689,-41.2504, -39.9092,-38.1413,-37.6199,-35.8092, -32.6441,-30.3892,-27.8741,-24.0598, -19.3555,-13.9348,-7.31612,-1.66412, 1.83858,7.0834,10.2843,13.5393,18.5417, 20.8564,23.7922,25.9392,25.2015,26.5511 ,25.5079,28.0435,27.6984,29.0776, 28.0966,30.0464,29.0642,31.1699,32.1743 ,33.5883,33.0268,34.3907,35.8708,41.107 ,42.3994,46.7238,51.9041,53.5332, 57.3452,60.3215,61.7038,61.3273,61.5502 ,57.3922,53.8509,50.7183,45.3033, 41.0325,37.3055,31.9618,28.0062,22.7808 ,19.2426,14.348,10.4916,5.59647, 0.854499,-3.42133,-6.48031,-10.6156, -14.6277,-17.8892,-22.5157,-25.9701, -29.0151,-32.94,-36.913,-42.2005, -48.5745,-53.2135,-58.0321,-61.1778, -67.0293,-71.4149,-75.2703,-78.5537, -79.5695,-80.5451)
FOOTPRINT_POINT_LONGITUDE = (145.368,145.346,158.751,181.223, 187.392,190.209,198.012,199.122,196.257 ,201.481,198.141,202.926,198.212, 202.852,198.638,202.836,198.765,203.018 ,198.463,203.551,198.854,203.151, 198.767,191.958,185.593,182.499,179.823 ,176.866,174.307,172.589,171.741, 171.979,172.593,174.214,175.688,177.669 ,181.917,184.65,189.333,194.564,191.009 ,194.641,190.984,193.661,189.722, 193.243,189.948,192.73,189.492,191.931, 187.676,191.113,187.169,190.405,185.919 ,186.448,181.365,180.355,175.031, 168.476,160.22,156.872,150.219,149.143, 148.993,146.003,144.037,142.62,140.679, 139.48,138.612,137.586,136.959,136.261, 135.863,135.39,135.069,134.716,134.424, 134.194,134.047,133.867,133.717,133.613 ,133.488,133.411,133.359,133.316, 133.305,133.342,133.511,133.752,134.16, 134.556,135.697,137.19,139.345,142.498, 143.911,145.368)
ORBIT_NUMBER = 22989
ORBITAL_ECCENTRICITY = 0.577
ORBITAL_INCLINATION = 86.99
ORBITAL_SEMIMAJOR_AXIS = 8845.21
PERIAPSIS_ALTITUDE = 349.64
PERIAPSIS_ARGUMENT_ANGLE = 340.96
PERIAPSIS_TIME = 2022-03-13T18:05:43.000Z
SPACECRAFT_ORIENTATION = (0.0,1.0,0.0)
^MEX_ORIENTATION_DESC = "MEX_ORIENTATION_DESC.TXT"
SPACECRAFT_POINTING_MODE = FIXED
^MEX_POINTING_DESC = "MEX_POINTING_DESC.TXT"
RIGHT_ASCENSION = -1e+32
DECLINATION = -1e+32
OFFSET_ANGLE = -1e+32
SPACECRAFT_SOLAR_DISTANCE = 2.16271e+08
TARGET_NAME = MARS
/* CAMERA DATA ELEMENTS */
DETECTOR_TEMPERATURE = 18.5744
FOCAL_PLANE_TEMPERATURE = 8.3794
INST_CMPRS_NAME = "DISCRETE COSINE TRANSFORMATION (DCT)"
INST_CMPRS_RATIO = 8.3206
INST_CMPRS_QUALITY = 0
INST_CMPRS_QUANTZ_TBL_ID = 0
INSTRUMENT_TEMPERATURE = 11.4379
LENS_TEMPERATURE = 8.5833
MACROPIXEL_SIZE = 2
MISSING_FRAMES = 0
PIXEL_SUBSAMPLING_FLAG = N
SIGNAL_CHAIN_ID = 1
/* RADIOMETRIC DATA ELEMENTS */
BANDWIDTH = 48.0
CENTER_FILTER_WAVELENGTH = 748.0
RADIANCE_OFFSET = 0.0
RADIANCE_SCALING_FACTOR = 0.0130655
REFLECTANCE_SCALING_FACTOR = 0.00139478
MEX:REFLECTANCE_OFFSET = 0.0
/* IMAGE OBJECT DEFINITIONS */
OBJECT = IMAGE
  INTERCHANGE_FORMAT = BINARY
  LINES = 8067
  LINE_SAMPLES = 3951
  SAMPLE_TYPE = UNSIGNED_INTEGER
  SAMPLE_BITS = 8
  BANDS = 1
  BAND_STORAGE_TYPE = BAND_SEQUENTIAL
  MAXIMUM = 255
  MEAN = 153.542
  MINIMUM = 31
  STANDARD_DEVIATION = 61.1491
END_OBJECT = IMAGE
/* MAP OBJECT DEFINITIONS */
OBJECT = IMAGE_MAP_PROJECTION
  ^DATA_SET_MAP_PROJECTION_CATALOG= "DSMAP.CAT"
  A_AXIS_RADIUS = 3396.0
  B_AXIS_RADIUS = 3396.0
  C_AXIS_RADIUS = 3396.0
  CENTER_LATITUDE = -8.04044
  CENTER_LONGITUDE = 150.088
  COORDINATE_SYSTEM_NAME = PLANETOGRAPHIC
  COORDINATE_SYSTEM_TYPE = "BODY-FIXED ROTATING"
  EASTERNMOST_LONGITUDE = 203.551
  FIRST_STANDARD_PARALLEL = "N/A"
  LINE_FIRST_PIXEL = 1
  LINE_LAST_PIXEL = 8067
  LINE_PROJECTION_OFFSET = 4023.0
  MAP_PROJECTION_ROTATION = 0.0
  MAP_PROJECTION_TYPE = ORTHOGRAPHIC
  MAP_RESOLUTION = 74.08922548333329
  MAP_SCALE = 0.8
  MAXIMUM_LATITUDE = 61.7038
  MINIMUM_LATITUDE = -80.54510000000001
  POSITIVE_LONGITUDE_DIRECTION = EAST
  REFERENCE_LATITUDE = "N/A"
  REFERENCE_LONGITUDE = "N/A"
  SAMPLE_FIRST_PIXEL = 1
  SAMPLE_LAST_PIXEL = 3951
  SAMPLE_PROJECTION_OFFSET = 1196.0
  SECOND_STANDARD_PARALLEL = "N/A"
  WESTERNMOST_LONGITUDE = 133.305
END_OBJECT = IMAGE_MAP_PROJECTION
END
