PDS_VERSION_ID = PDS3
/* FILE DATA ELEMENTS */
RECORD_TYPE = UNDEFINED
/* POINTERS TO DATA OBJECTS */
^IMAGE = ("HM999_0000_RE4.TIF")
/* IDENTIFICATION DATA ELEMENTS */
DATA_SET_ID = "MEX-M-HRSC-4-REFDR-MAPPROJECT-EXT8-V4.0"
DATA_SET_NAME = "MARS EXPRESS HRSC MAP PROJECTED REFDR EXTENSION8 V4.0"
DETECTOR_ID = MEX_HRSC_RED
EVENT_TYPE = "MARS-REGIONAL-VARIABLE-Gl-Tc-Ot"
INSTRUMENT_HOST_ID = MEX
INSTRUMENT_HOST_NAME = "MARS EXPRESS"
INSTRUMENT_ID = HRSC
INSTRUMENT_NAME = "HIGH RESOLUTION STEREO CAMERA"
MISSION_NAME = "MARS EXPRESS"
MISSION_PHASE_NAME = ME_Phase_46
PROCESSING_LEVEL_ID = 4
PRODUCT_CREATION_TIME = 2023-01-28T19:10:30.000Z
PRODUCT_ID = "HM999_0000_RE4.TIF"
RELEASE_ID = 0003
REVISION_ID = 0000
/* QUALITY DATA ELEMENTS */
DATA_QUALITY_ID = 1
DATA_QUALITY_DESC = "Data calculated based on original SPICE kernels"
/* TIME DATA ELEMENTS */
SPACECRAFT_CLOCK_START_COUNT = "1/0595523103.25670"
SPACECRAFT_CLOCK_STOP_COUNT = "1/0595525103.50799"
START_TIME = 2022-03-16T15:12:17.698Z
STOP_TIME = 2022-03-16T15:32:57.566Z
/* ORBITAL DATA ELEMENTS */
ASCENDING_NODE_LONGITUDE = 145.25
MAXIMUM_RESOLUTION = 0.2772
FOOTPRINT_POINT_LATITUDE = (-73.1188,-73.2916,-73.4543,-73.6065, -73.7481,-73.8791,-73.9993,-74.1087, -74.2073,-74.2949,-74.3714,-74.4367, -74.4907,-74.5332,-74.5644,-74.5842, -74.5924,-74.589,-74.5739,-74.5473, -74.509,-74.459,-74.3973,-74.3239, -74.2388,-74.1421,-73.9752,-73.9448, -74.0973,-74.6366,-75.4727,-76.0751, -76.7089,-77.3704,-78.0624,-78.7781, -79.5152,-80.4246,-81.1104,-81.5918, -82.1786,-82.9083,-83.2688,-83.5488, -83.6198,-83.5247,-83.3688,-83.0592, -82.6532,-82.1676,-81.466,-80.704, -80.5443,-80.5409,-81.0401,-81.6723, -81.9366,-82.2809,-82.4986,-82.5712, -82.6042,-82.6038,-82.6056,-83.4881, -84.6157,-85.3005,-86.2089,-87.1057, -87.9678,-88.7065,-88.936,-88.9667, -88.7814,-88.4524,-88.0484,-87.3766, -86.9064,-86.4238,-85.9336,-85.4356, -84.6744,-84.1625,-83.3966,-82.6017, -82.0734,-81.5445,-80.7536,-80.2268, -79.7114,-79.2078,-78.715,-77.761, -76.8326,-75.9411,-75.0856,-74.2538, -73.4653,-73.2663,-73.1188)
FOOTPRINT_POINT_LONGITUDE = (146.588,148.192,149.816,151.46,153.124 ,154.806,156.505,158.22,159.952,161.701 ,163.463,165.236,167.02,168.813,170.612 ,172.416,174.223,176.034,177.843,179.65 ,181.455,183.256,185.052,186.839, 188.617,190.385,193.016,193.451,193.994 ,194.83,196.207,197.324,198.628,200.152 ,201.977,204.163,206.831,210.912, 214.817,218.177,223.298,232.475,239.595 ,249.344,259.604,267.686,273.477, 280.641,287.019,292.6,298.55,303.437, 304.31,304.329,308.364,315.125,318.878, 325.537,332.314,336.465,341.963,342.388 ,342.533,343.557,345.326,346.824,349.75 ,354.636,3.99432,25.7538,46.793,73.6271 ,96.9807,112.474,122.131,130.612, 134.123,136.7,138.635,140.151,141.9, 142.78,143.741,144.604,145.025,145.361, 145.728,145.958,146.137,146.271,146.368 ,146.473,146.537,146.524,146.442,146.34 ,146.151,146.118,146.588)
ORBIT_NUMBER = 22999
ORBITAL_ECCENTRICITY = 0.576
ORBITAL_INCLINATION = 87.0
ORBITAL_SEMIMAJOR_AXIS = 8832.92
PERIAPSIS_ALTITUDE = 349.35
PERIAPSIS_ARGUMENT_ANGLE = 339.22
PERIAPSIS_TIME = 2022-03-16T15:55:19.000Z
SPACECRAFT_ORIENTATION = (0.0,1.0,0.0)
^MEX_ORIENTATION_DESC = "MEX_ORIENTATION_DESC.TXT"
SPACECRAFT_POINTING_MODE = ALONGTRACK
^MEX_POINTING_DESC = "MEX_POINTING_DESC.TXT"
RIGHT_ASCENSION = -1e+32
DECLINATION = -1e+32
OFFSET_ANGLE = 0.002
SPACECRAFT_SOLAR_DISTANCE = 2.15775e+08
TARGET_NAME = MARS
/* CAMERA DATA ELEMENTS */
DETECTOR_TEMPERATURE = 18.5744
FOCAL_PLANE_TEMPERATURE = 7.9716
INST_CMPRS_NAME = "DISCRETE COSINE TRANSFORMATION (DCT)"
INST_CMPRS_RATIO = 15.6114
INST_CMPRS_QUALITY = 0
INST_CMPRS_QUANTZ_TBL_ID = 0
INSTRUMENT_TEMPERATURE = 11.0301
LENS_TEMPERATURE = 7.9716
MACROPIXEL_SIZE = 4
MISSING_FRAMES = 0
PIXEL_SUBSAMPLING_FLAG = N
SIGNAL_CHAIN_ID = 2
/* RADIOMETRIC DATA ELEMENTS */
BANDWIDTH = 48.0
CENTER_FILTER_WAVELENGTH = 748.0
RADIANCE_OFFSET = 0.0746352
RADIANCE_SCALING_FACTOR = 0.00420006
REFLECTANCE_SCALING_FACTOR = 0.000446281
MEX:REFLECTANCE_OFFSET = 0.00793042
/* IMAGE OBJECT DEFINITIONS */
OBJECT = IMAGE
  INTERCHANGE_FORMAT = BINARY
  LINES = 6962
  LINE_SAMPLES = 3777
  SAMPLE_TYPE = UNSIGNED_INTEGER
  SAMPLE_BITS = 8
  BANDS = 1
  BAND_STORAGE_TYPE = BAND_SEQUENTIAL
  MAXIMUM = 255
  MEAN = 116.972
  MINIMUM = 20
  STANDARD_DEVIATION = 52.138
END_OBJECT = IMAGE
/* MAP OBJECT DEFINITIONS */
OBJECT = IMAGE_MAP_PROJECTION
  ^DATA_SET_MAP_PROJECTION_CATALOG= "DSMAP.CAT"
  A_AXIS_RADIUS = 3396.0
  B_AXIS_RADIUS = 3396.0
  C_AXIS_RADIUS = 3396.0
  CENTER_LATITUDE = -90.0
  CENTER_LONGITUDE = 0.0
  COORDINATE_SYSTEM_NAME = PLANETOGRAPHIC
  COORDINATE_SYSTEM_TYPE = "BODY-FIXED ROTATING"
  EASTERNMOST_LONGITUDE = 360.0
  FIRST_STANDARD_PARALLEL = "N/A"
  LINE_FIRST_PIXEL = 1
  LINE_LAST_PIXEL = 6962
  LINE_PROJECTION_OFFSET = 1996.875
  MAP_PROJECTION_ROTATION = 0.0
  MAP_PROJECTION_TYPE = STEREOGRAPHIC
  MAP_RESOLUTION = 296.356901933333
  MAP_SCALE = 0.2
  MAXIMUM_LATITUDE = -73.11879999999999
  MINIMUM_LATITUDE = -90.0
  POSITIVE_LONGITUDE_DIRECTION = EAST
  REFERENCE_LATITUDE = "N/A"
  REFERENCE_LONGITUDE = "N/A"
  SAMPLE_FIRST_PIXEL = 1
  SAMPLE_LAST_PIXEL = 3777
  SAMPLE_PROJECTION_OFFSET = 2164.625
  SECOND_STANDARD_PARALLEL = "N/A"
  WESTERNMOST_LONGITUDE = 0.0
END_OBJECT = IMAGE_MAP_PROJECTION
END
