PDS_VERSION_ID = PDS3
/* FILE DATA ELEMENTS */
RECORD_TYPE = UNDEFINED
/* POINTERS TO DATA OBJECTS */
^IMAGE = ("HN040_0000_S24.TIF")
/* IDENTIFICATION DATA ELEMENTS */
DATA_SET_ID = "MEX-M-HRSC-4-REFDR-MAPPROJECT-EXT8-V4.0"
DATA_SET_NAME = "MARS EXPRESS HRSC MAP PROJECTED REFDR EXTENSION8 V4.0"
DETECTOR_ID = MEX_HRSC_S2
EVENT_TYPE = "MARS-REGIONAL-MAPPING-Vo-Te"
INSTRUMENT_HOST_ID = MEX
INSTRUMENT_HOST_NAME = "MARS EXPRESS"
INSTRUMENT_ID = HRSC
INSTRUMENT_NAME = "HIGH RESOLUTION STEREO CAMERA"
MISSION_NAME = "MARS EXPRESS"
MISSION_PHASE_NAME = ME_Phase_46
PROCESSING_LEVEL_ID = 4
PRODUCT_CREATION_TIME = 2023-01-28T22:22:56.000Z
PRODUCT_ID = "HN040_0000_S24.TIF"
RELEASE_ID = 0004
REVISION_ID = 0000
/* QUALITY DATA ELEMENTS */
DATA_QUALITY_ID = 1
DATA_QUALITY_DESC = "Data calculated based on original SPICE kernels"
/* TIME DATA ELEMENTS */
SPACECRAFT_CLOCK_START_COUNT = "1/0596556554.23972"
SPACECRAFT_CLOCK_STOP_COUNT = "1/0596556807.07620"
START_TIME = 2022-03-28T14:09:48.723Z
STOP_TIME = 2022-03-28T14:12:52.257Z
/* ORBITAL DATA ELEMENTS */
ASCENDING_NODE_LONGITUDE = 144.5
MAXIMUM_RESOLUTION = 0.0309
FOOTPRINT_POINT_LATITUDE = (-42.5346,-42.4984,-42.4601,-42.4196, -42.3768,-42.3316,-42.2652,-42.262, -42.1948,-41.7596,-41.5186,-41.1662, -40.8222,-40.5967,-40.3713,-40.1473, -39.9237,-39.4788,-39.2538,-38.8157, -38.4844,-38.0423,-37.491,-37.1545, -36.9309,-36.7078,-36.3734,-36.0378, -35.7013,-35.4763,-35.0371,-34.81, -34.5768,-34.3505,-34.0115,-33.7851, -33.5585,-33.3319,-33.1048,-32.8778, -32.6527,-32.4234,-32.1945,-31.9661, -31.7379,-31.5086,-31.2797,-31.0497, -30.9349,-30.8901,-30.9326,-30.9891, -31.0516,-31.1173,-31.1192,-31.1204, -31.3505,-31.5796,-31.8082,-32.0378, -32.2673,-32.4961,-32.8385,-33.0677, -33.2953,-33.5237,-33.7511,-33.9784, -34.2059,-34.4329,-34.6595,-34.8865, -35.1129,-35.3386,-35.5645,-35.903, -36.1332,-36.578,-36.8026,-37.0266, -37.2518,-37.5865,-37.8115,-38.1463, -38.369,-38.9241,-39.3594,-39.586, -39.9265,-40.1529,-40.5997,-40.824, -41.0528,-41.2828,-41.511,-41.7414, -41.97,-42.3143,-42.4314,-42.5346)
FOOTPRINT_POINT_LONGITUDE = (106.715,106.405,106.089,105.766, 105.436,105.099,104.622,104.6,104.51, 104.592,104.599,104.623,104.657,104.683 ,104.703,104.726,104.748,104.797, 104.819,104.864,104.892,104.93,104.98, 105.002,105.019,105.036,105.062,105.087 ,105.11,105.126,105.17,105.183,105.188, 105.202,105.224,105.238,105.252,105.266 ,105.28,105.294,105.31,105.321,105.333, 105.345,105.358,105.369,105.381,105.391 ,105.397,105.399,105.689,106.086, 106.544,107.028,107.043,107.048,107.043 ,107.037,107.031,107.026,107.02,107.014 ,107.006,107.0,106.994,106.988,106.982, 106.976,106.97,106.964,106.957,106.951, 106.945,106.938,106.931,106.922,106.918 ,106.901,106.894,106.887,106.881, 106.869,106.863,106.852,106.845,106.826 ,106.805,106.798,106.786,106.777, 106.757,106.748,106.74,106.73,106.72, 106.711,106.701,106.686,106.681, 106.715)
ORBIT_NUMBER = 23040
ORBITAL_ECCENTRICITY = 0.577
ORBITAL_INCLINATION = 87.0
ORBITAL_SEMIMAJOR_AXIS = 8831.55
PERIAPSIS_ALTITUDE = 346.44
PERIAPSIS_ARGUMENT_ANGLE = 332.21
PERIAPSIS_TIME = 2022-03-28T14:14:18.000Z
SPACECRAFT_ORIENTATION = (0.0,1.0,0.0)
^MEX_ORIENTATION_DESC = "MEX_ORIENTATION_DESC.TXT"
SPACECRAFT_POINTING_MODE = ACROSSTRACK
^MEX_POINTING_DESC = "MEX_POINTING_DESC.TXT"
RIGHT_ASCENSION = -1e+32
DECLINATION = -1e+32
OFFSET_ANGLE = 2.0
SPACECRAFT_SOLAR_DISTANCE = 2.13837e+08
TARGET_NAME = MARS
/* CAMERA DATA ELEMENTS */
DETECTOR_TEMPERATURE = 18.1666
FOCAL_PLANE_TEMPERATURE = 8.3794
INST_CMPRS_NAME = "DISCRETE COSINE TRANSFORMATION (DCT)"
INST_CMPRS_RATIO = 7.18558
INST_CMPRS_QUALITY = 0
INST_CMPRS_QUANTZ_TBL_ID = 0
INSTRUMENT_TEMPERATURE = 11.0301
LENS_TEMPERATURE = 8.1755
MACROPIXEL_SIZE = 2
MISSING_FRAMES = 0
PIXEL_SUBSAMPLING_FLAG = N
SIGNAL_CHAIN_ID = 1
/* RADIOMETRIC DATA ELEMENTS */
BANDWIDTH = 178.0
CENTER_FILTER_WAVELENGTH = 679.0
RADIANCE_OFFSET = 2.22808
RADIANCE_SCALING_FACTOR = 0.0115044
REFLECTANCE_SCALING_FACTOR = 0.000278588
MEX:REFLECTANCE_OFFSET = 0.0539544
/* IMAGE OBJECT DEFINITIONS */
OBJECT = IMAGE
  INTERCHANGE_FORMAT = BINARY
  LINES = 27030
  LINE_SAMPLES = 4658
  SAMPLE_TYPE = UNSIGNED_INTEGER
  SAMPLE_BITS = 8
  BANDS = 1
  BAND_STORAGE_TYPE = BAND_SEQUENTIAL
  MAXIMUM = 255
  MEAN = 90.1308
  MINIMUM = 1
  STANDARD_DEVIATION = 32.3404
END_OBJECT = IMAGE
/* MAP OBJECT DEFINITIONS */
OBJECT = IMAGE_MAP_PROJECTION
  ^DATA_SET_MAP_PROJECTION_CATALOG= "DSMAP.CAT"
  A_AXIS_RADIUS = 3396.0
  B_AXIS_RADIUS = 3396.0
  C_AXIS_RADIUS = 3396.0
  CENTER_LATITUDE = 0.0
  CENTER_LONGITUDE = 106.0
  COORDINATE_SYSTEM_NAME = PLANETOGRAPHIC
  COORDINATE_SYSTEM_TYPE = "BODY-FIXED ROTATING"
  EASTERNMOST_LONGITUDE = 107.048
  FIRST_STANDARD_PARALLEL = "N/A"
  LINE_FIRST_PIXEL = 1
  LINE_LAST_PIXEL = 27030
  LINE_PROJECTION_OFFSET = -73446.25
  MAP_PROJECTION_ROTATION = 0.0
  MAP_PROJECTION_TYPE = SINUSOIDAL
  MAP_RESOLUTION = 2370.85521546667
  MAP_SCALE = 0.025
  MAXIMUM_LATITUDE = -30.8901
  MINIMUM_LATITUDE = -42.5346
  POSITIVE_LONGITUDE_DIRECTION = EAST
  REFERENCE_LATITUDE = "N/A"
  REFERENCE_LONGITUDE = "N/A"
  SAMPLE_FIRST_PIXEL = 1
  SAMPLE_LAST_PIXEL = 4658
  SAMPLE_PROJECTION_OFFSET = 2521.25
  SECOND_STANDARD_PARALLEL = "N/A"
  WESTERNMOST_LONGITUDE = 104.51
END_OBJECT = IMAGE_MAP_PROJECTION
END
