PDS_VERSION_ID = PDS3
/* FILE DATA ELEMENTS */
RECORD_TYPE = UNDEFINED
/* POINTERS TO DATA OBJECTS */
^IMAGE = ("HN051_0000_ND4.TIF")
/* IDENTIFICATION DATA ELEMENTS */
DATA_SET_ID = "MEX-M-HRSC-4-REFDR-MAPPROJECT-EXT8-V4.0"
DATA_SET_NAME = "MARS EXPRESS HRSC MAP PROJECTED REFDR EXTENSION8 V4.0"
DETECTOR_ID = MEX_HRSC_NADIR
EVENT_TYPE = "MARS-REGIONAL-MAPPING-Gl-Pf-La"
INSTRUMENT_HOST_ID = MEX
INSTRUMENT_HOST_NAME = "MARS EXPRESS"
INSTRUMENT_ID = HRSC
INSTRUMENT_NAME = "HIGH RESOLUTION STEREO CAMERA"
MISSION_NAME = "MARS EXPRESS"
MISSION_PHASE_NAME = ME_Phase_46
PROCESSING_LEVEL_ID = 4
PRODUCT_CREATION_TIME = 2023-01-28T22:22:56.000Z
PRODUCT_ID = "HN051_0000_ND4.TIF"
RELEASE_ID = 0004
REVISION_ID = 0000
/* QUALITY DATA ELEMENTS */
DATA_QUALITY_ID = 1
DATA_QUALITY_DESC = "Data calculated based on original SPICE kernels"
/* TIME DATA ELEMENTS */
SPACECRAFT_CLOCK_START_COUNT = "1/0596833121.24910"
SPACECRAFT_CLOCK_STOP_COUNT = "1/0596833402.00744"
START_TIME = 2022-03-31T18:59:52.497Z
STOP_TIME = 2022-03-31T19:03:22.506Z
/* ORBITAL DATA ELEMENTS */
ASCENDING_NODE_LONGITUDE = 144.3
MAXIMUM_RESOLUTION = 0.014
FOOTPRINT_POINT_LATITUDE = (-41.4095,-41.4126,-41.4123,-41.4092, -41.4091,-41.4073,-41.1004,-40.7933, -40.4859,-40.1783,-39.8704,-39.5624, -39.2541,-38.9455,-38.6368,-38.3278, -38.0187,-37.7246,-37.2058,-36.6866, -36.1669,-35.5167,-34.996,-34.4751, -34.0841,-33.8235,-33.5627,-33.3018, -33.0409,-32.78,-32.3884,-32.1273, -31.8661,-31.6049,-31.2131,-30.9518, -30.6905,-30.4292,-30.1678,-29.9065, -29.6451,-29.3837,-29.1225,-28.8613, -28.6,-28.3387,-27.9468,-27.816, -27.8035,-27.8011,-27.7959,-27.7908, -27.7906,-27.7907,-28.0522,-28.3137, -28.7057,-28.967,-29.3591,-29.6206, -29.8822,-30.1437,-30.4053,-30.6668, -30.9283,-31.1898,-31.4512,-31.7127, -31.974,-32.2354,-32.4967,-32.7579, -33.0191,-33.2802,-33.5413,-33.8023, -34.0633,-34.3242,-34.585,-34.8457, -35.1063,-35.3669,-35.6274,-36.148, -36.6681,-37.1879,-37.7072,-38.154, -38.4635,-38.7727,-39.0817,-39.3904, -39.699,-40.0073,-40.3155,-40.6234, -40.9311,-41.2384,-41.392,-41.4095)
FOOTPRINT_POINT_LONGITUDE = (67.7802,67.1176,66.5484,65.996,65.979, 66.0065,66.0147,66.023,66.0306,66.0377, 66.0444,66.0504,66.0566,66.0627,66.0685 ,66.074,66.0792,66.0849,66.0926,66.0992 ,66.1056,66.1126,66.1185,66.1227, 66.1253,66.1258,66.1272,66.1287,66.1297 ,66.1302,66.1322,66.1324,66.1329, 66.1336,66.1342,66.1342,66.1341,66.1341 ,66.1338,66.1334,66.133,66.1324,66.1281 ,66.1252,66.1223,66.1207,66.117,66.1177 ,66.1176,66.5838,67.1449,67.5475, 67.5626,67.57,67.5751,67.58,67.5986, 67.6104,67.6251,67.6325,67.6378,67.6426 ,67.6476,67.6521,67.6564,67.6626, 67.6683,67.6728,67.6779,67.6825,67.689, 67.6941,67.7001,67.7054,67.7112,67.7164 ,67.722,67.7279,67.7327,67.7389,67.7453 ,67.7504,67.7548,67.7655,67.7811,67.792 ,67.8058,67.8163,67.8212,67.8257, 67.8356,67.8452,67.8531,67.8609,67.8683 ,67.8756,67.882,67.8939,67.8993, 67.7802)
ORBIT_NUMBER = 23051
ORBITAL_ECCENTRICITY = 0.577
ORBITAL_INCLINATION = 87.01
ORBITAL_SEMIMAJOR_AXIS = 8827.43
PERIAPSIS_ALTITUDE = 345.77
PERIAPSIS_ARGUMENT_ANGLE = 330.33
PERIAPSIS_TIME = 2022-03-31T19:02:56.000Z
SPACECRAFT_ORIENTATION = (0.0,1.0,0.0)
^MEX_ORIENTATION_DESC = "MEX_ORIENTATION_DESC.TXT"
SPACECRAFT_POINTING_MODE = ACROSSTRACK
^MEX_POINTING_DESC = "MEX_POINTING_DESC.TXT"
RIGHT_ASCENSION = -1e+32
DECLINATION = -1e+32
OFFSET_ANGLE = -1.27
SPACECRAFT_SOLAR_DISTANCE = 2.13345e+08
TARGET_NAME = MARS
/* CAMERA DATA ELEMENTS */
DETECTOR_TEMPERATURE = 18.1666
FOCAL_PLANE_TEMPERATURE = 9.195
INST_CMPRS_NAME = "DISCRETE COSINE TRANSFORMATION (DCT)"
INST_CMPRS_RATIO = 5.798
INST_CMPRS_QUALITY = 0
INST_CMPRS_QUANTZ_TBL_ID = 0
INSTRUMENT_TEMPERATURE = 11.0301
LENS_TEMPERATURE = 8.3794
MACROPIXEL_SIZE = 1
MISSING_FRAMES = 0
PIXEL_SUBSAMPLING_FLAG = N
SIGNAL_CHAIN_ID = 0
/* RADIOMETRIC DATA ELEMENTS */
BANDWIDTH = 177.0
CENTER_FILTER_WAVELENGTH = 677.5
RADIANCE_OFFSET = 1.71371
RADIANCE_SCALING_FACTOR = 0.00465261
REFLECTANCE_SCALING_FACTOR = 0.000112499
MEX:REFLECTANCE_OFFSET = 0.0414372
/* IMAGE OBJECT DEFINITIONS */
OBJECT = IMAGE
  INTERCHANGE_FORMAT = BINARY
  LINES = 64585
  LINE_SAMPLES = 6903
  SAMPLE_TYPE = UNSIGNED_INTEGER
  SAMPLE_BITS = 8
  BANDS = 1
  BAND_STORAGE_TYPE = BAND_SEQUENTIAL
  MAXIMUM = 254
  MEAN = 158.921
  MINIMUM = 1
  STANDARD_DEVIATION = 41.592
END_OBJECT = IMAGE
/* MAP OBJECT DEFINITIONS */
OBJECT = IMAGE_MAP_PROJECTION
  ^DATA_SET_MAP_PROJECTION_CATALOG= "DSMAP.CAT"
  A_AXIS_RADIUS = 3396.0
  B_AXIS_RADIUS = 3396.0
  C_AXIS_RADIUS = 3396.0
  CENTER_LATITUDE = 0.0
  CENTER_LONGITUDE = 67.0
  COORDINATE_SYSTEM_NAME = PLANETOGRAPHIC
  COORDINATE_SYSTEM_TYPE = "BODY-FIXED ROTATING"
  EASTERNMOST_LONGITUDE = 67.8993
  FIRST_STANDARD_PARALLEL = "N/A"
  LINE_FIRST_PIXEL = 1
  LINE_LAST_PIXEL = 64585
  LINE_PROJECTION_OFFSET = -131776.0
  MAP_PROJECTION_ROTATION = 0.0
  MAP_PROJECTION_TYPE = SINUSOIDAL
  MAP_RESOLUTION = 4741.71043093333
  MAP_SCALE = 0.0125
  MAXIMUM_LATITUDE = -27.7906
  MINIMUM_LATITUDE = -41.4126
  POSITIVE_LONGITUDE_DIRECTION = EAST
  REFERENCE_LATITUDE = "N/A"
  REFERENCE_LONGITUDE = "N/A"
  SAMPLE_FIRST_PIXEL = 1
  SAMPLE_LAST_PIXEL = 6903
  SAMPLE_PROJECTION_OFFSET = 3702.0
  SECOND_STANDARD_PARALLEL = "N/A"
  WESTERNMOST_LONGITUDE = 65.979
END_OBJECT = IMAGE_MAP_PROJECTION
END
