PDS_VERSION_ID = PDS3
/* FILE DATA ELEMENTS */
RECORD_TYPE = UNDEFINED
/* POINTERS TO DATA OBJECTS */
^IMAGE = ("HN065_0000_P14.TIF")
/* IDENTIFICATION DATA ELEMENTS */
DATA_SET_ID = "MEX-M-HRSC-4-REFDR-MAPPROJECT-EXT8-V4.0"
DATA_SET_NAME = "MARS EXPRESS HRSC MAP PROJECTED REFDR EXTENSION8 V4.0"
DETECTOR_ID = MEX_HRSC_P1
EVENT_TYPE = "MARS-REGIONAL-MAPPING-Vo-Im-Fl"
INSTRUMENT_HOST_ID = MEX
INSTRUMENT_HOST_NAME = "MARS EXPRESS"
INSTRUMENT_ID = HRSC
INSTRUMENT_NAME = "HIGH RESOLUTION STEREO CAMERA"
MISSION_NAME = "MARS EXPRESS"
MISSION_PHASE_NAME = ME_Phase_46
PROCESSING_LEVEL_ID = 4
PRODUCT_CREATION_TIME = 2023-01-28T22:22:56.000Z
PRODUCT_ID = "HN065_0000_P14.TIF"
RELEASE_ID = 0004
REVISION_ID = 0000
/* QUALITY DATA ELEMENTS */
DATA_QUALITY_ID = 1
DATA_QUALITY_DESC = "Data calculated based on original SPICE kernels"
/* TIME DATA ELEMENTS */
SPACECRAFT_CLOCK_START_COUNT = "1/0597185407.25688"
SPACECRAFT_CLOCK_STOP_COUNT = "1/0597185804.09221"
START_TIME = 2022-04-04T20:51:40.290Z
STOP_TIME = 2022-04-04T20:56:55.008Z
/* ORBITAL DATA ELEMENTS */
ASCENDING_NODE_LONGITUDE = 144.08
MAXIMUM_RESOLUTION = 0.0316
FOOTPRINT_POINT_LATITUDE = (-20.8976,-20.9283,-20.9599,-20.9988, -20.9999,-21.0079,-20.4945,-19.9884, -19.1494,-18.1424,-17.8033,-17.4616, -17.1201,-16.608,-16.2619,-15.9129, -15.5656,-15.2178,-14.864,-14.5067, -14.1533,-13.6185,-13.2576,-12.8982, -12.5341,-12.1673,-11.8015,-11.4307, -11.0581,-10.6863,-10.307,-9.73932, -9.16474,-8.78076,-8.39069,-8.00093, -7.60602,-7.21098,-6.80921,-6.41242, -6.00132,-5.59463,-4.98514,-4.56996, -4.15231,-3.72591,-3.29662,-2.65401, -2.43642,-2.39949,-2.36596,-2.32671, -2.29518,-2.24903,-2.24771,-2.24786, -2.68204,-3.11228,-3.53944,-3.96437, -4.38296,-5.00637,-5.41887,-5.82812, -6.23578,-6.63809,-7.23521,-7.63607, -8.029,-8.41995,-9.00117,-9.38645, -9.95914,-10.5277,-10.8989,-11.2736, -11.6453,-12.0126,-12.3855,-12.746, -13.1068,-13.4687,-13.8304,-14.1838, -14.539,-14.895,-15.2467,-15.5949, -15.9439,-16.4663,-16.8075,-17.3212, -17.6634,-18.0047,-18.6744,-19.5179, -20.3641,-20.7029,-20.874,-20.8976)
FOOTPRINT_POINT_LONGITUDE = (74.1621,73.699,73.2118,72.5988,72.5821 ,72.5597,72.5756,72.5781,72.5769, 72.5826,72.5818,72.5803,72.5794,72.5793 ,72.5779,72.5772,72.5747,72.5738, 72.5726,72.5749,72.5711,72.5639,72.5606 ,72.5557,72.5518,72.547,72.5415,72.5368 ,72.5308,72.5246,72.5198,72.51,72.4958, 72.4881,72.4784,72.4693,72.4595,72.4484 ,72.4405,72.4223,72.4191,72.4066, 72.3742,72.36,72.3454,72.3351,72.326, 72.299,72.2906,72.2895,72.73,73.2419, 73.679,74.3344,74.3533,74.3601,74.3568, 74.3532,74.3495,74.346,74.3428,74.338, 74.3353,74.331,74.3272,74.3238,74.3202, 74.3143,74.3109,74.3075,74.3019,74.2986 ,74.2921,74.2872,74.2846,74.28,74.2763, 74.2721,74.2641,74.2641,74.26,74.2557, 74.251,74.2478,74.2435,74.2392,74.2341, 74.23,74.2257,74.2194,74.2155,74.2088, 74.2052,74.2005,74.1928,74.1794,74.1661 ,74.1612,74.157,74.1621)
ORBIT_NUMBER = 23065
ORBITAL_ECCENTRICITY = 0.577
ORBITAL_INCLINATION = 87.02
ORBITAL_SEMIMAJOR_AXIS = 8823.97
PERIAPSIS_ALTITUDE = 344.62
PERIAPSIS_ARGUMENT_ANGLE = 327.9
PERIAPSIS_TIME = 2022-04-04T20:48:26.000Z
SPACECRAFT_ORIENTATION = (0.0,1.0,0.0)
^MEX_ORIENTATION_DESC = "MEX_ORIENTATION_DESC.TXT"
SPACECRAFT_POINTING_MODE = ACROSSTRACK
^MEX_POINTING_DESC = "MEX_POINTING_DESC.TXT"
RIGHT_ASCENSION = -1e+32
DECLINATION = -1e+32
OFFSET_ANGLE = 2.1
SPACECRAFT_SOLAR_DISTANCE = 2.12739e+08
TARGET_NAME = MARS
/* CAMERA DATA ELEMENTS */
DETECTOR_TEMPERATURE = 17.351
FOCAL_PLANE_TEMPERATURE = 8.5833
INST_CMPRS_NAME = "DISCRETE COSINE TRANSFORMATION (DCT)"
INST_CMPRS_RATIO = 16.4612
INST_CMPRS_QUALITY = 0
INST_CMPRS_QUANTZ_TBL_ID = 0
INSTRUMENT_TEMPERATURE = 11.0301
LENS_TEMPERATURE = 6.9521
MACROPIXEL_SIZE = 2
MISSING_FRAMES = 0
PIXEL_SUBSAMPLING_FLAG = N
SIGNAL_CHAIN_ID = 3
/* RADIOMETRIC DATA ELEMENTS */
BANDWIDTH = 174.0
CENTER_FILTER_WAVELENGTH = 675.0
RADIANCE_OFFSET = 1.74277
RADIANCE_SCALING_FACTOR = 0.00730302
REFLECTANCE_SCALING_FACTOR = 0.000177778
MEX:REFLECTANCE_OFFSET = 0.0424244
/* IMAGE OBJECT DEFINITIONS */
OBJECT = IMAGE
  INTERCHANGE_FORMAT = BINARY
  LINES = 44220
  LINE_SAMPLES = 4663
  SAMPLE_TYPE = UNSIGNED_INTEGER
  SAMPLE_BITS = 8
  BANDS = 1
  BAND_STORAGE_TYPE = BAND_SEQUENTIAL
  MAXIMUM = 255
  MEAN = 156.844
  MINIMUM = 1
  STANDARD_DEVIATION = 32.7149
END_OBJECT = IMAGE
/* MAP OBJECT DEFINITIONS */
OBJECT = IMAGE_MAP_PROJECTION
  ^DATA_SET_MAP_PROJECTION_CATALOG= "DSMAP.CAT"
  A_AXIS_RADIUS = 3396.0
  B_AXIS_RADIUS = 3396.0
  C_AXIS_RADIUS = 3396.0
  CENTER_LATITUDE = 0.0
  CENTER_LONGITUDE = 73.0
  COORDINATE_SYSTEM_NAME = PLANETOGRAPHIC
  COORDINATE_SYSTEM_TYPE = "BODY-FIXED ROTATING"
  EASTERNMOST_LONGITUDE = 74.3601
  FIRST_STANDARD_PARALLEL = "N/A"
  LINE_FIRST_PIXEL = 1
  LINE_LAST_PIXEL = 44220
  LINE_PROJECTION_OFFSET = -5486.25
  MAP_PROJECTION_ROTATION = 0.0
  MAP_PROJECTION_TYPE = SINUSOIDAL
  MAP_RESOLUTION = 2370.85521546667
  MAP_SCALE = 0.025
  MAXIMUM_LATITUDE = -2.24771
  MINIMUM_LATITUDE = -21.0079
  POSITIVE_LONGITUDE_DIRECTION = EAST
  REFERENCE_LATITUDE = "N/A"
  REFERENCE_LONGITUDE = "N/A"
  SAMPLE_FIRST_PIXEL = 1
  SAMPLE_LAST_PIXEL = 4663
  SAMPLE_PROJECTION_OFFSET = 1545.75
  SECOND_STANDARD_PARALLEL = "N/A"
  WESTERNMOST_LONGITUDE = 72.2895
END_OBJECT = IMAGE_MAP_PROJECTION
END
