PDS_VERSION_ID = PDS3
/* FILE DATA ELEMENTS */
RECORD_TYPE = UNDEFINED
/* POINTERS TO DATA OBJECTS */
^IMAGE = ("HN067_0000_GR4.TIF")
/* IDENTIFICATION DATA ELEMENTS */
DATA_SET_ID = "MEX-M-HRSC-4-REFDR-MAPPROJECT-EXT8-V4.0"
DATA_SET_NAME = "MARS EXPRESS HRSC MAP PROJECTED REFDR EXTENSION8 V4.0"
DETECTOR_ID = MEX_HRSC_GREEN
EVENT_TYPE = "MARS-LOCAL-CARTOGRAPHY-Vo-Im"
INSTRUMENT_HOST_ID = MEX
INSTRUMENT_HOST_NAME = "MARS EXPRESS"
INSTRUMENT_ID = HRSC
INSTRUMENT_NAME = "HIGH RESOLUTION STEREO CAMERA"
MISSION_NAME = "MARS EXPRESS"
MISSION_PHASE_NAME = ME_Phase_46
PROCESSING_LEVEL_ID = 4
PRODUCT_CREATION_TIME = 2023-01-28T22:22:56.000Z
PRODUCT_ID = "HN067_0000_GR4.TIF"
RELEASE_ID = 0004
REVISION_ID = 0000
/* QUALITY DATA ELEMENTS */
DATA_QUALITY_ID = 1
DATA_QUALITY_DESC = "Data calculated based on original SPICE kernels"
/* TIME DATA ELEMENTS */
SPACECRAFT_CLOCK_START_COUNT = "1/0597235303.25661"
SPACECRAFT_CLOCK_STOP_COUNT = "1/0597235641.18129"
START_TIME = 2022-04-05T10:43:01.008Z
STOP_TIME = 2022-04-05T10:47:27.222Z
/* ORBITAL DATA ELEMENTS */
ASCENDING_NODE_LONGITUDE = 144.05
MAXIMUM_RESOLUTION = 0.0547
FOOTPRINT_POINT_LATITUDE = (-45.5077,-45.4993,-45.4899,-45.4781, -45.4777,-45.4836,-45.0895,-44.4946, -44.0982,-43.7015,-43.3042,-42.7085, -42.1403,-41.4733,-41.1384,-40.3028, -39.8011,-39.299,-38.9641,-38.628, -38.293,-37.9569,-37.4539,-37.1186, -36.6158,-36.279,-35.7682,-35.4322, -35.0961,-34.7601,-34.4239,-34.0879, -33.7518,-33.4157,-33.0795,-32.5755, -32.2394,-31.9036,-31.5677,-31.2319, -30.8961,-30.5605,-30.2249,-29.7216, -29.3863,-29.0511,-28.716,-28.3811, -28.2137,-28.2051,-28.2102,-28.2108, -28.2108,-28.2117,-28.5469,-28.8822, -29.2177,-29.5533,-29.8891,-30.2249, -30.5608,-30.8968,-31.2329,-31.5691, -31.9053,-32.2416,-32.578,-32.9144, -33.2509,-33.5873,-33.9238,-34.2603, -34.5968,-35.1015,-35.4378,-35.7744, -36.1178,-36.4541,-36.7904,-37.1266, -37.6308,-37.9668,-38.3027,-38.6387, -38.9744,-39.3098,-39.8131,-40.3157, -40.9856,-41.4878,-42.1573,-42.7244, -43.1223,-43.7191,-44.1166,-44.5137, -44.9105,-45.3069,-45.5049,-45.5077)
FOOTPRINT_POINT_LONGITUDE = (233.216,232.463,231.902,231.351, 231.334,231.335,231.355,231.383,231.401 ,231.418,231.435,231.459,231.479, 231.503,231.513,231.539,231.554,231.568 ,231.576,231.584,231.592,231.599,231.61 ,231.617,231.627,231.632,231.64,231.645 ,231.65,231.654,231.658,231.662,231.666 ,231.669,231.672,231.676,231.678, 231.681,231.682,231.684,231.685,231.686 ,231.687,231.688,231.688,231.689, 231.688,231.688,231.688,231.688,232.584 ,233.06,233.074,233.078,233.081,233.084 ,233.087,233.09,233.094,233.097,233.1, 233.103,233.106,233.109,233.113,233.116 ,233.119,233.123,233.126,233.129, 233.133,233.136,233.14,233.145,233.148, 233.152,233.156,233.16,233.163,233.167, 233.172,233.176,233.179,233.183,233.187 ,233.19,233.196,233.2,233.207,233.213, 233.225,233.234,233.236,233.243,233.247 ,233.252,233.256,233.26,233.262, 233.216)
ORBIT_NUMBER = 23067
ORBITAL_ECCENTRICITY = 0.577
ORBITAL_INCLINATION = 87.01
ORBITAL_SEMIMAJOR_AXIS = 8823.22
PERIAPSIS_ALTITUDE = 344.66
PERIAPSIS_ARGUMENT_ANGLE = 327.54
PERIAPSIS_TIME = 2022-04-05T10:46:18.000Z
SPACECRAFT_ORIENTATION = (0.0,1.0,0.0)
^MEX_ORIENTATION_DESC = "MEX_ORIENTATION_DESC.TXT"
SPACECRAFT_POINTING_MODE = ACROSSTRACK
^MEX_POINTING_DESC = "MEX_POINTING_DESC.TXT"
RIGHT_ASCENSION = -1e+32
DECLINATION = -1e+32
OFFSET_ANGLE = -0.808
SPACECRAFT_SOLAR_DISTANCE = 2.12654e+08
TARGET_NAME = MARS
/* CAMERA DATA ELEMENTS */
DETECTOR_TEMPERATURE = 18.1666
FOCAL_PLANE_TEMPERATURE = 7.9716
INST_CMPRS_NAME = "DISCRETE COSINE TRANSFORMATION (DCT)"
INST_CMPRS_RATIO = 6.66244
INST_CMPRS_QUALITY = 0
INST_CMPRS_QUANTZ_TBL_ID = 0
INSTRUMENT_TEMPERATURE = 11.0301
LENS_TEMPERATURE = 6.5443
MACROPIXEL_SIZE = 4
MISSING_FRAMES = 1
PIXEL_SUBSAMPLING_FLAG = N
SIGNAL_CHAIN_ID = 2
/* RADIOMETRIC DATA ELEMENTS */
BANDWIDTH = 88.0
CENTER_FILTER_WAVELENGTH = 538.0
RADIANCE_OFFSET = 0.747977
RADIANCE_SCALING_FACTOR = 0.00283862
REFLECTANCE_SCALING_FACTOR = 0.000110521
MEX:REFLECTANCE_OFFSET = 0.0291223
/* IMAGE OBJECT DEFINITIONS */
OBJECT = IMAGE
  INTERCHANGE_FORMAT = BINARY
  LINES = 20521
  LINE_SAMPLES = 1692
  SAMPLE_TYPE = UNSIGNED_INTEGER
  SAMPLE_BITS = 8
  BANDS = 1
  BAND_STORAGE_TYPE = BAND_SEQUENTIAL
  MAXIMUM = 255
  MEAN = 99.0041
  MINIMUM = 1
  STANDARD_DEVIATION = 21.3565
END_OBJECT = IMAGE
/* MAP OBJECT DEFINITIONS */
OBJECT = IMAGE_MAP_PROJECTION
  ^DATA_SET_MAP_PROJECTION_CATALOG= "DSMAP.CAT"
  A_AXIS_RADIUS = 3396.0
  B_AXIS_RADIUS = 3396.0
  C_AXIS_RADIUS = 3396.0
  CENTER_LATITUDE = 0.0
  CENTER_LONGITUDE = 232.0
  COORDINATE_SYSTEM_NAME = PLANETOGRAPHIC
  COORDINATE_SYSTEM_TYPE = "BODY-FIXED ROTATING"
  EASTERNMOST_LONGITUDE = 233.262
  FIRST_STANDARD_PARALLEL = "N/A"
  LINE_FIRST_PIXEL = 1
  LINE_LAST_PIXEL = 20521
  LINE_PROJECTION_OFFSET = -33439.375
  MAP_PROJECTION_ROTATION = 0.0
  MAP_PROJECTION_TYPE = SINUSOIDAL
  MAP_RESOLUTION = 1185.42760773333
  MAP_SCALE = 0.05
  MAXIMUM_LATITUDE = -28.2051
  MINIMUM_LATITUDE = -45.5077
  POSITIVE_LONGITUDE_DIRECTION = EAST
  REFERENCE_LATITUDE = "N/A"
  REFERENCE_LONGITUDE = "N/A"
  SAMPLE_FIRST_PIXEL = 1
  SAMPLE_LAST_PIXEL = 1692
  SAMPLE_PROJECTION_OFFSET = 565.625
  SECOND_STANDARD_PARALLEL = "N/A"
  WESTERNMOST_LONGITUDE = 231.334
END_OBJECT = IMAGE_MAP_PROJECTION
END
