PDS_VERSION_ID = PDS3
/* FILE DATA ELEMENTS */
RECORD_TYPE = UNDEFINED
/* POINTERS TO DATA OBJECTS */
^IMAGE = ("HN068_0009_GR4.TIF")
/* IDENTIFICATION DATA ELEMENTS */
DATA_SET_ID = "MEX-M-HRSC-4-REFDR-MAPPROJECT-EXT8-V4.0"
DATA_SET_NAME = "MARS EXPRESS HRSC MAP PROJECTED REFDR EXTENSION8 V4.0"
DETECTOR_ID = MEX_HRSC_GREEN
EVENT_TYPE = "MARS-REGIONAL-MAPPING-Im-Fl-Eo"
INSTRUMENT_HOST_ID = MEX
INSTRUMENT_HOST_NAME = "MARS EXPRESS"
INSTRUMENT_ID = HRSC
INSTRUMENT_NAME = "HIGH RESOLUTION STEREO CAMERA"
MISSION_NAME = "MARS EXPRESS"
MISSION_PHASE_NAME = ME_Phase_46
PROCESSING_LEVEL_ID = 4
PRODUCT_CREATION_TIME = 2023-01-28T22:22:56.000Z
PRODUCT_ID = "HN068_0009_GR4.TIF"
RELEASE_ID = 0004
REVISION_ID = 0000
/* QUALITY DATA ELEMENTS */
DATA_QUALITY_ID = 1
DATA_QUALITY_DESC = "Data calculated based on original SPICE kernels"
/* TIME DATA ELEMENTS */
SPACECRAFT_CLOCK_START_COUNT = "1/0597260759.25679"
SPACECRAFT_CLOCK_STOP_COUNT = "1/0597261151.16258"
START_TIME = 2022-04-05T17:47:10.528Z
STOP_TIME = 2022-04-05T17:52:21.220Z
/* ORBITAL DATA ELEMENTS */
ASCENDING_NODE_LONGITUDE = 144.03
MAXIMUM_RESOLUTION = 0.0562
FOOTPRINT_POINT_LATITUDE = (-25.8074,-25.8078,-25.8049,-25.8048, -25.8053,-25.2805,-24.7553,-24.4065, -24.0579,-23.3612,-22.6659,-21.9715, -21.2782,-20.6898,-20.2775,-19.8657, -19.4544,-19.0438,-18.6336,-18.2241, -17.8152,-17.407,-16.9992,-16.5943, -16.1883,-15.579,-15.1744,-14.7708, -14.3687,-13.765,-13.3638,-12.9634, -12.3629,-11.7577,-11.3612,-10.7669, -10.3724,-9.97849,-9.58518,-9.19284, -8.8017,-8.21613,-7.82654,-7.43729, -7.04999,-6.66375,-6.47102,-6.40904, -6.40427,-6.39478,-6.38642,-6.38618, -6.38705,-6.77322,-7.15986,-7.5488, -7.93847,-8.32842,-8.71947,-9.11162, -9.5045,-9.89805,-10.2926,-10.6879, -11.0838,-11.4809,-11.8788,-12.2861, -12.6862,-13.0865,-13.4877,-13.8898, -14.2923,-14.6958,-15.1,-15.5048, -15.9103,-16.3167,-16.7236,-17.13, -17.5381,-17.949,-18.5629,-18.9731, -19.3845,-19.796,-20.4135,-20.8268, -21.22,-21.7404,-22.2618,-22.9568, -23.6535,-24.1771,-24.5266,-24.8764, -25.2269,-25.5769,-25.7521,-25.8074)
FOOTPRINT_POINT_LONGITUDE = (129.972,129.531,128.637,128.624, 128.618,128.619,128.621,128.62,128.619, 128.617,128.613,128.609,128.605,128.601 ,128.597,128.593,128.589,128.585, 128.581,128.576,128.57,128.565,128.559, 128.549,128.542,128.534,128.527,128.519 ,128.51,128.499,128.49,128.482,128.471, 128.457,128.446,128.431,128.42,128.409, 128.398,128.387,128.375,128.358,128.346 ,128.336,128.324,128.311,128.304, 128.302,128.668,129.368,129.99,130.006, 130.011,130.009,130.006,130.006,130.005 ,130.003,130.002,130.001,130.0,129.998, 129.997,129.996,129.994,129.993,129.992 ,129.992,129.992,129.991,129.991,129.99 ,129.989,129.989,129.988,129.987, 129.987,129.987,129.986,129.983,129.982 ,129.986,129.984,129.983,129.984, 129.983,129.981,129.981,129.981,129.981 ,129.981,129.978,129.976,129.976, 129.975,129.975,129.976,129.975,129.975 ,129.972)
ORBIT_NUMBER = 23068
ORBITAL_ECCENTRICITY = 0.577
ORBITAL_INCLINATION = 86.99
ORBITAL_SEMIMAJOR_AXIS = 8823.11
PERIAPSIS_ALTITUDE = 345.33
PERIAPSIS_ARGUMENT_ANGLE = 327.4
PERIAPSIS_TIME = 2022-04-05T17:45:22.000Z
SPACECRAFT_ORIENTATION = (0.0,1.0,0.0)
^MEX_ORIENTATION_DESC = "MEX_ORIENTATION_DESC.TXT"
SPACECRAFT_POINTING_MODE = NADIR
^MEX_POINTING_DESC = "MEX_POINTING_DESC.TXT"
RIGHT_ASCENSION = -1e+32
DECLINATION = -1e+32
OFFSET_ANGLE = -1e+32
SPACECRAFT_SOLAR_DISTANCE = 2.12612e+08
TARGET_NAME = MARS
/* CAMERA DATA ELEMENTS */
DETECTOR_TEMPERATURE = 18.7783
FOCAL_PLANE_TEMPERATURE = 7.9716
INST_CMPRS_NAME = "DISCRETE COSINE TRANSFORMATION (DCT)"
INST_CMPRS_RATIO = 46.6271
INST_CMPRS_QUALITY = 0
INST_CMPRS_QUANTZ_TBL_ID = 0
INSTRUMENT_TEMPERATURE = 11.4379
LENS_TEMPERATURE = 8.5833
MACROPIXEL_SIZE = 4
MISSING_FRAMES = 1
PIXEL_SUBSAMPLING_FLAG = N
SIGNAL_CHAIN_ID = 2
/* RADIOMETRIC DATA ELEMENTS */
BANDWIDTH = 88.0
CENTER_FILTER_WAVELENGTH = 538.0
RADIANCE_OFFSET = 0.774239
RADIANCE_SCALING_FACTOR = 0.000316518
REFLECTANCE_SCALING_FACTOR = 1.23186e-05
MEX:REFLECTANCE_OFFSET = 0.0301326
/* IMAGE OBJECT DEFINITIONS */
OBJECT = IMAGE
  INTERCHANGE_FORMAT = BINARY
  LINES = 23021
  LINE_SAMPLES = 2001
  SAMPLE_TYPE = UNSIGNED_INTEGER
  SAMPLE_BITS = 8
  BANDS = 1
  BAND_STORAGE_TYPE = BAND_SEQUENTIAL
  MAXIMUM = 255
  MEAN = 254.907
  MINIMUM = 26
  STANDARD_DEVIATION = 2.77882
END_OBJECT = IMAGE
/* MAP OBJECT DEFINITIONS */
OBJECT = IMAGE_MAP_PROJECTION
  ^DATA_SET_MAP_PROJECTION_CATALOG= "DSMAP.CAT"
  A_AXIS_RADIUS = 3396.0
  B_AXIS_RADIUS = 3396.0
  C_AXIS_RADIUS = 3396.0
  CENTER_LATITUDE = 0.0
  CENTER_LONGITUDE = 129.0
  COORDINATE_SYSTEM_NAME = PLANETOGRAPHIC
  COORDINATE_SYSTEM_TYPE = "BODY-FIXED ROTATING"
  EASTERNMOST_LONGITUDE = 130.011
  FIRST_STANDARD_PARALLEL = "N/A"
  LINE_FIRST_PIXEL = 1
  LINE_LAST_PIXEL = 23021
  LINE_PROJECTION_OFFSET = -7576.125
  MAP_PROJECTION_ROTATION = 0.0
  MAP_PROJECTION_TYPE = SINUSOIDAL
  MAP_RESOLUTION = 1185.42760773333
  MAP_SCALE = 0.05
  MAXIMUM_LATITUDE = -6.38618
  MINIMUM_LATITUDE = -25.8078
  POSITIVE_LONGITUDE_DIRECTION = EAST
  REFERENCE_LATITUDE = "N/A"
  REFERENCE_LONGITUDE = "N/A"
  SAMPLE_FIRST_PIXEL = 1
  SAMPLE_LAST_PIXEL = 2001
  SAMPLE_PROJECTION_OFFSET = 820.625
  SECOND_STANDARD_PARALLEL = "N/A"
  WESTERNMOST_LONGITUDE = 128.302
END_OBJECT = IMAGE_MAP_PROJECTION
END
