PDS_VERSION_ID = PDS3
/* FILE DATA ELEMENTS */
RECORD_TYPE = UNDEFINED
/* POINTERS TO DATA OBJECTS */
^IMAGE = ("HN068_0009_IR4.TIF")
/* IDENTIFICATION DATA ELEMENTS */
DATA_SET_ID = "MEX-M-HRSC-4-REFDR-MAPPROJECT-EXT8-V4.0"
DATA_SET_NAME = "MARS EXPRESS HRSC MAP PROJECTED REFDR EXTENSION8 V4.0"
DETECTOR_ID = MEX_HRSC_IR
EVENT_TYPE = "MARS-REGIONAL-MAPPING-Im-Fl-Eo"
INSTRUMENT_HOST_ID = MEX
INSTRUMENT_HOST_NAME = "MARS EXPRESS"
INSTRUMENT_ID = HRSC
INSTRUMENT_NAME = "HIGH RESOLUTION STEREO CAMERA"
MISSION_NAME = "MARS EXPRESS"
MISSION_PHASE_NAME = ME_Phase_46
PROCESSING_LEVEL_ID = 4
PRODUCT_CREATION_TIME = 2023-01-28T22:22:56.000Z
PRODUCT_ID = "HN068_0009_IR4.TIF"
RELEASE_ID = 0004
REVISION_ID = 0000
/* QUALITY DATA ELEMENTS */
DATA_QUALITY_ID = 1
DATA_QUALITY_DESC = "Data calculated based on original SPICE kernels"
/* TIME DATA ELEMENTS */
SPACECRAFT_CLOCK_START_COUNT = "1/0597260759.25679"
SPACECRAFT_CLOCK_STOP_COUNT = "1/0597261151.16258"
START_TIME = 2022-04-05T17:47:31.903Z
STOP_TIME = 2022-04-05T17:52:54.562Z
/* ORBITAL DATA ELEMENTS */
ASCENDING_NODE_LONGITUDE = 144.03
MAXIMUM_RESOLUTION = 0.0594
FOOTPRINT_POINT_LATITUDE = (-25.7895,-25.7901,-25.7894,-25.7893, -25.7961,-25.2667,-24.7339,-24.3851, -24.0359,-23.6867,-23.3378,-22.6426, -22.0406,-21.6265,-21.2133,-20.8009, -20.3895,-19.9789,-19.569,-18.9559, -18.3438,-17.9383,-17.3305,-16.9278, -16.5345,-16.1347,-15.5289,-15.1294, -14.7329,-14.1399,-13.7459,-13.3522, -12.96,-12.5614,-12.171,-11.7815, -11.397,-11.0083,-10.6258,-10.0535, -9.67162,-9.28301,-8.71658,-8.33926, -7.96145,-7.39317,-7.02089,-6.6499, -6.46465,-6.41041,-6.39575,-6.38551, -6.3853,-6.38611,-6.7568,-7.12504, -7.5029,-7.88094,-8.25708,-8.63471, -9.01531,-9.5939,-9.97543,-10.5509, -11.1274,-11.514,-11.9024,-12.2972, -12.6897,-13.0817,-13.4759,-13.8701, -14.2649,-14.8607,-15.2588,-15.6568, -16.0583,-16.4602,-16.8607,-17.2583, -17.6636,-18.0799,-18.4813,-19.0947, -19.5039,-19.9139,-20.5258,-20.9394, -21.5601,-21.9745,-22.5861,-23.1074, -23.4552,-23.8085,-24.3313,-24.8602, -25.2148,-25.5667,-25.7434,-25.7895)
FOOTPRINT_POINT_LONGITUDE = (129.985,129.485,128.626,128.613, 128.607,128.607,128.609,128.607,128.606 ,128.604,128.602,128.598,128.594, 128.591,128.587,128.584,128.58,128.575, 128.571,128.563,128.556,128.55,128.541, 128.534,128.524,128.516,128.507,128.5, 128.491,128.478,128.469,128.46,128.451, 128.444,128.434,128.424,128.413,128.403 ,128.391,128.373,128.362,128.35,128.332 ,128.319,128.307,128.29,128.277,128.264 ,128.257,128.255,129.078,130.037, 130.054,130.06,130.056,130.052,130.051, 130.049,130.047,130.044,130.042,130.039 ,130.037,130.033,130.03,130.027,130.026 ,130.026,130.025,130.023,130.022, 130.021,130.019,130.017,130.016,130.014 ,130.013,130.012,130.01,130.006,130.006 ,130.009,130.006,130.005,130.004, 130.003,130.0,129.999,129.998,129.997, 129.995,129.993,129.992,129.992,129.99, 129.989,129.989,129.988,129.987, 129.985)
ORBIT_NUMBER = 23068
ORBITAL_ECCENTRICITY = 0.577
ORBITAL_INCLINATION = 86.99
ORBITAL_SEMIMAJOR_AXIS = 8823.11
PERIAPSIS_ALTITUDE = 345.33
PERIAPSIS_ARGUMENT_ANGLE = 327.4
PERIAPSIS_TIME = 2022-04-05T17:45:22.000Z
SPACECRAFT_ORIENTATION = (0.0,1.0,0.0)
^MEX_ORIENTATION_DESC = "MEX_ORIENTATION_DESC.TXT"
SPACECRAFT_POINTING_MODE = NADIR
^MEX_POINTING_DESC = "MEX_POINTING_DESC.TXT"
RIGHT_ASCENSION = -1e+32
DECLINATION = -1e+32
OFFSET_ANGLE = -1e+32
SPACECRAFT_SOLAR_DISTANCE = 2.12612e+08
TARGET_NAME = MARS
/* CAMERA DATA ELEMENTS */
DETECTOR_TEMPERATURE = 17.7588
FOCAL_PLANE_TEMPERATURE = 7.9716
INST_CMPRS_NAME = "DISCRETE COSINE TRANSFORMATION (DCT)"
INST_CMPRS_RATIO = 6.02652
INST_CMPRS_QUALITY = 0
INST_CMPRS_QUANTZ_TBL_ID = 0
INSTRUMENT_TEMPERATURE = 11.4379
LENS_TEMPERATURE = 8.5833
MACROPIXEL_SIZE = 4
MISSING_FRAMES = 1
PIXEL_SUBSAMPLING_FLAG = N
SIGNAL_CHAIN_ID = 2
/* RADIOMETRIC DATA ELEMENTS */
BANDWIDTH = 81.0
CENTER_FILTER_WAVELENGTH = 955.5
RADIANCE_OFFSET = 0.383228
RADIANCE_SCALING_FACTOR = 0.00122682
REFLECTANCE_SCALING_FACTOR = 0.000119641
MEX:REFLECTANCE_OFFSET = 0.037373
/* IMAGE OBJECT DEFINITIONS */
OBJECT = IMAGE
  INTERCHANGE_FORMAT = BINARY
  LINES = 23021
  LINE_SAMPLES = 2001
  SAMPLE_TYPE = UNSIGNED_INTEGER
  SAMPLE_BITS = 8
  BANDS = 1
  BAND_STORAGE_TYPE = BAND_SEQUENTIAL
  MAXIMUM = 255
  MEAN = 138.715
  MINIMUM = 1
  STANDARD_DEVIATION = 36.9878
END_OBJECT = IMAGE
/* MAP OBJECT DEFINITIONS */
OBJECT = IMAGE_MAP_PROJECTION
  ^DATA_SET_MAP_PROJECTION_CATALOG= "DSMAP.CAT"
  A_AXIS_RADIUS = 3396.0
  B_AXIS_RADIUS = 3396.0
  C_AXIS_RADIUS = 3396.0
  CENTER_LATITUDE = 0.0
  CENTER_LONGITUDE = 129.0
  COORDINATE_SYSTEM_NAME = PLANETOGRAPHIC
  COORDINATE_SYSTEM_TYPE = "BODY-FIXED ROTATING"
  EASTERNMOST_LONGITUDE = 130.06
  FIRST_STANDARD_PARALLEL = "N/A"
  LINE_FIRST_PIXEL = 1
  LINE_LAST_PIXEL = 23021
  LINE_PROJECTION_OFFSET = -7576.125
  MAP_PROJECTION_ROTATION = 0.0
  MAP_PROJECTION_TYPE = SINUSOIDAL
  MAP_RESOLUTION = 1185.42760773333
  MAP_SCALE = 0.05
  MAXIMUM_LATITUDE = -6.3853
  MINIMUM_LATITUDE = -25.7961
  POSITIVE_LONGITUDE_DIRECTION = EAST
  REFERENCE_LATITUDE = "N/A"
  REFERENCE_LONGITUDE = "N/A"
  SAMPLE_FIRST_PIXEL = 1
  SAMPLE_LAST_PIXEL = 2001
  SAMPLE_PROJECTION_OFFSET = 820.625
  SECOND_STANDARD_PARALLEL = "N/A"
  WESTERNMOST_LONGITUDE = 128.255
END_OBJECT = IMAGE_MAP_PROJECTION
END
