PDS_VERSION_ID = PDS3
/* FILE DATA ELEMENTS */
RECORD_TYPE = UNDEFINED
/* POINTERS TO DATA OBJECTS */
^IMAGE = ("HN071_0000_IR4.TIF")
/* IDENTIFICATION DATA ELEMENTS */
DATA_SET_ID = "MEX-M-HRSC-4-REFDR-MAPPROJECT-EXT8-V4.0"
DATA_SET_NAME = "MARS EXPRESS HRSC MAP PROJECTED REFDR EXTENSION8 V4.0"
DETECTOR_ID = MEX_HRSC_IR
EVENT_TYPE = "MARS-REGIONAL-MAPPING-Te-Lc-La"
INSTRUMENT_HOST_ID = MEX
INSTRUMENT_HOST_NAME = "MARS EXPRESS"
INSTRUMENT_ID = HRSC
INSTRUMENT_NAME = "HIGH RESOLUTION STEREO CAMERA"
MISSION_NAME = "MARS EXPRESS"
MISSION_PHASE_NAME = ME_Phase_46
PROCESSING_LEVEL_ID = 4
PRODUCT_CREATION_TIME = 2023-01-28T22:22:56.000Z
PRODUCT_ID = "HN071_0000_IR4.TIF"
RELEASE_ID = 0004
REVISION_ID = 0000
/* QUALITY DATA ELEMENTS */
DATA_QUALITY_ID = 1
DATA_QUALITY_DESC = "Data calculated based on original SPICE kernels"
/* TIME DATA ELEMENTS */
SPACECRAFT_CLOCK_START_COUNT = "1/0597335891.25673"
SPACECRAFT_CLOCK_STOP_COUNT = "1/0597336199.58977"
START_TIME = 2022-04-06T14:41:47.980Z
STOP_TIME = 2022-04-06T14:43:46.908Z
/* ORBITAL DATA ELEMENTS */
ASCENDING_NODE_LONGITUDE = 143.97
MAXIMUM_RESOLUTION = 0.0575
FOOTPRINT_POINT_LATITUDE = (-36.8251,-36.8237,-36.8208,-36.8178, -36.8152,-36.8097,-36.8095,-36.8394, -36.6839,-36.5307,-36.2268,-36.0743, -35.8446,-35.6913,-35.5379,-35.3085, -35.1556,-35.0022,-34.8483,-34.6951, -34.542,-34.3886,-34.1591,-34.0053, -33.8521,-33.6983,-33.5445,-33.3913, -33.2382,-33.0846,-32.8539,-32.6995, -32.5467,-32.3917,-32.1602,-32.0079, -31.7809,-31.4798,-31.2524,-30.9486, -30.7211,-30.4172,-30.1146,-29.8879, -29.5856,-29.2073,-29.1314,-29.1305, -29.1299,-29.129,-29.1301,-29.1303, -29.1289,-29.1289,-29.1298,-29.4316, -29.735,-29.8882,-30.0416,-30.1935, -30.3454,-30.5735,-30.7257,-30.9536, -31.1059,-31.2583,-31.4868,-31.7152, -32.0182,-32.1723,-32.4033,-32.5567, -32.71,-32.864,-33.0179,-33.1712, -33.3247,-33.4779,-33.6313,-33.7853, -33.9394,-34.0932,-34.2466,-34.4003, -34.5542,-34.7078,-34.9383,-35.092, -35.2454,-35.3989,-35.629,-35.7824, -35.936,-36.1663,-36.3199,-36.4735, -36.6272,-36.7809,-36.8577,-36.8251)
FOOTPRINT_POINT_LONGITUDE = (183.565,183.357,183.025,182.734, 182.513,182.097,182.084,182.065,182.071 ,182.075,182.082,182.086,182.092, 182.096,182.1,182.106,182.11,182.113, 182.117,182.121,182.125,182.128,182.133 ,182.137,182.14,182.144,182.147,182.151 ,182.154,182.157,182.162,182.166, 182.168,182.172,182.177,182.179,182.182 ,182.185,182.188,182.192,182.195, 182.198,182.201,182.204,182.206,182.21, 182.21,182.21,182.419,182.668,183.098, 183.371,183.592,183.605,183.61,183.609, 183.608,183.608,183.608,183.608,183.607 ,183.607,183.606,183.605,183.605, 183.604,183.603,183.602,183.6,183.6, 183.6,183.6,183.6,183.6,183.599,183.599 ,183.598,183.598,183.597,183.597, 183.596,183.596,183.595,183.595,183.594 ,183.593,183.592,183.592,183.591,183.59 ,183.588,183.587,183.586,183.585, 183.584,183.583,183.582,183.581,183.58, 183.565)
ORBIT_NUMBER = 23071
ORBITAL_ECCENTRICITY = 0.576
ORBITAL_INCLINATION = 87.01
ORBITAL_SEMIMAJOR_AXIS = 8816.42
PERIAPSIS_ALTITUDE = 345.3
PERIAPSIS_ARGUMENT_ANGLE = 326.89
PERIAPSIS_TIME = 2022-04-06T14:42:21.000Z
SPACECRAFT_ORIENTATION = (0.0,1.0,0.0)
^MEX_ORIENTATION_DESC = "MEX_ORIENTATION_DESC.TXT"
SPACECRAFT_POINTING_MODE = NADIR
^MEX_POINTING_DESC = "MEX_POINTING_DESC.TXT"
RIGHT_ASCENSION = -1e+32
DECLINATION = -1e+32
OFFSET_ANGLE = -1e+32
SPACECRAFT_SOLAR_DISTANCE = 2.12486e+08
TARGET_NAME = MARS
/* CAMERA DATA ELEMENTS */
DETECTOR_TEMPERATURE = 17.1471
FOCAL_PLANE_TEMPERATURE = 8.1755
INST_CMPRS_NAME = "DISCRETE COSINE TRANSFORMATION (DCT)"
INST_CMPRS_RATIO = 3.27555
INST_CMPRS_QUALITY = 0
INST_CMPRS_QUANTZ_TBL_ID = 0
INSTRUMENT_TEMPERATURE = 11.4379
LENS_TEMPERATURE = 6.9521
MACROPIXEL_SIZE = 4
MISSING_FRAMES = 0
PIXEL_SUBSAMPLING_FLAG = N
SIGNAL_CHAIN_ID = 2
/* RADIOMETRIC DATA ELEMENTS */
BANDWIDTH = 81.0
CENTER_FILTER_WAVELENGTH = 955.5
RADIANCE_OFFSET = 0.377986
RADIANCE_SCALING_FACTOR = 0.00241304
REFLECTANCE_SCALING_FACTOR = 0.000235046
MEX:REFLECTANCE_OFFSET = 0.0368183
/* IMAGE OBJECT DEFINITIONS */
OBJECT = IMAGE
  INTERCHANGE_FORMAT = BINARY
  LINES = 7140
  LINE_SAMPLES = 1491
  SAMPLE_TYPE = UNSIGNED_INTEGER
  SAMPLE_BITS = 8
  BANDS = 1
  BAND_STORAGE_TYPE = BAND_SEQUENTIAL
  MAXIMUM = 255
  MEAN = 113.627
  MINIMUM = 2
  STANDARD_DEVIATION = 32.5683
END_OBJECT = IMAGE
/* MAP OBJECT DEFINITIONS */
OBJECT = IMAGE_MAP_PROJECTION
  ^DATA_SET_MAP_PROJECTION_CATALOG= "DSMAP.CAT"
  A_AXIS_RADIUS = 3396.0
  B_AXIS_RADIUS = 3396.0
  C_AXIS_RADIUS = 3396.0
  CENTER_LATITUDE = 0.0
  CENTER_LONGITUDE = 183.0
  COORDINATE_SYSTEM_NAME = PLANETOGRAPHIC
  COORDINATE_SYSTEM_TYPE = "BODY-FIXED ROTATING"
  EASTERNMOST_LONGITUDE = 183.61
  FIRST_STANDARD_PARALLEL = "N/A"
  LINE_FIRST_PIXEL = 1
  LINE_LAST_PIXEL = 7140
  LINE_PROJECTION_OFFSET = -34536.625
  MAP_PROJECTION_ROTATION = 0.0
  MAP_PROJECTION_TYPE = SINUSOIDAL
  MAP_RESOLUTION = 1185.42760773333
  MAP_SCALE = 0.05
  MAXIMUM_LATITUDE = -29.1289
  MINIMUM_LATITUDE = -36.8577
  POSITIVE_LONGITUDE_DIRECTION = EAST
  REFERENCE_LATITUDE = "N/A"
  REFERENCE_LONGITUDE = "N/A"
  SAMPLE_FIRST_PIXEL = 1
  SAMPLE_LAST_PIXEL = 1491
  SAMPLE_PROJECTION_OFFSET = 869.125
  SECOND_STANDARD_PARALLEL = "N/A"
  WESTERNMOST_LONGITUDE = 182.065
END_OBJECT = IMAGE_MAP_PROJECTION
END
