PDS_VERSION_ID = PDS3
/* FILE DATA ELEMENTS */
RECORD_TYPE = UNDEFINED
/* POINTERS TO DATA OBJECTS */
^IMAGE = ("HN079_0000_ND4.TIF")
/* IDENTIFICATION DATA ELEMENTS */
DATA_SET_ID = "MEX-M-HRSC-4-REFDR-MAPPROJECT-EXT8-V4.0"
DATA_SET_NAME = "MARS EXPRESS HRSC MAP PROJECTED REFDR EXTENSION8 V4.0"
DETECTOR_ID = MEX_HRSC_NADIR
EVENT_TYPE = "MARS-REGIONAL-MAPPING-Gl-Eo-La"
INSTRUMENT_HOST_ID = MEX
INSTRUMENT_HOST_NAME = "MARS EXPRESS"
INSTRUMENT_ID = HRSC
INSTRUMENT_NAME = "HIGH RESOLUTION STEREO CAMERA"
MISSION_NAME = "MARS EXPRESS"
MISSION_PHASE_NAME = ME_Phase_46
PROCESSING_LEVEL_ID = 4
PRODUCT_CREATION_TIME = 2023-01-28T22:22:56.000Z
PRODUCT_ID = "HN079_0000_ND4.TIF"
RELEASE_ID = 0004
REVISION_ID = 0000
/* QUALITY DATA ELEMENTS */
DATA_QUALITY_ID = 1
DATA_QUALITY_DESC = "Data calculated based on original SPICE kernels"
/* TIME DATA ELEMENTS */
SPACECRAFT_CLOCK_START_COUNT = "1/0597535611.25668"
SPACECRAFT_CLOCK_STOP_COUNT = "1/0597536563.24707"
START_TIME = 2022-04-08T22:13:19.719Z
STOP_TIME = 2022-04-08T22:21:55.674Z
/* ORBITAL DATA ELEMENTS */
ASCENDING_NODE_LONGITUDE = 143.83
MAXIMUM_RESOLUTION = 0.0319
FOOTPRINT_POINT_LATITUDE = (-77.5005,-77.4848,-77.4176,-77.3506, -77.2041,-77.0507,-76.8364,-76.6719, -76.4717,-76.4525,-76.4309,-76.8965, -77.3629,-77.8302,-78.2971,-78.7643, -79.2311,-79.6956,-80.1592,-80.6187, -81.0737,-81.7392,-82.163,-82.5692, -82.9571,-83.3217,-83.6632,-83.9783, -84.2639,-84.5153,-84.7296,-84.9049, -85.037,-85.1244,-85.1655,-85.1599, -85.1098,-85.0174,-84.8865,-84.7197, -84.3005,-83.7913,-83.2181,-82.6014, -81.9537,-81.2872,-80.6089,-79.9237, -79.236,-78.5481,-78.3768,-78.3743, -78.6245,-78.7518,-78.9642,-79.0741, -79.0778,-79.0801,-79.8361,-80.6037, -81.3832,-82.174,-82.9777,-83.7927, -84.618,-85.4521,-86.2908,-86.7094, -87.1254,-87.7371,-88.1208,-88.4671, -88.7405,-88.8812,-88.8287,-88.6045, -88.2704,-87.8742,-87.4421,-86.9872, -86.516,-86.0322,-85.5379,-85.0352, -84.5247,-84.0074,-83.4829,-82.9518, -82.4168,-81.8852,-81.3569,-80.8319, -80.3106,-79.7927,-79.2785,-78.7677, -78.2606,-77.7571,-77.5069,-77.5005)
FOOTPRINT_POINT_LONGITUDE = (274.667,276.756,280.433,282.704, 286.275,289.107,292.29,294.359,296.579, 296.778,297.03,297.737,298.51,299.354, 300.286,301.305,302.425,303.672,305.039 ,306.569,308.277,311.204,313.412, 315.848,318.532,321.516,324.801,328.406 ,332.357,336.661,341.312,346.276, 351.498,356.912,362.419,368.03,373.415, 378.595,383.505,388.131,396.259,403.025 ,408.602,413.183,416.968,420.111,422.75 ,424.986,426.897,428.542,428.918, 428.923,432.452,434.605,439.191,442.625 ,442.77,442.84,442.426,441.935,441.335, 440.6,439.675,438.487,436.904,434.705, 431.427,429.126,426.128,419.456,412.604 ,402.366,386.837,364.625,340.917, 321.916,309.071,300.584,294.815,290.711 ,287.663,285.344,283.519,282.042, 280.837,279.827,278.974,278.25,277.63, 277.095,276.627,276.23,275.868,275.551, 275.271,275.022,274.796,274.594,274.49, 274.667)
ORBIT_NUMBER = 23079
ORBITAL_ECCENTRICITY = 0.577
ORBITAL_INCLINATION = 87.01
ORBITAL_SEMIMAJOR_AXIS = 8820.84
PERIAPSIS_ALTITUDE = 343.84
PERIAPSIS_ARGUMENT_ANGLE = 325.5
PERIAPSIS_TIME = 2022-04-08T22:34:17.000Z
SPACECRAFT_ORIENTATION = (0.0,1.0,0.0)
^MEX_ORIENTATION_DESC = "MEX_ORIENTATION_DESC.TXT"
SPACECRAFT_POINTING_MODE = NADIR
^MEX_POINTING_DESC = "MEX_POINTING_DESC.TXT"
RIGHT_ASCENSION = -1e+32
DECLINATION = -1e+32
OFFSET_ANGLE = -1e+32
SPACECRAFT_SOLAR_DISTANCE = 2.12155e+08
TARGET_NAME = MARS
/* CAMERA DATA ELEMENTS */
DETECTOR_TEMPERATURE = 18.3705
FOCAL_PLANE_TEMPERATURE = 8.1755
INST_CMPRS_NAME = "DISCRETE COSINE TRANSFORMATION (DCT)"
INST_CMPRS_RATIO = 5.5545
INST_CMPRS_QUALITY = 0
INST_CMPRS_QUANTZ_TBL_ID = 0
INSTRUMENT_TEMPERATURE = 11.4379
LENS_TEMPERATURE = 8.5833
MACROPIXEL_SIZE = 1
MISSING_FRAMES = 3
PIXEL_SUBSAMPLING_FLAG = N
SIGNAL_CHAIN_ID = 0
/* RADIOMETRIC DATA ELEMENTS */
BANDWIDTH = 177.0
CENTER_FILTER_WAVELENGTH = 677.5
RADIANCE_OFFSET = 2.22251
RADIANCE_SCALING_FACTOR = 0.0289848
REFLECTANCE_SCALING_FACTOR = 0.000693059
MEX:REFLECTANCE_OFFSET = 0.0531426
/* IMAGE OBJECT DEFINITIONS */
OBJECT = IMAGE
  INTERCHANGE_FORMAT = BINARY
  LINES = 12358
  LINE_SAMPLES = 55462
  SAMPLE_TYPE = UNSIGNED_INTEGER
  SAMPLE_BITS = 8
  BANDS = 1
  BAND_STORAGE_TYPE = BAND_SEQUENTIAL
  MAXIMUM = 255
  MEAN = 84.5821
  MINIMUM = 1
  STANDARD_DEVIATION = 41.0535
END_OBJECT = IMAGE
/* MAP OBJECT DEFINITIONS */
OBJECT = IMAGE_MAP_PROJECTION
  ^DATA_SET_MAP_PROJECTION_CATALOG= "DSMAP.CAT"
  A_AXIS_RADIUS = 3396.0
  B_AXIS_RADIUS = 3396.0
  C_AXIS_RADIUS = 3396.0
  CENTER_LATITUDE = -90.0
  CENTER_LONGITUDE = 0.0
  COORDINATE_SYSTEM_NAME = PLANETOGRAPHIC
  COORDINATE_SYSTEM_TYPE = "BODY-FIXED ROTATING"
  EASTERNMOST_LONGITUDE = 82.84
  FIRST_STANDARD_PARALLEL = "N/A"
  LINE_FIRST_PIXEL = 1
  LINE_LAST_PIXEL = 12358
  LINE_PROJECTION_OFFSET = 14688.0
  MAP_PROJECTION_ROTATION = 0.0
  MAP_PROJECTION_TYPE = STEREOGRAPHIC
  MAP_RESOLUTION = 2370.85521546667
  MAP_SCALE = 0.025
  MAXIMUM_LATITUDE = -76.43089999999999
  MINIMUM_LATITUDE = -88.88120000000001
  POSITIVE_LONGITUDE_DIRECTION = EAST
  REFERENCE_LATITUDE = "N/A"
  REFERENCE_LONGITUDE = "N/A"
  SAMPLE_FIRST_PIXEL = 1
  SAMPLE_LAST_PIXEL = 55462
  SAMPLE_PROJECTION_OFFSET = 29654.0
  SECOND_STANDARD_PARALLEL = "N/A"
  WESTERNMOST_LONGITUDE = -85.51000000000001
END_OBJECT = IMAGE_MAP_PROJECTION
END
