PDS_VERSION_ID = PDS3
/* FILE DATA ELEMENTS */
RECORD_TYPE = UNDEFINED
/* POINTERS TO DATA OBJECTS */
^IMAGE = ("HN081_0000_S24.TIF")
/* IDENTIFICATION DATA ELEMENTS */
DATA_SET_ID = "MEX-M-HRSC-4-REFDR-MAPPROJECT-EXT8-V4.0"
DATA_SET_NAME = "MARS EXPRESS HRSC MAP PROJECTED REFDR EXTENSION8 V4.0"
DETECTOR_ID = MEX_HRSC_S2
EVENT_TYPE = "MARS-LOCAL-CARTOGRAPHY-Vo-Te"
INSTRUMENT_HOST_ID = MEX
INSTRUMENT_HOST_NAME = "MARS EXPRESS"
INSTRUMENT_ID = HRSC
INSTRUMENT_NAME = "HIGH RESOLUTION STEREO CAMERA"
MISSION_NAME = "MARS EXPRESS"
MISSION_PHASE_NAME = ME_Phase_46
PROCESSING_LEVEL_ID = 4
PRODUCT_CREATION_TIME = 2023-01-28T22:22:56.000Z
PRODUCT_ID = "HN081_0000_S24.TIF"
RELEASE_ID = 0004
REVISION_ID = 0000
/* QUALITY DATA ELEMENTS */
DATA_QUALITY_ID = 1
DATA_QUALITY_DESC = "Data calculated based on original SPICE kernels"
/* TIME DATA ELEMENTS */
SPACECRAFT_CLOCK_START_COUNT = "1/0597587655.25694"
SPACECRAFT_CLOCK_STOP_COUNT = "1/0597588086.59341"
START_TIME = 2022-04-09T12:34:49.811Z
STOP_TIME = 2022-04-09T12:40:01.544Z
/* ORBITAL DATA ELEMENTS */
ASCENDING_NODE_LONGITUDE = 143.8
MAXIMUM_RESOLUTION = 0.0308
FOOTPRINT_POINT_LATITUDE = (-22.5992,-22.5553,-22.5072,-22.4437, -22.442,-22.4572,-22.1508,-21.691, -21.2315,-20.9251,-20.2135,-19.6801, -19.324,-18.8652,-18.2532,-17.7945, -17.3365,-14.1191,-13.8048,-13.4854, -13.0061,-12.6869,-12.3618,-12.0343, -11.7078,-11.2195,-10.8979,-10.5727, -10.0622,-9.71796,-9.20128,-8.85237, -8.33258,-7.97678,-7.60946,-7.24078, -6.86488,-6.48762,-5.92461,-5.54376, -5.16738,-4.78356,-4.21003,-3.82159, -3.43376,-3.04021,-2.44696,-2.24568, -2.19809,-2.24234,-2.28702,-2.32076, -2.3217,-2.32272,-2.7241,-3.1204, -3.51548,-3.90515,-4.29557,-4.68203, -5.06631,-5.6358,-6.20025,-6.56946, -6.94045,-7.49457,-7.8606,-8.22659, -8.58331,-8.93853,-9.29127,-9.63844, -9.9822,-10.3226,-10.65,-10.9748, -11.4593,-11.784,-12.1138,-12.4437, -12.7719,-13.0928,-13.4141,-13.8958, -14.2127,-17.4465,-17.7531,-18.3658, -18.6723,-18.9788,-19.2854,-19.6045, -20.1021,-20.6369,-20.9441,-21.504, -21.9646,-22.4253,-22.5785,-22.5992)
FOOTPRINT_POINT_LONGITUDE = (240.606,240.166,239.709,239.141, 239.126,239.138,239.142,239.147,239.151 ,239.154,239.159,239.163,239.165, 239.167,239.168,239.169,239.17,239.168, 239.167,239.166,239.162,239.16,239.157, 239.153,239.15,239.149,239.157,239.161, 239.148,239.141,239.128,239.12,239.114, 239.101,239.084,239.066,239.042,239.022 ,238.995,238.977,238.963,238.946, 238.924,238.91,238.896,238.881,238.858, 238.85,238.848,239.478,240.159,240.729, 240.746,240.753,240.752,240.751,240.751 ,240.75,240.749,240.75,240.75,240.75, 240.749,240.749,240.749,240.751,240.752 ,240.753,240.754,240.753,240.753, 240.753,240.751,240.748,240.743,240.738 ,240.728,240.724,240.722,240.72,240.718 ,240.716,240.714,240.71,240.707,240.676 ,240.673,240.667,240.663,240.66,240.656 ,240.652,240.646,240.64,240.636,240.628 ,240.622,240.616,240.614,240.606)
ORBIT_NUMBER = 23081
ORBITAL_ECCENTRICITY = 0.577
ORBITAL_INCLINATION = 87.0
ORBITAL_SEMIMAJOR_AXIS = 8821.38
PERIAPSIS_ALTITUDE = 343.96
PERIAPSIS_ARGUMENT_ANGLE = 325.15
PERIAPSIS_TIME = 2022-04-09T12:32:15.000Z
SPACECRAFT_ORIENTATION = (0.0,1.0,0.0)
^MEX_ORIENTATION_DESC = "MEX_ORIENTATION_DESC.TXT"
SPACECRAFT_POINTING_MODE = ACROSSTRACK
^MEX_POINTING_DESC = "MEX_POINTING_DESC.TXT"
RIGHT_ASCENSION = -1e+32
DECLINATION = -1e+32
OFFSET_ANGLE = 1.616
SPACECRAFT_SOLAR_DISTANCE = 2.12073e+08
TARGET_NAME = MARS
/* CAMERA DATA ELEMENTS */
DETECTOR_TEMPERATURE = 19.39
FOCAL_PLANE_TEMPERATURE = 7.9716
INST_CMPRS_NAME = "DISCRETE COSINE TRANSFORMATION (DCT)"
INST_CMPRS_RATIO = 8.25838
INST_CMPRS_QUALITY = 0
INST_CMPRS_QUANTZ_TBL_ID = 0
INSTRUMENT_TEMPERATURE = 11.234
LENS_TEMPERATURE = 8.3794
MACROPIXEL_SIZE = 2
MISSING_FRAMES = 792
PIXEL_SUBSAMPLING_FLAG = N
SIGNAL_CHAIN_ID = 1
/* RADIOMETRIC DATA ELEMENTS */
BANDWIDTH = 178.0
CENTER_FILTER_WAVELENGTH = 679.0
RADIANCE_OFFSET = 2.90785
RADIANCE_SCALING_FACTOR = 0.0240141
REFLECTANCE_SCALING_FACTOR = 0.00057196
MEX:REFLECTANCE_OFFSET = 0.0692583
/* IMAGE OBJECT DEFINITIONS */
OBJECT = IMAGE
  INTERCHANGE_FORMAT = BINARY
  LINES = 48191
  LINE_SAMPLES = 4797
  SAMPLE_TYPE = UNSIGNED_INTEGER
  SAMPLE_BITS = 8
  BANDS = 1
  BAND_STORAGE_TYPE = BAND_SEQUENTIAL
  MAXIMUM = 255
  MEAN = 69.1051
  MINIMUM = 1
  STANDARD_DEVIATION = 18.4735
END_OBJECT = IMAGE
/* MAP OBJECT DEFINITIONS */
OBJECT = IMAGE_MAP_PROJECTION
  ^DATA_SET_MAP_PROJECTION_CATALOG= "DSMAP.CAT"
  A_AXIS_RADIUS = 3396.0
  B_AXIS_RADIUS = 3396.0
  C_AXIS_RADIUS = 3396.0
  CENTER_LATITUDE = 0.0
  CENTER_LONGITUDE = 240.0
  COORDINATE_SYSTEM_NAME = PLANETOGRAPHIC
  COORDINATE_SYSTEM_TYPE = "BODY-FIXED ROTATING"
  EASTERNMOST_LONGITUDE = 240.754
  FIRST_STANDARD_PARALLEL = "N/A"
  LINE_FIRST_PIXEL = 1
  LINE_LAST_PIXEL = 48191
  LINE_PROJECTION_OFFSET = -5201.75
  MAP_PROJECTION_ROTATION = 0.0
  MAP_PROJECTION_TYPE = SINUSOIDAL
  MAP_RESOLUTION = 2370.85521546667
  MAP_SCALE = 0.025
  MAXIMUM_LATITUDE = -2.19809
  MINIMUM_LATITUDE = -22.5992
  POSITIVE_LONGITUDE_DIRECTION = EAST
  REFERENCE_LATITUDE = "N/A"
  REFERENCE_LONGITUDE = "N/A"
  SAMPLE_FIRST_PIXEL = 1
  SAMPLE_LAST_PIXEL = 4797
  SAMPLE_PROJECTION_OFFSET = 2840.75
  SECOND_STANDARD_PARALLEL = "N/A"
  WESTERNMOST_LONGITUDE = 238.848
END_OBJECT = IMAGE_MAP_PROJECTION
END
