PDS_VERSION_ID = PDS3
/* FILE DATA ELEMENTS */
RECORD_TYPE = UNDEFINED
/* POINTERS TO DATA OBJECTS */
^IMAGE = ("HN082_0000_BL4.TIF")
/* IDENTIFICATION DATA ELEMENTS */
DATA_SET_ID = "MEX-M-HRSC-4-REFDR-MAPPROJECT-EXT8-V4.0"
DATA_SET_NAME = "MARS EXPRESS HRSC MAP PROJECTED REFDR EXTENSION8 V4.0"
DETECTOR_ID = MEX_HRSC_BLUE
EVENT_TYPE = "MARS-REGIONAL-MAPPING-Te-Im-Fl"
INSTRUMENT_HOST_ID = MEX
INSTRUMENT_HOST_NAME = "MARS EXPRESS"
INSTRUMENT_ID = HRSC
INSTRUMENT_NAME = "HIGH RESOLUTION STEREO CAMERA"
MISSION_NAME = "MARS EXPRESS"
MISSION_PHASE_NAME = ME_Phase_46
PROCESSING_LEVEL_ID = 4
PRODUCT_CREATION_TIME = 2023-01-28T22:22:56.000Z
PRODUCT_ID = "HN082_0000_BL4.TIF"
RELEASE_ID = 0004
REVISION_ID = 0000
/* QUALITY DATA ELEMENTS */
DATA_QUALITY_ID = 1
DATA_QUALITY_DESC = "Data calculated based on original SPICE kernels"
/* TIME DATA ELEMENTS */
SPACECRAFT_CLOCK_START_COUNT = "1/0597612246.23980"
SPACECRAFT_CLOCK_STOP_COUNT = "1/0597612566.39671"
START_TIME = 2022-04-09T19:25:22.900Z
STOP_TIME = 2022-04-09T19:29:18.696Z
/* ORBITAL DATA ELEMENTS */
ASCENDING_NODE_LONGITUDE = 143.78
MAXIMUM_RESOLUTION = 0.0596
FOOTPRINT_POINT_LATITUDE = (-57.0708,-57.0079,-56.935,-56.8223, -56.8193,-56.7887,-56.3104,-55.9962, -55.6814,-55.2117,-54.9032,-54.5947, -54.2842,-53.9825,-53.6773,-53.3714, -53.0677,-52.6191,-52.3205,-51.8729, -51.5771,-51.1362,-50.8429,-50.549, -50.261,-49.9728,-49.6842,-49.3951, -49.1059,-48.6822,-48.3997,-48.1166, -47.8331,-47.5488,-47.2697,-46.7154, -46.1592,-45.6018,-45.0433,-44.7636, -44.4835,-44.2032,-43.9228,-43.6422, -43.3615,-42.9397,-42.6581,-42.3751, -42.2352,-42.1968,-42.2363,-42.2633, -42.2947,-42.3253,-42.3263,-42.3276, -42.753,-43.1774,-43.4604,-43.743, -44.1661,-44.4488,-44.731,-45.1535, -45.5754,-45.8565,-46.4173,-46.9766, -47.5347,-47.8184,-48.1045,-48.5329, -48.8181,-49.2458,-49.5365,-49.9728, -50.2635,-50.5543,-50.8479,-51.1448, -51.4417,-51.7385,-52.0345,-52.3349, -52.6374,-52.9409,-53.3957,-53.704, -54.0122,-54.3191,-54.6287,-54.943, -55.2565,-55.5688,-55.8875,-56.2068, -56.525,-56.8474,-57.0095,-57.0708)
FOOTPRINT_POINT_LONGITUDE = (135.608,134.714,133.782,132.498, 132.466,132.297,132.44,132.528,132.615, 132.744,132.829,132.916,132.992,133.079 ,133.147,133.213,133.282,133.381, 133.452,133.556,133.603,133.693,133.758 ,133.815,133.87,133.925,133.98,134.032, 134.084,134.158,134.209,134.259,134.306 ,134.351,134.394,134.482,134.563, 134.641,134.717,134.753,134.789,134.823 ,134.859,134.893,134.929,134.978,135.01 ,135.034,135.056,135.059,135.608, 136.004,136.493,137.01,137.027,137.033, 137.007,136.978,136.96,136.941,136.91, 136.893,136.874,136.844,136.813,136.792 ,136.748,136.7,136.65,136.625,136.599, 136.56,136.533,136.493,136.465,136.418, 136.387,136.357,136.333,136.299,136.266 ,136.234,136.2,136.163,136.126,136.096, 136.046,136.007,135.969,135.927,135.886 ,135.846,135.804,135.758,135.713, 135.668,135.62,135.571,135.545,135.608)
ORBIT_NUMBER = 23082
ORBITAL_ECCENTRICITY = 0.577
ORBITAL_INCLINATION = 86.99
ORBITAL_SEMIMAJOR_AXIS = 8818.48
PERIAPSIS_ALTITUDE = 344.98
PERIAPSIS_ARGUMENT_ANGLE = 325.02
PERIAPSIS_TIME = 2022-04-09T19:31:20.000Z
SPACECRAFT_ORIENTATION = (0.0,1.0,0.0)
^MEX_ORIENTATION_DESC = "MEX_ORIENTATION_DESC.TXT"
SPACECRAFT_POINTING_MODE = ACROSSTRACK
^MEX_POINTING_DESC = "MEX_POINTING_DESC.TXT"
RIGHT_ASCENSION = -1e+32
DECLINATION = -1e+32
OFFSET_ANGLE = 2.29
SPACECRAFT_SOLAR_DISTANCE = 2.12032e+08
TARGET_NAME = MARS
/* CAMERA DATA ELEMENTS */
DETECTOR_TEMPERATURE = 18.5744
FOCAL_PLANE_TEMPERATURE = 7.9716
INST_CMPRS_NAME = "DISCRETE COSINE TRANSFORMATION (DCT)"
INST_CMPRS_RATIO = 4.4794
INST_CMPRS_QUALITY = 0
INST_CMPRS_QUANTZ_TBL_ID = 0
INSTRUMENT_TEMPERATURE = 10.8262
LENS_TEMPERATURE = 8.5833
MACROPIXEL_SIZE = 4
MISSING_FRAMES = 0
PIXEL_SUBSAMPLING_FLAG = N
SIGNAL_CHAIN_ID = 2
/* RADIOMETRIC DATA ELEMENTS */
BANDWIDTH = 76.0
CENTER_FILTER_WAVELENGTH = 444.0
RADIANCE_OFFSET = 0.406883
RADIANCE_SCALING_FACTOR = 0.00192329
REFLECTANCE_SCALING_FACTOR = 8.88401e-05
MEX:REFLECTANCE_OFFSET = 0.0187946
/* IMAGE OBJECT DEFINITIONS */
OBJECT = IMAGE
  INTERCHANGE_FORMAT = BINARY
  LINES = 17576
  LINE_SAMPLES = 3544
  SAMPLE_TYPE = UNSIGNED_INTEGER
  SAMPLE_BITS = 8
  BANDS = 1
  BAND_STORAGE_TYPE = BAND_SEQUENTIAL
  MAXIMUM = 255
  MEAN = 136.077
  MINIMUM = 1
  STANDARD_DEVIATION = 39.9621
END_OBJECT = IMAGE
/* MAP OBJECT DEFINITIONS */
OBJECT = IMAGE_MAP_PROJECTION
  ^DATA_SET_MAP_PROJECTION_CATALOG= "DSMAP.CAT"
  A_AXIS_RADIUS = 3396.0
  B_AXIS_RADIUS = 3396.0
  C_AXIS_RADIUS = 3396.0
  CENTER_LATITUDE = 0.0
  CENTER_LONGITUDE = 135.0
  COORDINATE_SYSTEM_NAME = PLANETOGRAPHIC
  COORDINATE_SYSTEM_TYPE = "BODY-FIXED ROTATING"
  EASTERNMOST_LONGITUDE = 137.033
  FIRST_STANDARD_PARALLEL = "N/A"
  LINE_FIRST_PIXEL = 1
  LINE_LAST_PIXEL = 17576
  LINE_PROJECTION_OFFSET = -50050.375
  MAP_PROJECTION_ROTATION = 0.0
  MAP_PROJECTION_TYPE = SINUSOIDAL
  MAP_RESOLUTION = 1185.42760773333
  MAP_SCALE = 0.05
  MAXIMUM_LATITUDE = -42.1968
  MINIMUM_LATITUDE = -57.0708
  POSITIVE_LONGITUDE_DIRECTION = EAST
  REFERENCE_LATITUDE = "N/A"
  REFERENCE_LONGITUDE = "N/A"
  SAMPLE_FIRST_PIXEL = 1
  SAMPLE_LAST_PIXEL = 3544
  SAMPLE_PROJECTION_OFFSET = 1763.125
  SECOND_STANDARD_PARALLEL = "N/A"
  WESTERNMOST_LONGITUDE = 132.297
END_OBJECT = IMAGE_MAP_PROJECTION
END
