PDS_VERSION_ID = PDS3
/* FILE DATA ELEMENTS */
RECORD_TYPE = UNDEFINED
/* POINTERS TO DATA OBJECTS */
^IMAGE = ("HN082_0000_ND4.TIF")
/* IDENTIFICATION DATA ELEMENTS */
DATA_SET_ID = "MEX-M-HRSC-4-REFDR-MAPPROJECT-EXT8-V4.0"
DATA_SET_NAME = "MARS EXPRESS HRSC MAP PROJECTED REFDR EXTENSION8 V4.0"
DETECTOR_ID = MEX_HRSC_NADIR
EVENT_TYPE = "MARS-REGIONAL-MAPPING-Te-Im-Fl"
INSTRUMENT_HOST_ID = MEX
INSTRUMENT_HOST_NAME = "MARS EXPRESS"
INSTRUMENT_ID = HRSC
INSTRUMENT_NAME = "HIGH RESOLUTION STEREO CAMERA"
MISSION_NAME = "MARS EXPRESS"
MISSION_PHASE_NAME = ME_Phase_46
PROCESSING_LEVEL_ID = 4
PRODUCT_CREATION_TIME = 2023-01-28T22:22:56.000Z
PRODUCT_ID = "HN082_0000_ND4.TIF"
RELEASE_ID = 0004
REVISION_ID = 0000
/* QUALITY DATA ELEMENTS */
DATA_QUALITY_ID = 1
DATA_QUALITY_DESC = "Data calculated based on original SPICE kernels"
/* TIME DATA ELEMENTS */
SPACECRAFT_CLOCK_START_COUNT = "1/0597612246.23980"
SPACECRAFT_CLOCK_STOP_COUNT = "1/0597612566.39671"
START_TIME = 2022-04-09T19:25:30.533Z
STOP_TIME = 2022-04-09T19:29:24.523Z
/* ORBITAL DATA ELEMENTS */
ASCENDING_NODE_LONGITUDE = 143.78
MAXIMUM_RESOLUTION = 0.0148
FOOTPRINT_POINT_LATITUDE = (-57.0522,-56.9957,-56.9289,-56.8394, -56.8367,-56.82,-56.5037,-56.1864, -55.7118,-55.4001,-55.0882,-54.6228, -54.3164,-54.0106,-53.5498,-53.2487, -52.9473,-52.6453,-52.3439,-52.0489, -51.7527,-51.3077,-51.0114,-50.722, -50.4318,-50.1412,-49.8505,-49.4168, -49.1325,-48.8479,-48.563,-48.2778, -47.8505,-47.2929,-46.7346,-46.1748, -45.6141,-45.0524,-44.4897,-44.2079, -43.9261,-43.644,-43.3618,-43.0794, -42.7966,-42.3717,-42.2305,-42.2209, -42.2733,-42.3149,-42.3156,-42.3162, -42.6008,-42.8853,-43.1696,-43.4537, -43.7376,-44.0213,-44.3049,-44.5884, -44.8718,-45.1547,-45.4375,-45.7202, -46.0025,-46.2846,-46.8481,-47.4106, -47.9721,-48.2589,-48.5465,-48.8339, -49.1211,-49.408,-49.6945,-49.9882, -50.2815,-50.5747,-50.868,-51.1603, -51.609,-51.9081,-52.2069,-52.5049, -52.8096,-53.1153,-53.4198,-53.724, -54.0336,-54.3442,-54.6543,-54.9644, -55.2811,-55.5971,-55.9127,-56.2323, -56.5541,-56.8755,-57.0359,-57.0522)
FOOTPRINT_POINT_LONGITUDE = (135.598,134.652,133.664,132.495, 132.462,132.279,132.377,132.467,132.598 ,132.682,132.769,132.899,132.975, 133.063,133.165,133.232,133.3,133.366, 133.437,133.505,133.562,133.648,133.709 ,133.771,133.827,133.883,133.94,134.018 ,134.069,134.12,134.17,134.22,134.293, 134.38,134.469,134.55,134.629,134.705, 134.777,134.812,134.848,134.883,134.918 ,134.953,134.984,135.023,135.046, 135.047,136.05,137.004,137.022,137.031, 137.013,136.995,136.976,136.958,136.938 ,136.917,136.898,136.879,136.861,136.84 ,136.819,136.799,136.777,136.754, 136.706,136.656,136.605,136.58,136.553, 136.525,136.498,136.471,136.441,136.409 ,136.378,136.348,136.323,136.289,136.24 ,136.206,136.174,136.133,136.098, 136.071,136.032,135.994,135.956,135.913 ,135.871,135.832,135.788,135.742, 135.696,135.651,135.602,135.553,135.527 ,135.598)
ORBIT_NUMBER = 23082
ORBITAL_ECCENTRICITY = 0.577
ORBITAL_INCLINATION = 86.99
ORBITAL_SEMIMAJOR_AXIS = 8818.48
PERIAPSIS_ALTITUDE = 344.98
PERIAPSIS_ARGUMENT_ANGLE = 325.02
PERIAPSIS_TIME = 2022-04-09T19:31:20.000Z
SPACECRAFT_ORIENTATION = (0.0,1.0,0.0)
^MEX_ORIENTATION_DESC = "MEX_ORIENTATION_DESC.TXT"
SPACECRAFT_POINTING_MODE = ACROSSTRACK
^MEX_POINTING_DESC = "MEX_POINTING_DESC.TXT"
RIGHT_ASCENSION = -1e+32
DECLINATION = -1e+32
OFFSET_ANGLE = 2.29
SPACECRAFT_SOLAR_DISTANCE = 2.12032e+08
TARGET_NAME = MARS
/* CAMERA DATA ELEMENTS */
DETECTOR_TEMPERATURE = 18.5744
FOCAL_PLANE_TEMPERATURE = 7.9716
INST_CMPRS_NAME = "DISCRETE COSINE TRANSFORMATION (DCT)"
INST_CMPRS_RATIO = 5.45804
INST_CMPRS_QUALITY = 0
INST_CMPRS_QUANTZ_TBL_ID = 0
INSTRUMENT_TEMPERATURE = 10.8262
LENS_TEMPERATURE = 8.5833
MACROPIXEL_SIZE = 1
MISSING_FRAMES = 0
PIXEL_SUBSAMPLING_FLAG = N
SIGNAL_CHAIN_ID = 0
/* RADIOMETRIC DATA ELEMENTS */
BANDWIDTH = 177.0
CENTER_FILTER_WAVELENGTH = 677.5
RADIANCE_OFFSET = 1.98103
RADIANCE_SCALING_FACTOR = 0.0160419
REFLECTANCE_SCALING_FACTOR = 0.000383131
MEX:REFLECTANCE_OFFSET = 0.0473131
/* IMAGE OBJECT DEFINITIONS */
OBJECT = IMAGE
  INTERCHANGE_FORMAT = BINARY
  LINES = 70301
  LINE_SAMPLES = 14175
  SAMPLE_TYPE = UNSIGNED_INTEGER
  SAMPLE_BITS = 8
  BANDS = 1
  BAND_STORAGE_TYPE = BAND_SEQUENTIAL
  MAXIMUM = 255
  MEAN = 105.453
  MINIMUM = 1
  STANDARD_DEVIATION = 34.3097
END_OBJECT = IMAGE
/* MAP OBJECT DEFINITIONS */
OBJECT = IMAGE_MAP_PROJECTION
  ^DATA_SET_MAP_PROJECTION_CATALOG= "DSMAP.CAT"
  A_AXIS_RADIUS = 3396.0
  B_AXIS_RADIUS = 3396.0
  C_AXIS_RADIUS = 3396.0
  CENTER_LATITUDE = 0.0
  CENTER_LONGITUDE = 135.0
  COORDINATE_SYSTEM_NAME = PLANETOGRAPHIC
  COORDINATE_SYSTEM_TYPE = "BODY-FIXED ROTATING"
  EASTERNMOST_LONGITUDE = 137.031
  FIRST_STANDARD_PARALLEL = "N/A"
  LINE_FIRST_PIXEL = 1
  LINE_LAST_PIXEL = 70301
  LINE_PROJECTION_OFFSET = -200200.0
  MAP_PROJECTION_ROTATION = 0.0
  MAP_PROJECTION_TYPE = SINUSOIDAL
  MAP_RESOLUTION = 4741.71043093333
  MAP_SCALE = 0.0125
  MAXIMUM_LATITUDE = -42.2209
  MINIMUM_LATITUDE = -57.0522
  POSITIVE_LONGITUDE_DIRECTION = EAST
  REFERENCE_LATITUDE = "N/A"
  REFERENCE_LONGITUDE = "N/A"
  SAMPLE_FIRST_PIXEL = 1
  SAMPLE_LAST_PIXEL = 14175
  SAMPLE_PROJECTION_OFFSET = 7054.0
  SECOND_STANDARD_PARALLEL = "N/A"
  WESTERNMOST_LONGITUDE = 132.279
END_OBJECT = IMAGE_MAP_PROJECTION
END
