PDS_VERSION_ID = PDS3
/* FILE DATA ELEMENTS */
RECORD_TYPE = UNDEFINED
/* POINTERS TO DATA OBJECTS */
^IMAGE = ("HN089_0000_BL4.TIF")
/* IDENTIFICATION DATA ELEMENTS */
DATA_SET_ID = "MEX-M-HRSC-4-REFDR-MAPPROJECT-EXT8-V4.0"
DATA_SET_NAME = "MARS EXPRESS HRSC MAP PROJECTED REFDR EXTENSION8 V4.0"
DETECTOR_ID = MEX_HRSC_BLUE
EVENT_TYPE = "MARS-REGIONAL-MAPPING-Im-Fl-Mw"
INSTRUMENT_HOST_ID = MEX
INSTRUMENT_HOST_NAME = "MARS EXPRESS"
INSTRUMENT_ID = HRSC
INSTRUMENT_NAME = "HIGH RESOLUTION STEREO CAMERA"
MISSION_NAME = "MARS EXPRESS"
MISSION_PHASE_NAME = ME_Phase_46
PROCESSING_LEVEL_ID = 4
PRODUCT_CREATION_TIME = 2023-01-28T22:22:56.000Z
PRODUCT_ID = "HN089_0000_BL4.TIF"
RELEASE_ID = 0004
REVISION_ID = 0000
/* QUALITY DATA ELEMENTS */
DATA_QUALITY_ID = 1
DATA_QUALITY_DESC = "Data calculated based on original SPICE kernels"
/* TIME DATA ELEMENTS */
SPACECRAFT_CLOCK_START_COUNT = "1/0597788759.25686"
SPACECRAFT_CLOCK_STOP_COUNT = "1/0597789248.62188"
START_TIME = 2022-04-11T20:27:01.154Z
STOP_TIME = 2022-04-11T20:33:23.741Z
/* ORBITAL DATA ELEMENTS */
ASCENDING_NODE_LONGITUDE = 143.65
MAXIMUM_RESOLUTION = 0.0581
FOOTPRINT_POINT_LATITUDE = (-25.5375,-25.5502,-25.5642,-25.5644, -25.5612,-24.7713,-24.1205,-23.6866, -23.2532,-22.8207,-22.3886,-21.9565, -21.5247,-21.0935,-20.6631,-19.8037, -19.1604,-18.0917,-17.4401,-17.0033, -16.5669,-16.1203,-15.4515,-14.7706, -14.3151,-13.8533,-13.3891,-12.6847, -12.2107,-11.731,-11.2474,-10.7585, -10.2659,-9.76819,-9.26785,-8.75829, -8.24759,-7.73004,-7.20669,-6.679, -6.14455,-5.60352,-5.05637,-4.50674, -3.94566,-3.3781,-2.80613,-2.22569, -1.93339,-1.82079,-1.79939,-1.78026, -1.76474,-1.76417,-1.76537,-2.3514, -2.93051,-3.5014,-4.06528,-4.62315, -5.17579,-5.72262,-6.25827,-6.79478, -7.32157,-7.84323,-8.36115,-8.87096, -9.62767,-10.1299,-10.6227,-11.1122, -11.5953,-12.0796,-12.5532,-13.0287, -13.4934,-14.1896,-14.6451,-15.3286, -15.9983,-16.4445,-16.883,-17.5396, -18.1896,-19.0453,-19.904,-20.765, -21.196,-21.6277,-22.0593,-22.4917, -22.9246,-23.3582,-23.792,-24.2266, -24.6608,-25.2816,-25.464,-25.5375)
FOOTPRINT_POINT_LONGITUDE = (146.55,145.971,145.127,145.114,145.114 ,145.105,145.095,145.089,145.083, 145.076,145.068,145.061,145.054,145.046 ,145.038,145.021,145.007,144.984, 144.969,144.958,144.948,144.937,144.919 ,144.901,144.889,144.877,144.863, 144.842,144.828,144.814,144.799,144.784 ,144.769,144.752,144.735,144.718,144.7, 144.681,144.662,144.642,144.622,144.601 ,144.58,144.557,144.534,144.511,144.486 ,144.461,144.448,144.443,145.237, 145.951,146.484,146.503,146.51,146.506, 146.501,146.499,146.499,146.499,146.499 ,146.488,146.497,146.49,146.49,146.489, 146.489,146.489,146.49,146.483,146.481, 146.485,146.487,146.479,146.482,146.48, 146.482,146.486,146.488,146.49,146.493, 146.5,146.501,146.504,146.503,146.51, 146.515,146.519,146.523,146.526,146.532 ,146.536,146.54,146.544,146.548,146.55, 146.556,146.562,146.564,146.55)
ORBIT_NUMBER = 23089
ORBITAL_ECCENTRICITY = 0.576
ORBITAL_INCLINATION = 86.99
ORBITAL_SEMIMAJOR_AXIS = 8815.92
PERIAPSIS_ALTITUDE = 344.82
PERIAPSIS_ARGUMENT_ANGLE = 323.84
PERIAPSIS_TIME = 2022-04-11T20:24:25.000Z
SPACECRAFT_ORIENTATION = (0.0,1.0,0.0)
^MEX_ORIENTATION_DESC = "MEX_ORIENTATION_DESC.TXT"
SPACECRAFT_POINTING_MODE = ACROSSTRACK
^MEX_POINTING_DESC = "MEX_POINTING_DESC.TXT"
RIGHT_ASCENSION = -1e+32
DECLINATION = -1e+32
OFFSET_ANGLE = -1.1
SPACECRAFT_SOLAR_DISTANCE = 2.11752e+08
TARGET_NAME = MARS
/* CAMERA DATA ELEMENTS */
DETECTOR_TEMPERATURE = 18.1666
FOCAL_PLANE_TEMPERATURE = 7.9716
INST_CMPRS_NAME = "DISCRETE COSINE TRANSFORMATION (DCT)"
INST_CMPRS_RATIO = 4.48358
INST_CMPRS_QUALITY = 0
INST_CMPRS_QUANTZ_TBL_ID = 0
INSTRUMENT_TEMPERATURE = 11.234
LENS_TEMPERATURE = 8.5833
MACROPIXEL_SIZE = 4
MISSING_FRAMES = 0
PIXEL_SUBSAMPLING_FLAG = N
SIGNAL_CHAIN_ID = 2
/* RADIOMETRIC DATA ELEMENTS */
BANDWIDTH = 76.0
CENTER_FILTER_WAVELENGTH = 444.0
RADIANCE_OFFSET = 0.33383
RADIANCE_SCALING_FACTOR = 0.00149396
REFLECTANCE_SCALING_FACTOR = 6.88251e-05
MEX:REFLECTANCE_OFFSET = 0.0153792
/* IMAGE OBJECT DEFINITIONS */
OBJECT = IMAGE
  INTERCHANGE_FORMAT = BINARY
  LINES = 28189
  LINE_SAMPLES = 2498
  SAMPLE_TYPE = UNSIGNED_INTEGER
  SAMPLE_BITS = 8
  BANDS = 1
  BAND_STORAGE_TYPE = BAND_SEQUENTIAL
  MAXIMUM = 255
  MEAN = 125.005
  MINIMUM = 1
  STANDARD_DEVIATION = 23.0483
END_OBJECT = IMAGE
/* MAP OBJECT DEFINITIONS */
OBJECT = IMAGE_MAP_PROJECTION
  ^DATA_SET_MAP_PROJECTION_CATALOG= "DSMAP.CAT"
  A_AXIS_RADIUS = 3396.0
  B_AXIS_RADIUS = 3396.0
  C_AXIS_RADIUS = 3396.0
  CENTER_LATITUDE = 0.0
  CENTER_LONGITUDE = 146.0
  COORDINATE_SYSTEM_NAME = PLANETOGRAPHIC
  COORDINATE_SYSTEM_TYPE = "BODY-FIXED ROTATING"
  EASTERNMOST_LONGITUDE = 146.564
  FIRST_STANDARD_PARALLEL = "N/A"
  LINE_FIRST_PIXEL = 1
  LINE_LAST_PIXEL = 28189
  LINE_PROJECTION_OFFSET = -2120.875
  MAP_PROJECTION_ROTATION = 0.0
  MAP_PROJECTION_TYPE = SINUSOIDAL
  MAP_RESOLUTION = 1185.42760773333
  MAP_SCALE = 0.05
  MAXIMUM_LATITUDE = -1.76417
  MINIMUM_LATITUDE = -25.5644
  POSITIVE_LONGITUDE_DIRECTION = EAST
  REFERENCE_LATITUDE = "N/A"
  REFERENCE_LONGITUDE = "N/A"
  SAMPLE_FIRST_PIXEL = 1
  SAMPLE_LAST_PIXEL = 2498
  SAMPLE_PROJECTION_OFFSET = 1876.375
  SECOND_STANDARD_PARALLEL = "N/A"
  WESTERNMOST_LONGITUDE = 144.443
END_OBJECT = IMAGE_MAP_PROJECTION
END
