PDS_VERSION_ID = PDS3
/* FILE DATA ELEMENTS */
RECORD_TYPE = UNDEFINED
/* POINTERS TO DATA OBJECTS */
^IMAGE = ("HN090_0000_ND4.TIF")
/* IDENTIFICATION DATA ELEMENTS */
DATA_SET_ID = "MEX-M-HRSC-4-REFDR-MAPPROJECT-EXT8-V4.0"
DATA_SET_NAME = "MARS EXPRESS HRSC MAP PROJECTED REFDR EXTENSION8 V4.0"
DETECTOR_ID = MEX_HRSC_NADIR
EVENT_TYPE = "MARS-REGIONAL-MAPPING-Im-Fl-La"
INSTRUMENT_HOST_ID = MEX
INSTRUMENT_HOST_NAME = "MARS EXPRESS"
INSTRUMENT_ID = HRSC
INSTRUMENT_NAME = "HIGH RESOLUTION STEREO CAMERA"
MISSION_NAME = "MARS EXPRESS"
MISSION_PHASE_NAME = ME_Phase_46
PROCESSING_LEVEL_ID = 4
PRODUCT_CREATION_TIME = 2023-01-28T22:22:56.000Z
PRODUCT_ID = "HN090_0000_ND4.TIF"
RELEASE_ID = 0004
REVISION_ID = 0000
/* QUALITY DATA ELEMENTS */
DATA_QUALITY_ID = 1
DATA_QUALITY_DESC = "Data calculated based on original SPICE kernels"
/* TIME DATA ELEMENTS */
SPACECRAFT_CLOCK_START_COUNT = "1/0597813855.25680"
SPACECRAFT_CLOCK_STOP_COUNT = "1/0597814113.16655"
START_TIME = 2022-04-12T03:25:21.950Z
STOP_TIME = 2022-04-12T03:28:23.966Z
/* ORBITAL DATA ELEMENTS */
ASCENDING_NODE_LONGITUDE = 143.63
MAXIMUM_RESOLUTION = 0.0142
FOOTPRINT_POINT_LATITUDE = (-28.5819,-28.5884,-28.5922,-28.5944, -28.5945,-28.5939,-28.2874,-27.8788, -27.4707,-27.0628,-26.6552,-26.248, -25.9005,-25.6578,-25.4153,-25.1729, -24.9307,-24.6886,-24.4467,-24.2049, -23.9633,-23.7218,-23.4804,-23.2392, -22.9982,-22.7574,-22.5168,-22.2763, -22.036,-21.7959,-21.556,-21.3163, -21.0767,-20.8374,-20.5982,-20.3592, -20.1205,-19.8818,-19.6434,-19.4053, -19.1673,-18.9295,-18.57,-18.3264, -18.083,-17.8399,-17.597,-17.3544, -17.1063,-16.9821,-16.9711,-16.9624, -16.9541,-16.9474,-16.9471,-16.9472, -17.3204,-17.5632,-17.8063,-18.0497, -18.2933,-18.5371,-18.7784,-19.0163, -19.2544,-19.4927,-19.7312,-19.97, -20.2087,-20.4476,-20.6869,-20.9264, -21.1665,-21.406,-21.646,-21.8865, -22.127,-22.3675,-22.6083,-22.8493, -23.0904,-23.3317,-23.5731,-23.8147, -24.0565,-24.2985,-24.5406,-24.7828, -25.0252,-25.2677,-25.5104,-25.7532, -26.2242,-26.6317,-27.0396,-27.4479, -27.8564,-28.4699,-28.5722,-28.5819)
FOOTPRINT_POINT_LONGITUDE = (44.6994,44.159,43.6959,43.2476,43.2338 ,43.2344,43.2316,43.2277,43.2228, 43.2179,43.2128,43.2075,43.2025,43.1986 ,43.1952,43.1916,43.1882,43.1838, 43.1797,43.1756,43.1717,43.1681,43.1649 ,43.1608,43.1567,43.1523,43.1477, 43.1431,43.1383,43.1334,43.1281,43.1229 ,43.118,43.1125,43.1073,43.1026,43.0964 ,43.092,43.0878,43.0814,43.076,43.0715, 43.0628,43.0567,43.0509,43.0449,43.0387 ,43.0323,43.0257,43.0226,43.0223, 43.6891,44.2194,44.58,44.5963,44.6043, 44.5998,44.6039,44.6062,44.6088,44.611, 44.6123,44.6139,44.6153,44.6167,44.6181 ,44.6203,44.6187,44.6274,44.6354, 44.6375,44.6388,44.6302,44.6421,44.6467 ,44.6421,44.6436,44.6475,44.65,44.6526, 44.6553,44.6579,44.6614,44.6643,44.6667 ,44.6693,44.6716,44.6745,44.6768, 44.6793,44.6822,44.6849,44.6899,44.6982 ,44.7025,44.7082,44.7141,44.7214, 44.7227,44.6994)
ORBIT_NUMBER = 23090
ORBITAL_ECCENTRICITY = 0.577
ORBITAL_INCLINATION = 87.0
ORBITAL_SEMIMAJOR_AXIS = 8817.42
PERIAPSIS_ALTITUDE = 344.34
PERIAPSIS_ARGUMENT_ANGLE = 323.66
PERIAPSIS_TIME = 2022-04-12T03:23:24.000Z
SPACECRAFT_ORIENTATION = (0.0,1.0,0.0)
^MEX_ORIENTATION_DESC = "MEX_ORIENTATION_DESC.TXT"
SPACECRAFT_POINTING_MODE = ACROSSTRACK
^MEX_POINTING_DESC = "MEX_POINTING_DESC.TXT"
RIGHT_ASCENSION = -1e+32
DECLINATION = -1e+32
OFFSET_ANGLE = -1.3
SPACECRAFT_SOLAR_DISTANCE = 2.11712e+08
TARGET_NAME = MARS
/* CAMERA DATA ELEMENTS */
DETECTOR_TEMPERATURE = 18.3705
FOCAL_PLANE_TEMPERATURE = 8.3794
INST_CMPRS_NAME = "DISCRETE COSINE TRANSFORMATION (DCT)"
INST_CMPRS_RATIO = 4.78143
INST_CMPRS_QUALITY = 0
INST_CMPRS_QUANTZ_TBL_ID = 0
INSTRUMENT_TEMPERATURE = 11.0301
LENS_TEMPERATURE = 8.3794
MACROPIXEL_SIZE = 1
MISSING_FRAMES = 0
PIXEL_SUBSAMPLING_FLAG = N
SIGNAL_CHAIN_ID = 0
/* RADIOMETRIC DATA ELEMENTS */
BANDWIDTH = 177.0
CENTER_FILTER_WAVELENGTH = 677.5
RADIANCE_OFFSET = 1.97736
RADIANCE_SCALING_FACTOR = 0.00878827
REFLECTANCE_SCALING_FACTOR = 0.000209257
MEX:REFLECTANCE_OFFSET = 0.0470829
/* IMAGE OBJECT DEFINITIONS */
OBJECT = IMAGE
  INTERCHANGE_FORMAT = BINARY
  LINES = 55228
  LINE_SAMPLES = 7446
  SAMPLE_TYPE = UNSIGNED_INTEGER
  SAMPLE_BITS = 8
  BANDS = 1
  BAND_STORAGE_TYPE = BAND_SEQUENTIAL
  MAXIMUM = 255
  MEAN = 104.391
  MINIMUM = 1
  STANDARD_DEVIATION = 26.2372
END_OBJECT = IMAGE
/* MAP OBJECT DEFINITIONS */
OBJECT = IMAGE_MAP_PROJECTION
  ^DATA_SET_MAP_PROJECTION_CATALOG= "DSMAP.CAT"
  A_AXIS_RADIUS = 3396.0
  B_AXIS_RADIUS = 3396.0
  C_AXIS_RADIUS = 3396.0
  CENTER_LATITUDE = 0.0
  CENTER_LONGITUDE = 44.0
  COORDINATE_SYSTEM_NAME = PLANETOGRAPHIC
  COORDINATE_SYSTEM_TYPE = "BODY-FIXED ROTATING"
  EASTERNMOST_LONGITUDE = 44.7227
  FIRST_STANDARD_PARALLEL = "N/A"
  LINE_FIRST_PIXEL = 1
  LINE_LAST_PIXEL = 55228
  LINE_PROJECTION_OFFSET = -80359.0
  MAP_PROJECTION_ROTATION = 0.0
  MAP_PROJECTION_TYPE = SINUSOIDAL
  MAP_RESOLUTION = 4741.71043093333
  MAP_SCALE = 0.0125
  MAXIMUM_LATITUDE = -16.9471
  MINIMUM_LATITUDE = -28.5945
  POSITIVE_LONGITUDE_DIRECTION = EAST
  REFERENCE_LATITUDE = "N/A"
  REFERENCE_LONGITUDE = "N/A"
  SAMPLE_FIRST_PIXEL = 1
  SAMPLE_LAST_PIXEL = 7446
  SAMPLE_PROJECTION_OFFSET = 4434.0
  SECOND_STANDARD_PARALLEL = "N/A"
  WESTERNMOST_LONGITUDE = 43.0223
END_OBJECT = IMAGE_MAP_PROJECTION
END
