PDS_VERSION_ID = PDS3
/* FILE DATA ELEMENTS */
RECORD_TYPE = UNDEFINED
/* POINTERS TO DATA OBJECTS */
^IMAGE = ("HN097_0000_GR4.TIF")
/* IDENTIFICATION DATA ELEMENTS */
DATA_SET_ID = "MEX-M-HRSC-4-REFDR-MAPPROJECT-EXT8-V4.0"
DATA_SET_NAME = "MARS EXPRESS HRSC MAP PROJECTED REFDR EXTENSION8 V4.0"
DETECTOR_ID = MEX_HRSC_GREEN
EVENT_TYPE = "MARS-REGIONAL-MAPPING-Im-Fl-La"
INSTRUMENT_HOST_ID = MEX
INSTRUMENT_HOST_NAME = "MARS EXPRESS"
INSTRUMENT_ID = HRSC
INSTRUMENT_NAME = "HIGH RESOLUTION STEREO CAMERA"
MISSION_NAME = "MARS EXPRESS"
MISSION_PHASE_NAME = ME_Phase_46
PROCESSING_LEVEL_ID = 4
PRODUCT_CREATION_TIME = 2023-01-28T22:22:56.000Z
PRODUCT_ID = "HN097_0000_GR4.TIF"
RELEASE_ID = 0004
REVISION_ID = 0000
/* QUALITY DATA ELEMENTS */
DATA_QUALITY_ID = 1
DATA_QUALITY_DESC = "Data calculated based on original SPICE kernels"
/* TIME DATA ELEMENTS */
SPACECRAFT_CLOCK_START_COUNT = "1/0597989858.23967"
SPACECRAFT_CLOCK_STOP_COUNT = "1/0597990114.15182"
START_TIME = 2022-04-14T04:18:52.422Z
STOP_TIME = 2022-04-14T04:21:49.818Z
/* ORBITAL DATA ELEMENTS */
ASCENDING_NODE_LONGITUDE = 143.51
MAXIMUM_RESOLUTION = 0.059
FOOTPRINT_POINT_LATITUDE = (-28.291,-28.2909,-28.2892,-28.2845, -28.2844,-28.2861,-28.0656,-27.8454, -27.6253,-27.4053,-27.1854,-26.8561, -26.6365,-26.4164,-26.1972,-25.9781, -25.7592,-25.4309,-25.2122,-24.9937, -24.7754,-24.5572,-24.3392,-23.9035, -23.4685,-23.1426,-22.6004,-22.1672, -21.7358,-21.4036,-21.1812,-20.9614, -20.6303,-20.4096,-20.0736,-19.7355, -19.5099,-19.2847,-19.0595,-18.8345, -18.6041,-18.3739,-18.144,-17.9142, -17.6846,-17.3341,-17.2167,-17.129, -17.1264,-17.1217,-17.1183,-17.109, -17.1087,-17.1097,-17.3449,-17.5804, -17.8103,-18.0405,-18.271,-18.5016, -18.8472,-19.0727,-19.2983,-19.5254, -19.7517,-19.977,-20.203,-20.4243, -20.6456,-20.8671,-21.0889,-21.4219, -21.6441,-22.0782,-22.2962,-22.6219, -23.0557,-23.4911,-23.7091,-23.9275, -24.1458,-24.3638,-24.5837,-24.912, -25.1309,-25.35,-25.568,-25.7877, -26.0074,-26.2271,-26.4469,-26.667, -26.9974,-27.2178,-27.4383,-27.6589, -27.8796,-28.1004,-28.2108,-28.291)
FOOTPRINT_POINT_LONGITUDE = (46.034,45.5862,45.1167,44.4641,44.448, 44.4119,44.4193,44.4258,44.4315,44.4377 ,44.4441,44.4495,44.456,44.4685,44.4726 ,44.4768,44.481,44.4883,44.4924,44.4963 ,44.4998,44.5039,44.507,44.5143,44.5205 ,44.5265,44.5331,44.5395,44.5353, 44.5429,44.553,44.5425,44.5412,44.5428, 44.5623,44.5571,44.5573,44.5562,44.5566 ,44.5558,44.5553,44.5542,44.5535,44.554 ,44.5543,44.5566,44.5568,44.5528,44.837 ,45.2621,45.6054,46.23,46.2449,46.2498, 46.2461,46.2419,46.2383,46.2347,46.2311 ,46.2276,46.2233,46.2197,46.2168, 46.2089,46.2048,46.205,46.2017,46.197, 46.1929,46.1888,46.1841,46.1773,46.1731 ,46.1667,46.1579,46.151,46.1466,46.1374 ,46.1327,46.1271,46.1224,46.1193, 46.1088,46.101,46.0964,46.0912,46.0922, 46.0858,46.0802,46.0748,46.0696,46.0636 ,46.0543,46.0483,46.0421,46.0364, 46.0301,46.0245,46.0216,46.034)
ORBIT_NUMBER = 23097
ORBITAL_ECCENTRICITY = 0.577
ORBITAL_INCLINATION = 87.0
ORBITAL_SEMIMAJOR_AXIS = 8815.15
PERIAPSIS_ALTITUDE = 344.0
PERIAPSIS_ARGUMENT_ANGLE = 322.47
PERIAPSIS_TIME = 2022-04-14T04:16:26.000Z
SPACECRAFT_ORIENTATION = (0.0,1.0,0.0)
^MEX_ORIENTATION_DESC = "MEX_ORIENTATION_DESC.TXT"
SPACECRAFT_POINTING_MODE = ACROSSTRACK
^MEX_POINTING_DESC = "MEX_POINTING_DESC.TXT"
RIGHT_ASCENSION = -1e+32
DECLINATION = -1e+32
OFFSET_ANGLE = 2.0
SPACECRAFT_SOLAR_DISTANCE = 2.11439e+08
TARGET_NAME = MARS
/* CAMERA DATA ELEMENTS */
DETECTOR_TEMPERATURE = 18.1666
FOCAL_PLANE_TEMPERATURE = 8.5833
INST_CMPRS_NAME = "DISCRETE COSINE TRANSFORMATION (DCT)"
INST_CMPRS_RATIO = 24.024
INST_CMPRS_QUALITY = 0
INST_CMPRS_QUANTZ_TBL_ID = 0
INSTRUMENT_TEMPERATURE = 11.4379
LENS_TEMPERATURE = 9.195
MACROPIXEL_SIZE = 4
MISSING_FRAMES = 0
PIXEL_SUBSAMPLING_FLAG = N
SIGNAL_CHAIN_ID = 2
/* RADIOMETRIC DATA ELEMENTS */
BANDWIDTH = 88.0
CENTER_FILTER_WAVELENGTH = 538.0
RADIANCE_OFFSET = 1.08328
RADIANCE_SCALING_FACTOR = 0.00172915
REFLECTANCE_SCALING_FACTOR = 6.65566e-05
MEX:REFLECTANCE_OFFSET = 0.0416965
/* IMAGE OBJECT DEFINITIONS */
OBJECT = IMAGE
  INTERCHANGE_FORMAT = BINARY
  LINES = 13258
  LINE_SAMPLES = 2030
  SAMPLE_TYPE = UNSIGNED_INTEGER
  SAMPLE_BITS = 8
  BANDS = 1
  BAND_STORAGE_TYPE = BAND_SEQUENTIAL
  MAXIMUM = 255
  MEAN = 227.49
  MINIMUM = 1
  STANDARD_DEVIATION = 34.4475
END_OBJECT = IMAGE
/* MAP OBJECT DEFINITIONS */
OBJECT = IMAGE_MAP_PROJECTION
  ^DATA_SET_MAP_PROJECTION_CATALOG= "DSMAP.CAT"
  A_AXIS_RADIUS = 3396.0
  B_AXIS_RADIUS = 3396.0
  C_AXIS_RADIUS = 3396.0
  CENTER_LATITUDE = 0.0
  CENTER_LONGITUDE = 45.0
  COORDINATE_SYSTEM_NAME = PLANETOGRAPHIC
  COORDINATE_SYSTEM_TYPE = "BODY-FIXED ROTATING"
  EASTERNMOST_LONGITUDE = 46.2498
  FIRST_STANDARD_PARALLEL = "N/A"
  LINE_FIRST_PIXEL = 1
  LINE_LAST_PIXEL = 13258
  LINE_PROJECTION_OFFSET = -20293.375
  MAP_PROJECTION_ROTATION = 0.0
  MAP_PROJECTION_TYPE = SINUSOIDAL
  MAP_RESOLUTION = 1185.42760773333
  MAP_SCALE = 0.05
  MAXIMUM_LATITUDE = -17.1087
  MINIMUM_LATITUDE = -28.291
  POSITIVE_LONGITUDE_DIRECTION = EAST
  REFERENCE_LATITUDE = "N/A"
  REFERENCE_LONGITUDE = "N/A"
  SAMPLE_FIRST_PIXEL = 1
  SAMPLE_LAST_PIXEL = 2030
  SAMPLE_PROJECTION_OFFSET = 620.125
  SECOND_STANDARD_PARALLEL = "N/A"
  WESTERNMOST_LONGITUDE = 44.4119
END_OBJECT = IMAGE_MAP_PROJECTION
END
