PDS_VERSION_ID = PDS3
/* FILE DATA ELEMENTS */
RECORD_TYPE = UNDEFINED
/* POINTERS TO DATA OBJECTS */
^IMAGE = ("HN098_0000_BL4.TIF")
/* IDENTIFICATION DATA ELEMENTS */
DATA_SET_ID = "MEX-M-HRSC-4-REFDR-MAPPROJECT-EXT8-V4.0"
DATA_SET_NAME = "MARS EXPRESS HRSC MAP PROJECTED REFDR EXTENSION8 V4.0"
DETECTOR_ID = MEX_HRSC_BLUE
EVENT_TYPE = "MARS-LOCAL-CARTOGRAPHY-Im-Gl-Pf"
INSTRUMENT_HOST_ID = MEX
INSTRUMENT_HOST_NAME = "MARS EXPRESS"
INSTRUMENT_ID = HRSC
INSTRUMENT_NAME = "HIGH RESOLUTION STEREO CAMERA"
MISSION_NAME = "MARS EXPRESS"
MISSION_PHASE_NAME = ME_Phase_46
PROCESSING_LEVEL_ID = 4
PRODUCT_CREATION_TIME = 2023-01-28T22:22:56.000Z
PRODUCT_ID = "HN098_0000_BL4.TIF"
RELEASE_ID = 0004
REVISION_ID = 0000
/* QUALITY DATA ELEMENTS */
DATA_QUALITY_ID = 1
DATA_QUALITY_DESC = "Data calculated based on original SPICE kernels"
/* TIME DATA ELEMENTS */
SPACECRAFT_CLOCK_START_COUNT = "1/0598014597.37578"
SPACECRAFT_CLOCK_STOP_COUNT = "1/0598014963.24469"
START_TIME = 2022-04-14T11:11:05.598Z
STOP_TIME = 2022-04-14T11:14:46.584Z
/* ORBITAL DATA ELEMENTS */
ASCENDING_NODE_LONGITUDE = 143.49
MAXIMUM_RESOLUTION = 0.0552
FOOTPRINT_POINT_LATITUDE = (-54.1294,-54.1222,-54.1117,-54.0972, -54.0967,-54.0802,-53.799,-53.2489, -52.8362,-52.421,-51.8729,-51.5934, -51.316,-50.7629,-50.4847,-50.0671, -49.7881,-49.5087,-49.2297,-48.9503, -48.6707,-48.2519,-47.9706,-47.6898, -47.4113,-47.1293,-46.7083,-46.4266, -46.0033,-45.7218,-45.4396,-45.0164, -44.734,-44.4498,-44.1683,-43.8848, -43.6006,-43.318,-43.0333,-42.7495, -42.4632,-42.1795,-41.8978,-41.612, -41.3272,-40.9008,-40.616,-40.1891, -40.0464,-39.9541,-39.9559,-39.9544, -39.9534,-39.9534,-39.9544,-40.2389, -40.5236,-40.809,-41.0925,-41.3775, -41.6625,-41.9489,-42.3768,-42.6627, -42.9467,-43.2304,-43.6554,-43.9388, -44.2224,-44.648,-44.9309,-45.3569, -45.6406,-46.0621,-46.3447,-46.7681, -47.0513,-47.3324,-47.7533,-48.1752, -48.5954,-48.8757,-49.1568,-49.4363, -49.8555,-50.1347,-50.4136,-50.6922, -50.9702,-51.2484,-51.5263,-51.8042, -52.2203,-52.4982,-52.7748,-53.1889, -53.4666,-53.8818,-54.0252,-54.1294)
FOOTPRINT_POINT_LONGITUDE = (307.127,306.172,305.46,304.76,304.738, 304.742,304.77,304.825,304.864,304.903, 304.948,304.973,304.996,305.039,305.06, 305.091,305.111,305.131,305.15,305.168, 305.186,305.212,305.229,305.246,305.26, 305.277,305.299,305.313,305.335,305.348 ,305.361,305.38,305.392,305.405,305.415 ,305.427,305.438,305.448,305.459, 305.469,305.48,305.489,305.496,305.506, 305.514,305.526,305.533,305.544,305.547 ,305.55,306.386,306.749,307.124,307.139 ,307.144,307.151,307.157,307.158, 307.169,307.171,307.173,307.167,307.166 ,307.161,307.165,307.17,307.178,307.183 ,307.186,307.187,307.191,307.186, 307.183,307.199,307.199,307.201,307.195 ,307.2,307.208,307.209,307.216,307.218, 307.214,307.218,307.221,307.222,307.224 ,307.227,307.23,307.231,307.232,307.231 ,307.232,307.227,307.228,307.23,307.219 ,307.219,307.207,307.127)
ORBIT_NUMBER = 23098
ORBITAL_ECCENTRICITY = 0.576
ORBITAL_INCLINATION = 87.0
ORBITAL_SEMIMAJOR_AXIS = 8811.44
PERIAPSIS_ALTITUDE = 344.16
PERIAPSIS_ARGUMENT_ANGLE = 322.31
PERIAPSIS_TIME = 2022-04-14T11:15:28.000Z
SPACECRAFT_ORIENTATION = (0.0,1.0,0.0)
^MEX_ORIENTATION_DESC = "MEX_ORIENTATION_DESC.TXT"
SPACECRAFT_POINTING_MODE = ACROSSTRACK
^MEX_POINTING_DESC = "MEX_POINTING_DESC.TXT"
RIGHT_ASCENSION = -1e+32
DECLINATION = -1e+32
OFFSET_ANGLE = -0.808
SPACECRAFT_SOLAR_DISTANCE = 2.114e+08
TARGET_NAME = MARS
/* CAMERA DATA ELEMENTS */
DETECTOR_TEMPERATURE = 0.0
FOCAL_PLANE_TEMPERATURE = 0.0
INST_CMPRS_NAME = "DISCRETE COSINE TRANSFORMATION (DCT)"
INST_CMPRS_RATIO = 21.8781
INST_CMPRS_QUALITY = 0
INST_CMPRS_QUANTZ_TBL_ID = 0
INSTRUMENT_TEMPERATURE = 0.0
LENS_TEMPERATURE = 0.0
MACROPIXEL_SIZE = 4
MISSING_FRAMES = 0
PIXEL_SUBSAMPLING_FLAG = N
SIGNAL_CHAIN_ID = 2
/* RADIOMETRIC DATA ELEMENTS */
BANDWIDTH = 76.0
CENTER_FILTER_WAVELENGTH = 444.0
RADIANCE_OFFSET = 0.419669
RADIANCE_SCALING_FACTOR = 0.000679539
REFLECTANCE_SCALING_FACTOR = 3.12019e-05
MEX:REFLECTANCE_OFFSET = 0.0192696
/* IMAGE OBJECT DEFINITIONS */
OBJECT = IMAGE
  INTERCHANGE_FORMAT = BINARY
  LINES = 16425
  LINE_SAMPLES = 1924
  SAMPLE_TYPE = UNSIGNED_INTEGER
  SAMPLE_BITS = 8
  BANDS = 1
  BAND_STORAGE_TYPE = BAND_SEQUENTIAL
  MAXIMUM = 255
  MEAN = 245.608
  MINIMUM = 7
  STANDARD_DEVIATION = 23.4689
END_OBJECT = IMAGE
/* MAP OBJECT DEFINITIONS */
OBJECT = IMAGE_MAP_PROJECTION
  ^DATA_SET_MAP_PROJECTION_CATALOG= "DSMAP.CAT"
  A_AXIS_RADIUS = 3396.0
  B_AXIS_RADIUS = 3396.0
  C_AXIS_RADIUS = 3396.0
  CENTER_LATITUDE = 0.0
  CENTER_LONGITUDE = 306.0
  COORDINATE_SYSTEM_NAME = PLANETOGRAPHIC
  COORDINATE_SYSTEM_TYPE = "BODY-FIXED ROTATING"
  EASTERNMOST_LONGITUDE = 307.232
  FIRST_STANDARD_PARALLEL = "N/A"
  LINE_FIRST_PIXEL = 1
  LINE_LAST_PIXEL = 16425
  LINE_PROJECTION_OFFSET = -47719.125
  MAP_PROJECTION_ROTATION = 0.0
  MAP_PROJECTION_TYPE = SINUSOIDAL
  MAP_RESOLUTION = 1185.42760773333
  MAP_SCALE = 0.05
  MAXIMUM_LATITUDE = -39.9534
  MINIMUM_LATITUDE = -54.1294
  POSITIVE_LONGITUDE_DIRECTION = EAST
  REFERENCE_LATITUDE = "N/A"
  REFERENCE_LONGITUDE = "N/A"
  SAMPLE_FIRST_PIXEL = 1
  SAMPLE_LAST_PIXEL = 1924
  SAMPLE_PROJECTION_OFFSET = 878.875
  SECOND_STANDARD_PARALLEL = "N/A"
  WESTERNMOST_LONGITUDE = 304.738
END_OBJECT = IMAGE_MAP_PROJECTION
END
