PDS_VERSION_ID = PDS3
/* FILE DATA ELEMENTS */
RECORD_TYPE = UNDEFINED
/* POINTERS TO DATA OBJECTS */
^IMAGE = ("HN098_0000_S24.TIF")
/* IDENTIFICATION DATA ELEMENTS */
DATA_SET_ID = "MEX-M-HRSC-4-REFDR-MAPPROJECT-EXT8-V4.0"
DATA_SET_NAME = "MARS EXPRESS HRSC MAP PROJECTED REFDR EXTENSION8 V4.0"
DETECTOR_ID = MEX_HRSC_S2
EVENT_TYPE = "MARS-LOCAL-CARTOGRAPHY-Im-Gl-Pf"
INSTRUMENT_HOST_ID = MEX
INSTRUMENT_HOST_NAME = "MARS EXPRESS"
INSTRUMENT_ID = HRSC
INSTRUMENT_NAME = "HIGH RESOLUTION STEREO CAMERA"
MISSION_NAME = "MARS EXPRESS"
MISSION_PHASE_NAME = ME_Phase_46
PROCESSING_LEVEL_ID = 4
PRODUCT_CREATION_TIME = 2023-01-28T22:22:56.000Z
PRODUCT_ID = "HN098_0000_S24.TIF"
RELEASE_ID = 0004
REVISION_ID = 0000
/* QUALITY DATA ELEMENTS */
DATA_QUALITY_ID = 1
DATA_QUALITY_DESC = "Data calculated based on original SPICE kernels"
/* TIME DATA ELEMENTS */
SPACECRAFT_CLOCK_START_COUNT = "1/0598014597.37578"
SPACECRAFT_CLOCK_STOP_COUNT = "1/0598014963.24469"
START_TIME = 2022-04-14T11:10:32.000Z
STOP_TIME = 2022-04-14T11:14:47.087Z
/* ORBITAL DATA ELEMENTS */
ASCENDING_NODE_LONGITUDE = 143.49
MAXIMUM_RESOLUTION = 0.0293
FOOTPRINT_POINT_LATITUDE = (-54.1712,-54.1854,-54.1898,-54.1878, -54.1876,-54.1012,-53.6292,-53.1486, -52.835,-52.5157,-52.2079,-51.7468, -51.4357,-51.1303,-50.6742,-50.3666, -50.0583,-49.7458,-49.2793,-48.9689, -48.6577,-48.3507,-48.0364,-47.7194, -47.2565,-46.7891,-46.4749,-46.1583, -45.8378,-45.5234,-45.0493,-44.7345, -44.4082,-43.9352,-43.6131,-43.1343, -42.8104,-42.4786,-42.1595,-41.6826, -41.3585,-41.039,-40.7153,-40.3938, -40.0689,-39.5856,-39.0967,-38.771, -38.4422,-38.2783,-38.261,-38.2311, -38.2009,-38.2,-38.2002,-38.5282, -39.021,-39.3507,-39.8434,-40.3218, -40.6434,-41.1206,-41.4434,-41.7697, -42.2546,-42.5925,-42.9123,-43.2302, -43.7044,-44.0209,-44.3429,-44.8189, -45.1471,-45.4633,-45.7885,-46.2466, -46.5586,-46.883,-47.3553,-47.82, -48.134,-48.5985,-48.9096,-49.227, -49.5347,-49.8439,-50.1529,-50.4606, -50.9205,-51.2272,-51.5343,-51.8433, -52.158,-52.4771,-52.9487,-53.2626, -53.5888,-53.9095,-54.0742,-54.1712)
FOOTPRINT_POINT_LONGITUDE = (307.203,306.253,305.47,304.7,304.676, 304.682,304.732,304.782,304.813,304.844 ,304.873,304.914,304.942,304.967, 305.005,305.029,305.053,305.076,305.11, 305.132,305.153,305.173,305.193,305.213 ,305.24,305.266,305.283,305.3,305.317, 305.333,305.355,305.369,305.385,305.404 ,305.418,305.436,305.449,305.462, 305.473,305.488,305.498,305.507,305.517 ,305.526,305.534,305.546,305.558, 305.565,305.572,305.576,305.576,306.42, 307.137,307.153,307.158,307.16,307.162, 307.162,307.162,307.175,307.181,307.193 ,307.197,307.197,307.2,307.189,307.193, 307.199,307.21,307.216,307.217,307.223, 307.217,307.221,307.216,307.237,307.244 ,307.238,307.242,307.253,307.255, 307.264,307.268,307.264,307.27,307.274, 307.277,307.281,307.288,307.292,307.294 ,307.296,307.298,307.294,307.295, 307.301,307.296,307.296,307.291, 307.203)
ORBIT_NUMBER = 23098
ORBITAL_ECCENTRICITY = 0.576
ORBITAL_INCLINATION = 87.0
ORBITAL_SEMIMAJOR_AXIS = 8811.44
PERIAPSIS_ALTITUDE = 344.16
PERIAPSIS_ARGUMENT_ANGLE = 322.31
PERIAPSIS_TIME = 2022-04-14T11:15:28.000Z
SPACECRAFT_ORIENTATION = (0.0,1.0,0.0)
^MEX_ORIENTATION_DESC = "MEX_ORIENTATION_DESC.TXT"
SPACECRAFT_POINTING_MODE = ACROSSTRACK
^MEX_POINTING_DESC = "MEX_POINTING_DESC.TXT"
RIGHT_ASCENSION = -1e+32
DECLINATION = -1e+32
OFFSET_ANGLE = -0.808
SPACECRAFT_SOLAR_DISTANCE = 2.114e+08
TARGET_NAME = MARS
/* CAMERA DATA ELEMENTS */
DETECTOR_TEMPERATURE = 0.0
FOCAL_PLANE_TEMPERATURE = 0.0
INST_CMPRS_NAME = "DISCRETE COSINE TRANSFORMATION (DCT)"
INST_CMPRS_RATIO = 8.89365
INST_CMPRS_QUALITY = 0
INST_CMPRS_QUANTZ_TBL_ID = 0
INSTRUMENT_TEMPERATURE = 0.0
LENS_TEMPERATURE = 0.0
MACROPIXEL_SIZE = 2
MISSING_FRAMES = 0
PIXEL_SUBSAMPLING_FLAG = N
SIGNAL_CHAIN_ID = 1
/* RADIOMETRIC DATA ELEMENTS */
BANDWIDTH = 178.0
CENTER_FILTER_WAVELENGTH = 679.0
RADIANCE_OFFSET = 2.62824
RADIANCE_SCALING_FACTOR = 0.00970932
REFLECTANCE_SCALING_FACTOR = 0.00022979
MEX:REFLECTANCE_OFFSET = 0.0622023
/* IMAGE OBJECT DEFINITIONS */
OBJECT = IMAGE
  INTERCHANGE_FORMAT = BINARY
  LINES = 32849
  LINE_SAMPLES = 3847
  SAMPLE_TYPE = UNSIGNED_INTEGER
  SAMPLE_BITS = 8
  BANDS = 1
  BAND_STORAGE_TYPE = BAND_SEQUENTIAL
  MAXIMUM = 255
  MEAN = 125.468
  MINIMUM = 1
  STANDARD_DEVIATION = 36.0788
END_OBJECT = IMAGE
/* MAP OBJECT DEFINITIONS */
OBJECT = IMAGE_MAP_PROJECTION
  ^DATA_SET_MAP_PROJECTION_CATALOG= "DSMAP.CAT"
  A_AXIS_RADIUS = 3396.0
  B_AXIS_RADIUS = 3396.0
  C_AXIS_RADIUS = 3396.0
  CENTER_LATITUDE = 0.0
  CENTER_LONGITUDE = 306.0
  COORDINATE_SYSTEM_NAME = PLANETOGRAPHIC
  COORDINATE_SYSTEM_TYPE = "BODY-FIXED ROTATING"
  EASTERNMOST_LONGITUDE = 307.301
  FIRST_STANDARD_PARALLEL = "N/A"
  LINE_FIRST_PIXEL = 1
  LINE_LAST_PIXEL = 32849
  LINE_PROJECTION_OFFSET = -95437.75
  MAP_PROJECTION_ROTATION = 0.0
  MAP_PROJECTION_TYPE = SINUSOIDAL
  MAP_RESOLUTION = 2370.85521546667
  MAP_SCALE = 0.025
  MAXIMUM_LATITUDE = -38.2
  MINIMUM_LATITUDE = -54.1898
  POSITIVE_LONGITUDE_DIRECTION = EAST
  REFERENCE_LATITUDE = "N/A"
  REFERENCE_LONGITUDE = "N/A"
  SAMPLE_FIRST_PIXEL = 1
  SAMPLE_LAST_PIXEL = 3847
  SAMPLE_PROJECTION_OFFSET = 1758.25
  SECOND_STANDARD_PARALLEL = "N/A"
  WESTERNMOST_LONGITUDE = 304.676
END_OBJECT = IMAGE_MAP_PROJECTION
END
