PDS_VERSION_ID = PDS3
/* FILE DATA ELEMENTS */
RECORD_TYPE = UNDEFINED
/* POINTERS TO DATA OBJECTS */
^IMAGE = ("HN103_0000_S14.TIF")
/* IDENTIFICATION DATA ELEMENTS */
DATA_SET_ID = "MEX-M-HRSC-4-REFDR-MAPPROJECT-EXT8-V4.0"
DATA_SET_NAME = "MARS EXPRESS HRSC MAP PROJECTED REFDR EXTENSION8 V4.0"
DETECTOR_ID = MEX_HRSC_S1
EVENT_TYPE = "MARS-REGIONAL-MAPPING-Gl-Eo-La"
INSTRUMENT_HOST_ID = MEX
INSTRUMENT_HOST_NAME = "MARS EXPRESS"
INSTRUMENT_ID = HRSC
INSTRUMENT_NAME = "HIGH RESOLUTION STEREO CAMERA"
MISSION_NAME = "MARS EXPRESS"
MISSION_PHASE_NAME = ME_Phase_46
PROCESSING_LEVEL_ID = 4
PRODUCT_CREATION_TIME = 2023-01-28T22:22:56.000Z
PRODUCT_ID = "HN103_0000_S14.TIF"
RELEASE_ID = 0004
REVISION_ID = 0000
/* QUALITY DATA ELEMENTS */
DATA_QUALITY_ID = 1
DATA_QUALITY_DESC = "Data calculated based on original SPICE kernels"
/* TIME DATA ELEMENTS */
SPACECRAFT_CLOCK_START_COUNT = "1/0598139186.23983"
SPACECRAFT_CLOCK_STOP_COUNT = "1/0598139905.12227"
START_TIME = 2022-04-15T21:54:01.321Z
STOP_TIME = 2022-04-15T21:58:57.722Z
/* ORBITAL DATA ELEMENTS */
ASCENDING_NODE_LONGITUDE = 143.39
MAXIMUM_RESOLUTION = 0.0633
FOOTPRINT_POINT_LATITUDE = (-78.5134,-78.4297,-78.3272,-78.1556, -77.985,-77.7855,-77.5882,-77.5733, -77.4491,-78.0045,-78.3683,-78.7295, -79.0836,-79.4384,-79.7805,-80.1226, -80.6234,-81.1107,-81.4325,-81.7346, -82.1866,-82.6199,-82.901,-83.1742, -83.5595,-83.8072,-84.0413,-84.2629, -84.4715,-84.7581,-84.9272,-85.1464, -85.3266,-85.4187,-85.489,-85.5368, -85.5671,-85.5475,-85.5076,-85.4473, -85.2712,-85.0317,-84.8134,-84.5705, -84.2133,-83.8283,-83.4218,-83.3164, -83.3009,-83.5723,-83.7428,-83.9542, -84.1109,-84.3155,-84.5262,-84.5338, -84.5374,-85.0821,-85.6257,-86.1638, -86.8283,-87.3415,-87.5868,-87.82, -88.0359,-88.2261,-88.3802,-88.4841, -88.5299,-88.5095,-88.4244,-88.1937, -87.9893,-87.7544,-87.4975,-87.2233, -86.9364,-86.6383,-86.3319,-86.0061, -85.5321,-85.2018,-84.8672,-84.5225, -84.0026,-83.4802,-82.9496,-82.5931, -82.2318,-81.8667,-81.4976,-81.1253, -80.7497,-80.3709,-79.989,-79.6026, -79.2127,-78.6226,-78.424,-78.5134)
FOOTPRINT_POINT_LONGITUDE = (346.385,350.069,352.96,356.487,359.222 ,361.877,364.129,364.287,364.281, 365.226,365.902,366.62,367.38,368.194, 369.05,369.968,371.458,373.1,374.299, 375.555,377.635,379.94,381.627,383.445, 386.402,388.579,390.905,393.402,396.078 ,400.461,403.598,408.63,414.11,417.914, 421.823,425.799,431.844,437.854,441.763 ,445.562,452.677,459.036,463.477, 467.445,472.142,476.18,479.668,480.477, 480.593,483.812,486.097,489.328,492.118 ,496.446,502.327,502.581,502.671, 500.919,498.7,495.818,490.76,484.82, 480.876,476.027,470.005,462.547,453.434 ,442.785,430.882,418.721,407.279, 392.902,385.45,379.383,374.487,370.494, 367.217,364.487,362.192,360.113,357.792 ,356.43,355.241,354.158,352.788,351.656 ,350.688,350.122,349.602,349.124, 348.683,348.278,347.905,347.56,347.24, 346.94,346.661,346.279,346.16,346.385)
ORBIT_NUMBER = 23103
ORBITAL_ECCENTRICITY = 0.576
ORBITAL_INCLINATION = 87.0
ORBITAL_SEMIMAJOR_AXIS = 8810.52
PERIAPSIS_ALTITUDE = 344.44
PERIAPSIS_ARGUMENT_ANGLE = 321.46
PERIAPSIS_TIME = 2022-04-15T22:10:26.000Z
SPACECRAFT_ORIENTATION = (0.0,1.0,0.0)
^MEX_ORIENTATION_DESC = "MEX_ORIENTATION_DESC.TXT"
SPACECRAFT_POINTING_MODE = NADIR
^MEX_POINTING_DESC = "MEX_POINTING_DESC.TXT"
RIGHT_ASCENSION = -1e+32
DECLINATION = -1e+32
OFFSET_ANGLE = -1e+32
SPACECRAFT_SOLAR_DISTANCE = 2.11209e+08
TARGET_NAME = MARS
/* CAMERA DATA ELEMENTS */
DETECTOR_TEMPERATURE = 17.7588
FOCAL_PLANE_TEMPERATURE = 8.1755
INST_CMPRS_NAME = "DISCRETE COSINE TRANSFORMATION (DCT)"
INST_CMPRS_RATIO = 6.27907
INST_CMPRS_QUALITY = 0
INST_CMPRS_QUANTZ_TBL_ID = 0
INSTRUMENT_TEMPERATURE = 11.0301
LENS_TEMPERATURE = 8.5833
MACROPIXEL_SIZE = 2
MISSING_FRAMES = 0
PIXEL_SUBSAMPLING_FLAG = N
SIGNAL_CHAIN_ID = 1
/* RADIOMETRIC DATA ELEMENTS */
BANDWIDTH = 180.0
CENTER_FILTER_WAVELENGTH = 677.0
RADIANCE_OFFSET = 3.03654
RADIANCE_SCALING_FACTOR = 0.0222628
REFLECTANCE_SCALING_FACTOR = 0.000518149
MEX:REFLECTANCE_OFFSET = 0.0706731
/* IMAGE OBJECT DEFINITIONS */
OBJECT = IMAGE
  INTERCHANGE_FORMAT = BINARY
  LINES = 20182
  LINE_SAMPLES = 10658
  SAMPLE_TYPE = UNSIGNED_INTEGER
  SAMPLE_BITS = 8
  BANDS = 1
  BAND_STORAGE_TYPE = BAND_SEQUENTIAL
  MAXIMUM = 255
  MEAN = 110.673
  MINIMUM = 1
  STANDARD_DEVIATION = 40.1628
END_OBJECT = IMAGE
/* MAP OBJECT DEFINITIONS */
OBJECT = IMAGE_MAP_PROJECTION
  ^DATA_SET_MAP_PROJECTION_CATALOG= "DSMAP.CAT"
  A_AXIS_RADIUS = 3396.0
  B_AXIS_RADIUS = 3396.0
  C_AXIS_RADIUS = 3396.0
  CENTER_LATITUDE = -90.0
  CENTER_LONGITUDE = 0.0
  COORDINATE_SYSTEM_NAME = PLANETOGRAPHIC
  COORDINATE_SYSTEM_TYPE = "BODY-FIXED ROTATING"
  EASTERNMOST_LONGITUDE = 142.671
  FIRST_STANDARD_PARALLEL = "N/A"
  LINE_FIRST_PIXEL = 1
  LINE_LAST_PIXEL = 20182
  LINE_PROJECTION_OFFSET = 15053.75
  MAP_PROJECTION_ROTATION = 0.0
  MAP_PROJECTION_TYPE = STEREOGRAPHIC
  MAP_RESOLUTION = 1185.42760773333
  MAP_SCALE = 0.05
  MAXIMUM_LATITUDE = -77.4491
  MINIMUM_LATITUDE = -88.5299
  POSITIVE_LONGITUDE_DIRECTION = EAST
  REFERENCE_LATITUDE = "N/A"
  REFERENCE_LONGITUDE = "N/A"
  SAMPLE_FIRST_PIXEL = 1
  SAMPLE_LAST_PIXEL = 10658
  SAMPLE_PROJECTION_OFFSET = 3633.75
  SECOND_STANDARD_PARALLEL = "N/A"
  WESTERNMOST_LONGITUDE = -13.84
END_OBJECT = IMAGE_MAP_PROJECTION
END
