PDS_VERSION_ID = PDS3
/* FILE DATA ELEMENTS */
RECORD_TYPE = UNDEFINED
/* POINTERS TO DATA OBJECTS */
^IMAGE = ("HN105_0000_BL4.TIF")
/* IDENTIFICATION DATA ELEMENTS */
DATA_SET_ID = "MEX-M-HRSC-4-REFDR-MAPPROJECT-EXT8-V4.0"
DATA_SET_NAME = "MARS EXPRESS HRSC MAP PROJECTED REFDR EXTENSION8 V4.0"
DETECTOR_ID = MEX_HRSC_BLUE
EVENT_TYPE = "MARS-LOCAL-CARTOGRAPHY-Im-Gl"
INSTRUMENT_HOST_ID = MEX
INSTRUMENT_HOST_NAME = "MARS EXPRESS"
INSTRUMENT_ID = HRSC
INSTRUMENT_NAME = "HIGH RESOLUTION STEREO CAMERA"
MISSION_NAME = "MARS EXPRESS"
MISSION_PHASE_NAME = ME_Phase_46
PROCESSING_LEVEL_ID = 4
PRODUCT_CREATION_TIME = 2023-01-28T22:22:56.000Z
PRODUCT_ID = "HN105_0000_BL4.TIF"
RELEASE_ID = 0004
REVISION_ID = 0000
/* QUALITY DATA ELEMENTS */
DATA_QUALITY_ID = 1
DATA_QUALITY_DESC = "Data calculated based on original SPICE kernels"
/* TIME DATA ELEMENTS */
SPACECRAFT_CLOCK_START_COUNT = "1/0598190317.24908"
SPACECRAFT_CLOCK_STOP_COUNT = "1/0598190687.65496"
START_TIME = 2022-04-16T12:00:05.194Z
STOP_TIME = 2022-04-16T12:04:39.427Z
/* ORBITAL DATA ELEMENTS */
ASCENDING_NODE_LONGITUDE = 143.36
MAXIMUM_RESOLUTION = 0.0633
FOOTPRINT_POINT_LATITUDE = (-69.4593,-69.4019,-69.3195,-69.1698, -69.1662,-69.1366,-68.7583,-68.3811, -68.0084,-67.6372,-67.2687,-66.7217, -66.3581,-65.9991,-65.6399,-65.287, -64.7581,-64.4096,-64.0615,-63.7186, -63.2042,-62.8662,-62.5276,-62.1933, -61.8606,-61.3638,-61.037,-60.547, -60.2256,-59.9034,-59.5816,-59.106, -58.7888,-58.4759,-58.0113,-57.7021, -57.3929,-56.9339,-56.6264,-56.321, -56.0258,-55.728,-55.4266,-55.1289, -54.8306,-54.2442,-53.8038,-53.2136, -52.9182,-52.7707,-52.7687,-52.8004, -52.8355,-52.8609,-52.8615,-52.8627, -53.3077,-53.6041,-53.9002,-54.4917, -54.9365,-55.3836,-55.6834,-55.9843, -56.4355,-56.7437,-57.0534,-57.513, -57.9834,-58.3003,-58.6118,-58.9275, -59.2466,-59.5655,-60.0505,-60.3754, -60.7001,-61.0312,-61.3623,-61.6929, -62.0303,-62.5357,-63.0494,-63.392, -63.9144,-64.2628,-64.7938,-65.1483, -65.5087,-65.8682,-66.234,-66.5989, -66.9696,-67.5283,-67.9046,-68.2842, -68.6655,-69.2453,-69.4394,-69.4593)
FOOTPRINT_POINT_LONGITUDE = (307.998,306.656,305.062,302.72,302.67, 302.54,302.769,302.991,303.201,303.403, 303.594,303.868,304.04,304.201,304.36, 304.512,304.727,304.864,304.997,305.124 ,305.305,305.42,305.532,305.638,305.742 ,305.891,305.987,306.127,306.213, 306.297,306.378,306.487,306.561,306.641 ,306.749,306.824,306.889,306.974, 307.026,307.086,307.154,307.214,307.259 ,307.32,307.354,307.449,307.52,307.604, 307.646,307.668,307.668,308.336,309.192 ,309.932,309.953,309.96,309.935,309.918 ,309.9,309.864,309.834,309.804,309.785, 309.765,309.733,309.71,309.686,309.651, 309.612,309.583,309.558,309.533,309.505 ,309.477,309.43,309.4,309.368,309.334, 309.299,309.264,309.227,309.169,309.107 ,309.065,308.997,308.95,308.876,308.824 ,308.77,308.714,308.655,308.595,308.531 ,308.431,308.36,308.286,308.209,308.085 ,308.041,307.998)
ORBIT_NUMBER = 23105
ORBITAL_ECCENTRICITY = 0.576
ORBITAL_INCLINATION = 87.01
ORBITAL_SEMIMAJOR_AXIS = 8808.55
PERIAPSIS_ALTITUDE = 343.9
PERIAPSIS_ARGUMENT_ANGLE = 321.11
PERIAPSIS_TIME = 2022-04-16T12:08:23.000Z
SPACECRAFT_ORIENTATION = (0.0,1.0,0.0)
^MEX_ORIENTATION_DESC = "MEX_ORIENTATION_DESC.TXT"
SPACECRAFT_POINTING_MODE = ACROSSTRACK
^MEX_POINTING_DESC = "MEX_POINTING_DESC.TXT"
RIGHT_ASCENSION = -1e+32
DECLINATION = -1e+32
OFFSET_ANGLE = 0.539
SPACECRAFT_SOLAR_DISTANCE = 2.11134e+08
TARGET_NAME = MARS
/* CAMERA DATA ELEMENTS */
DETECTOR_TEMPERATURE = 18.3705
FOCAL_PLANE_TEMPERATURE = 8.3794
INST_CMPRS_NAME = "DISCRETE COSINE TRANSFORMATION (DCT)"
INST_CMPRS_RATIO = 8.28364
INST_CMPRS_QUALITY = 0
INST_CMPRS_QUANTZ_TBL_ID = 0
INSTRUMENT_TEMPERATURE = 11.4379
LENS_TEMPERATURE = 8.5833
MACROPIXEL_SIZE = 4
MISSING_FRAMES = 0
PIXEL_SUBSAMPLING_FLAG = N
SIGNAL_CHAIN_ID = 2
/* RADIOMETRIC DATA ELEMENTS */
BANDWIDTH = 76.0
CENTER_FILTER_WAVELENGTH = 444.0
RADIANCE_OFFSET = 0.438903
RADIANCE_SCALING_FACTOR = 0.00398852
REFLECTANCE_SCALING_FACTOR = 0.000182678
MEX:REFLECTANCE_OFFSET = 0.0201022
/* IMAGE OBJECT DEFINITIONS */
OBJECT = IMAGE
  INTERCHANGE_FORMAT = BINARY
  LINES = 19763
  LINE_SAMPLES = 3704
  SAMPLE_TYPE = UNSIGNED_INTEGER
  SAMPLE_BITS = 8
  BANDS = 1
  BAND_STORAGE_TYPE = BAND_SEQUENTIAL
  MAXIMUM = 255
  MEAN = 148.236
  MINIMUM = 1
  STANDARD_DEVIATION = 80.8401
END_OBJECT = IMAGE
/* MAP OBJECT DEFINITIONS */
OBJECT = IMAGE_MAP_PROJECTION
  ^DATA_SET_MAP_PROJECTION_CATALOG= "DSMAP.CAT"
  A_AXIS_RADIUS = 3396.0
  B_AXIS_RADIUS = 3396.0
  C_AXIS_RADIUS = 3396.0
  CENTER_LATITUDE = 0.0
  CENTER_LONGITUDE = 308.0
  COORDINATE_SYSTEM_NAME = PLANETOGRAPHIC
  COORDINATE_SYSTEM_TYPE = "BODY-FIXED ROTATING"
  EASTERNMOST_LONGITUDE = 309.96
  FIRST_STANDARD_PARALLEL = "N/A"
  LINE_FIRST_PIXEL = 1
  LINE_LAST_PIXEL = 19763
  LINE_PROJECTION_OFFSET = -62551.875
  MAP_PROJECTION_ROTATION = 0.0
  MAP_PROJECTION_TYPE = SINUSOIDAL
  MAP_RESOLUTION = 1185.42760773333
  MAP_SCALE = 0.05
  MAXIMUM_LATITUDE = -52.7687
  MINIMUM_LATITUDE = -69.4593
  POSITIVE_LONGITUDE_DIRECTION = EAST
  REFERENCE_LATITUDE = "N/A"
  REFERENCE_LONGITUDE = "N/A"
  SAMPLE_FIRST_PIXEL = 1
  SAMPLE_LAST_PIXEL = 3704
  SAMPLE_PROJECTION_OFFSET = 2304.875
  SECOND_STANDARD_PARALLEL = "N/A"
  WESTERNMOST_LONGITUDE = 302.54
END_OBJECT = IMAGE_MAP_PROJECTION
END
