PDS_VERSION_ID = PDS3
/* FILE DATA ELEMENTS */
RECORD_TYPE = UNDEFINED
/* POINTERS TO DATA OBJECTS */
^IMAGE = ("HN105_0000_RE4.TIF")
/* IDENTIFICATION DATA ELEMENTS */
DATA_SET_ID = "MEX-M-HRSC-4-REFDR-MAPPROJECT-EXT8-V4.0"
DATA_SET_NAME = "MARS EXPRESS HRSC MAP PROJECTED REFDR EXTENSION8 V4.0"
DETECTOR_ID = MEX_HRSC_RED
EVENT_TYPE = "MARS-LOCAL-CARTOGRAPHY-Im-Gl"
INSTRUMENT_HOST_ID = MEX
INSTRUMENT_HOST_NAME = "MARS EXPRESS"
INSTRUMENT_ID = HRSC
INSTRUMENT_NAME = "HIGH RESOLUTION STEREO CAMERA"
MISSION_NAME = "MARS EXPRESS"
MISSION_PHASE_NAME = ME_Phase_46
PROCESSING_LEVEL_ID = 4
PRODUCT_CREATION_TIME = 2023-01-28T22:22:56.000Z
PRODUCT_ID = "HN105_0000_RE4.TIF"
RELEASE_ID = 0004
REVISION_ID = 0000
/* QUALITY DATA ELEMENTS */
DATA_QUALITY_ID = 1
DATA_QUALITY_DESC = "Data calculated based on original SPICE kernels"
/* TIME DATA ELEMENTS */
SPACECRAFT_CLOCK_START_COUNT = "1/0598190317.24908"
SPACECRAFT_CLOCK_STOP_COUNT = "1/0598190687.65496"
START_TIME = 2022-04-16T11:59:23.950Z
STOP_TIME = 2022-04-16T12:04:14.546Z
/* ORBITAL DATA ELEMENTS */
ASCENDING_NODE_LONGITUDE = 143.36
MAXIMUM_RESOLUTION = 0.0681
FOOTPRINT_POINT_LATITUDE = (-69.5744,-69.5352,-69.4911,-69.4421, -69.3881,-69.329,-69.222,-69.2176, -69.1208,-68.7438,-68.372,-68.0009, -67.6336,-67.2681,-66.9042,-66.366, -66.0047,-65.6483,-65.2978,-64.9463, -64.5975,-64.2505,-63.9081,-63.5655, -63.2259,-62.8867,-62.5527,-62.2158, -61.886,-61.5552,-61.0625,-60.7368, -60.418,-60.0968,-59.7736,-59.4539, -59.1311,-58.8138,-58.5087,-58.2035, -57.7411,-57.4353,-56.9673,-56.6525, -56.35,-55.7601,-55.166,-54.8558, -54.4123,-53.9837,-53.5338,-52.952, -52.8084,-52.7415,-52.777,-52.8296, -52.8675,-52.8684,-52.8696,-53.4461, -54.0338,-54.6246,-54.9311,-55.6727, -56.1255,-56.4304,-56.7362,-57.0515, -57.6665,-57.9831,-58.3103,-58.62, -58.9291,-59.2462,-59.5634,-59.8868, -60.3731,-60.6976,-61.0286,-61.5214, -62.0233,-62.358,-62.6984,-63.0385, -63.5555,-63.9012,-64.2524,-64.6026, -64.9591,-65.4931,-65.8528,-66.2157, -66.5781,-66.9467,-67.5037,-68.0652, -68.6321,-69.2068,-69.4001,-69.5744)
FOOTPRINT_POINT_LONGITUDE = (308.165,307.306,306.448,305.59,304.734 ,303.879,302.488,302.434,302.342, 302.577,302.803,303.02,303.226,303.423, 303.612,303.882,304.047,304.21,304.366, 304.516,304.659,304.797,304.931,305.06, 305.182,305.301,305.416,305.526,305.632 ,305.736,305.882,305.977,306.072,306.16 ,306.245,306.325,306.4,306.478,306.558, 306.637,306.744,306.812,306.904,306.956 ,307.016,307.145,307.254,307.296,307.37 ,307.451,307.512,307.594,307.616, 307.626,308.205,309.155,309.965,309.986 ,309.994,309.963,309.931,309.896, 309.876,309.832,309.803,309.783,309.762 ,309.738,309.695,309.67,309.642,309.62, 309.597,309.571,309.546,309.517,309.475 ,309.445,309.414,309.367,309.317, 309.282,309.246,309.208,309.149,309.108 ,309.064,309.02,308.973,308.901,308.851 ,308.798,308.744,308.687,308.596,308.5, 308.398,308.289,308.25,308.165)
ORBIT_NUMBER = 23105
ORBITAL_ECCENTRICITY = 0.576
ORBITAL_INCLINATION = 87.01
ORBITAL_SEMIMAJOR_AXIS = 8808.55
PERIAPSIS_ALTITUDE = 343.9
PERIAPSIS_ARGUMENT_ANGLE = 321.11
PERIAPSIS_TIME = 2022-04-16T12:08:23.000Z
SPACECRAFT_ORIENTATION = (0.0,1.0,0.0)
^MEX_ORIENTATION_DESC = "MEX_ORIENTATION_DESC.TXT"
SPACECRAFT_POINTING_MODE = ACROSSTRACK
^MEX_POINTING_DESC = "MEX_POINTING_DESC.TXT"
RIGHT_ASCENSION = -1e+32
DECLINATION = -1e+32
OFFSET_ANGLE = 0.539
SPACECRAFT_SOLAR_DISTANCE = 2.11134e+08
TARGET_NAME = MARS
/* CAMERA DATA ELEMENTS */
DETECTOR_TEMPERATURE = 18.3705
FOCAL_PLANE_TEMPERATURE = 8.3794
INST_CMPRS_NAME = "DISCRETE COSINE TRANSFORMATION (DCT)"
INST_CMPRS_RATIO = 16.5378
INST_CMPRS_QUALITY = 0
INST_CMPRS_QUANTZ_TBL_ID = 0
INSTRUMENT_TEMPERATURE = 11.4379
LENS_TEMPERATURE = 8.5833
MACROPIXEL_SIZE = 4
MISSING_FRAMES = 0
PIXEL_SUBSAMPLING_FLAG = N
SIGNAL_CHAIN_ID = 2
/* RADIOMETRIC DATA ELEMENTS */
BANDWIDTH = 48.0
CENTER_FILTER_WAVELENGTH = 748.0
RADIANCE_OFFSET = 0.772848
RADIANCE_SCALING_FACTOR = 0.00734121
REFLECTANCE_SCALING_FACTOR = 0.000746815
MEX:REFLECTANCE_OFFSET = 0.0786211
/* IMAGE OBJECT DEFINITIONS */
OBJECT = IMAGE
  INTERCHANGE_FORMAT = BINARY
  LINES = 19763
  LINE_SAMPLES = 3704
  SAMPLE_TYPE = UNSIGNED_INTEGER
  SAMPLE_BITS = 8
  BANDS = 1
  BAND_STORAGE_TYPE = BAND_SEQUENTIAL
  MAXIMUM = 255
  MEAN = 123.669
  MINIMUM = 1
  STANDARD_DEVIATION = 67.4573
END_OBJECT = IMAGE
/* MAP OBJECT DEFINITIONS */
OBJECT = IMAGE_MAP_PROJECTION
  ^DATA_SET_MAP_PROJECTION_CATALOG= "DSMAP.CAT"
  A_AXIS_RADIUS = 3396.0
  B_AXIS_RADIUS = 3396.0
  C_AXIS_RADIUS = 3396.0
  CENTER_LATITUDE = 0.0
  CENTER_LONGITUDE = 308.0
  COORDINATE_SYSTEM_NAME = PLANETOGRAPHIC
  COORDINATE_SYSTEM_TYPE = "BODY-FIXED ROTATING"
  EASTERNMOST_LONGITUDE = 309.994
  FIRST_STANDARD_PARALLEL = "N/A"
  LINE_FIRST_PIXEL = 1
  LINE_LAST_PIXEL = 19763
  LINE_PROJECTION_OFFSET = -62551.875
  MAP_PROJECTION_ROTATION = 0.0
  MAP_PROJECTION_TYPE = SINUSOIDAL
  MAP_RESOLUTION = 1185.42760773333
  MAP_SCALE = 0.05
  MAXIMUM_LATITUDE = -52.7415
  MINIMUM_LATITUDE = -69.5744
  POSITIVE_LONGITUDE_DIRECTION = EAST
  REFERENCE_LATITUDE = "N/A"
  REFERENCE_LONGITUDE = "N/A"
  SAMPLE_FIRST_PIXEL = 1
  SAMPLE_LAST_PIXEL = 3704
  SAMPLE_PROJECTION_OFFSET = 2304.875
  SECOND_STANDARD_PARALLEL = "N/A"
  WESTERNMOST_LONGITUDE = 302.342
END_OBJECT = IMAGE_MAP_PROJECTION
END
