PDS_VERSION_ID = PDS3
/* FILE DATA ELEMENTS */
RECORD_TYPE = UNDEFINED
/* POINTERS TO DATA OBJECTS */
^IMAGE = ("HN116_0000_RE4.TIF")
/* IDENTIFICATION DATA ELEMENTS */
DATA_SET_ID = "MEX-M-HRSC-4-REFDR-MAPPROJECT-EXT8-V4.0"
DATA_SET_NAME = "MARS EXPRESS HRSC MAP PROJECTED REFDR EXTENSION8 V4.0"
DETECTOR_ID = MEX_HRSC_RED
EVENT_TYPE = "MARS-LOCAL-CARTOGRAPHY-Vo-Te-La"
INSTRUMENT_HOST_ID = MEX
INSTRUMENT_HOST_NAME = "MARS EXPRESS"
INSTRUMENT_ID = HRSC
INSTRUMENT_NAME = "HIGH RESOLUTION STEREO CAMERA"
MISSION_NAME = "MARS EXPRESS"
MISSION_PHASE_NAME = ME_Phase_46
PROCESSING_LEVEL_ID = 4
PRODUCT_CREATION_TIME = 2023-01-28T22:22:56.000Z
PRODUCT_ID = "HN116_0000_RE4.TIF"
RELEASE_ID = 0004
REVISION_ID = 0000
/* QUALITY DATA ELEMENTS */
DATA_QUALITY_ID = 1
DATA_QUALITY_DESC = "Data calculated based on original SPICE kernels"
/* TIME DATA ELEMENTS */
SPACECRAFT_CLOCK_START_COUNT = "1/0598467509.24916"
SPACECRAFT_CLOCK_STOP_COUNT = "1/0598467940.20776"
START_TIME = 2022-04-19T16:59:09.298Z
STOP_TIME = 2022-04-19T17:04:32.831Z
/* ORBITAL DATA ELEMENTS */
ASCENDING_NODE_LONGITUDE = 143.16
MAXIMUM_RESOLUTION = 0.0583
FOOTPRINT_POINT_LATITUDE = (-31.1872,-31.167,-31.1443,-31.1102, -31.1093,-31.1059,-30.5376,-29.9692, -29.5146,-28.9465,-28.4919,-28.151, -27.8099,-20.608,-20.3392,-20.0638, -19.788,-19.5126,-19.0996,-18.8199, -18.5374,-18.2556,-17.8329,-17.5461, -17.2575,-16.8247,-16.3874,-16.0922, -15.6504,-15.3528,-15.0512,-14.7498, -14.449,-14.1415,-13.8337,-13.5268, -13.2144,-12.9003,-12.5867,-12.2682, -11.9476,-11.6279,-11.3022,-10.9758, -10.6482,-10.315,-10.1486,-10.136, -10.1462,-10.1541,-10.1599,-10.164, -10.1688,-10.1727,-10.1729,-10.1742, -10.507,-11.0022,-11.3295,-11.6562, -11.9768,-12.2977,-12.6172,-12.9315, -13.2463,-13.5601,-13.868,-14.1763, -14.4846,-14.7861,-15.0883,-15.5413, -15.8366,-16.1316,-16.4276,-16.7215, -17.0106,-17.2991,-17.5886,-17.8761, -18.2996,-18.5821,-18.8649,-19.1451, -19.4215,-19.8356,-20.1119,-20.3877, -20.657,-27.8725,-28.1004,-28.4419, -28.898,-29.3534,-29.5812,-30.0363, -30.378,-31.061,-31.1749,-31.1872)
FOOTPRINT_POINT_LONGITUDE = (266.92,266.496,266.065,265.485,265.471 ,265.465,265.477,265.487,265.495, 265.503,265.51,265.514,265.518,265.529, 265.527,265.525,265.523,265.52,265.517, 265.513,265.51,265.507,265.502,265.498, 265.494,265.488,265.48,265.475,265.468, 265.463,265.457,265.451,265.445,265.438 ,265.431,265.425,265.418,265.41,265.402 ,265.394,265.386,265.377,265.368, 265.359,265.349,265.339,265.334,265.333 ,265.706,266.026,266.292,266.524, 266.821,267.099,267.115,267.121,267.119 ,267.117,267.115,267.113,267.112,267.11 ,267.108,267.107,267.105,267.103, 267.102,267.1,267.098,267.096,267.094, 267.092,267.09,267.088,267.086,267.084, 267.082,267.08,267.078,267.076,267.073, 267.07,267.068,267.066,267.064,267.06, 267.058,267.056,267.053,266.972,266.968 ,266.963,266.957,266.95,266.946,266.939 ,266.933,266.921,266.919,266.92)
ORBIT_NUMBER = 23116
ORBITAL_ECCENTRICITY = 0.577
ORBITAL_INCLINATION = 87.0
ORBITAL_SEMIMAJOR_AXIS = 8810.83
PERIAPSIS_ALTITUDE = 342.96
PERIAPSIS_ARGUMENT_ANGLE = 319.21
PERIAPSIS_TIME = 2022-04-19T16:57:09.000Z
SPACECRAFT_ORIENTATION = (0.0,1.0,0.0)
^MEX_ORIENTATION_DESC = "MEX_ORIENTATION_DESC.TXT"
SPACECRAFT_POINTING_MODE = ACROSSTRACK
^MEX_POINTING_DESC = "MEX_POINTING_DESC.TXT"
RIGHT_ASCENSION = -1e+32
DECLINATION = -1e+32
OFFSET_ANGLE = 0.808
SPACECRAFT_SOLAR_DISTANCE = 2.10728e+08
TARGET_NAME = MARS
/* CAMERA DATA ELEMENTS */
DETECTOR_TEMPERATURE = 18.5744
FOCAL_PLANE_TEMPERATURE = 8.5833
INST_CMPRS_NAME = "DISCRETE COSINE TRANSFORMATION (DCT)"
INST_CMPRS_RATIO = 14.2789
INST_CMPRS_QUALITY = 0
INST_CMPRS_QUANTZ_TBL_ID = 0
INSTRUMENT_TEMPERATURE = 11.6418
LENS_TEMPERATURE = 8.9911
MACROPIXEL_SIZE = 4
PIXEL_SUBSAMPLING_FLAG = N
SIGNAL_CHAIN_ID = 2
/* RADIOMETRIC DATA ELEMENTS */
BANDWIDTH = 48.0
CENTER_FILTER_WAVELENGTH = 748.0
RADIANCE_OFFSET = 0.614083
RADIANCE_SCALING_FACTOR = 0.00682314
REFLECTANCE_SCALING_FACTOR = 0.000691446
MEX:REFLECTANCE_OFFSET = 0.0622301
/* IMAGE OBJECT DEFINITIONS */
OBJECT = IMAGE
  INTERCHANGE_FORMAT = BINARY
  LINES = 24911
  LINE_SAMPLES = 2206
  SAMPLE_TYPE = UNSIGNED_INTEGER
  SAMPLE_BITS = 8
  BANDS = 1
  BAND_STORAGE_TYPE = BAND_SEQUENTIAL
  MAXIMUM = 255
  MEAN = 96.5113
  MINIMUM = 1
  STANDARD_DEVIATION = 22.9008
END_OBJECT = IMAGE
/* MAP OBJECT DEFINITIONS */
OBJECT = IMAGE_MAP_PROJECTION
  ^DATA_SET_MAP_PROJECTION_CATALOG= "DSMAP.CAT"
  A_AXIS_RADIUS = 3396.0
  B_AXIS_RADIUS = 3396.0
  C_AXIS_RADIUS = 3396.0
  CENTER_LATITUDE = 0.0
  CENTER_LONGITUDE = 266.0
  COORDINATE_SYSTEM_NAME = PLANETOGRAPHIC
  COORDINATE_SYSTEM_TYPE = "BODY-FIXED ROTATING"
  EASTERNMOST_LONGITUDE = 267.121
  FIRST_STANDARD_PARALLEL = "N/A"
  LINE_FIRST_PIXEL = 1
  LINE_LAST_PIXEL = 24911
  LINE_PROJECTION_OFFSET = -11995.625
  MAP_PROJECTION_ROTATION = 0.0
  MAP_PROJECTION_TYPE = SINUSOIDAL
  MAP_RESOLUTION = 1185.42760773333
  MAP_SCALE = 0.05
  MAXIMUM_LATITUDE = -10.136
  MINIMUM_LATITUDE = -31.1872
  POSITIVE_LONGITUDE_DIRECTION = EAST
  REFERENCE_LATITUDE = "N/A"
  REFERENCE_LONGITUDE = "N/A"
  SAMPLE_FIRST_PIXEL = 1
  SAMPLE_LAST_PIXEL = 2206
  SAMPLE_PROJECTION_OFFSET = 835.625
  SECOND_STANDARD_PARALLEL = "N/A"
  WESTERNMOST_LONGITUDE = 265.333
END_OBJECT = IMAGE_MAP_PROJECTION
END
