PDS_VERSION_ID = PDS3
/* FILE DATA ELEMENTS */
RECORD_TYPE = UNDEFINED
/* POINTERS TO DATA OBJECTS */
^IMAGE = ("HN123_0000_RE4.TIF")
/* IDENTIFICATION DATA ELEMENTS */
DATA_SET_ID = "MEX-M-HRSC-4-REFDR-MAPPROJECT-EXT8-V4.0"
DATA_SET_NAME = "MARS EXPRESS HRSC MAP PROJECTED REFDR EXTENSION8 V4.0"
DETECTOR_ID = MEX_HRSC_RED
EVENT_TYPE = "MARS-LOCAL-CARTOGRAPHY-Vo-Te-La"
INSTRUMENT_HOST_ID = MEX
INSTRUMENT_HOST_NAME = "MARS EXPRESS"
INSTRUMENT_ID = HRSC
INSTRUMENT_NAME = "HIGH RESOLUTION STEREO CAMERA"
MISSION_NAME = "MARS EXPRESS"
MISSION_PHASE_NAME = ME_Phase_46
PROCESSING_LEVEL_ID = 4
PRODUCT_CREATION_TIME = 2023-01-28T22:22:56.000Z
PRODUCT_ID = "HN123_0000_RE4.TIF"
RELEASE_ID = 0004
REVISION_ID = 0000
/* QUALITY DATA ELEMENTS */
DATA_QUALITY_ID = 1
DATA_QUALITY_DESC = "Data calculated based on original SPICE kernels"
/* TIME DATA ELEMENTS */
SPACECRAFT_CLOCK_START_COUNT = "1/0598643403.25667"
SPACECRAFT_CLOCK_STOP_COUNT = "1/0598643964.60218"
START_TIME = 2022-04-21T17:50:43.280Z
STOP_TIME = 2022-04-21T17:59:31.695Z
/* ORBITAL DATA ELEMENTS */
ASCENDING_NODE_LONGITUDE = 143.04
MAXIMUM_RESOLUTION = 0.0565
FOOTPRINT_POINT_LATITUDE = (-37.0913,-37.0707,-37.0704,-37.0618, -36.5126,-35.9663,-35.417,-34.3259, -33.7727,-33.2235,-32.6715,-31.8449, -31.0206,-30.4709,-29.9216,-29.3722, -28.5485,-27.9987,-27.3869,-26.7321, -26.0781,-25.4239,-24.7707,-24.1179, -23.4658,-22.8144,-21.8382,-21.1886, -20.5236,-19.8584,-19.1771,-18.4932, -17.796,-17.091,-16.3782,-15.6503, -14.9132,-14.1653,-13.4039,-12.6352, -11.8495,-11.0501,-10.2367,-9.40901, -8.56789,-7.70981,-6.79762,-5.45152, -4.5315,-3.63316,-3.17048,-3.05651, -3.04277,-3.01136,-3.01085,-3.01214, -4.37796,-5.79125,-7.11363,-8.00254, -8.85607,-9.69507,-10.5191,-11.3285, -12.124,-12.906,-13.6759,-14.4343, -15.1778,-15.9107,-16.6348,-17.3483, -18.0487,-18.7439,-19.4268,-20.4361, -21.4293,-22.4068,-23.0584,-23.7108, -24.6917,-25.3458,-26.0004,-26.6559, -27.3116,-28.2125,-29.0379,-29.5881, -30.4136,-30.964,-31.5147,-32.0647, -32.8894,-33.716,-34.2678,-35.0947, -35.9205,-36.7392,-37.0137,-37.0913)
FOOTPRINT_POINT_LONGITUDE = (272.975,271.518,271.504,271.498, 271.511,271.525,271.536,271.56,271.567, 271.575,271.582,271.59,271.598,271.602, 271.605,271.608,271.61,271.611,271.61, 271.609,271.607,271.604,271.601,271.596 ,271.59,271.584,271.572,271.563,271.554 ,271.543,271.531,271.519,271.505,271.49 ,271.474,271.457,271.438,271.418, 271.396,271.375,271.351,271.325,271.297 ,271.268,271.238,271.206,271.158, 271.102,271.063,271.031,271.009,271.004 ,271.839,273.114,273.134,273.141, 273.144,273.129,273.131,273.122,273.12, 273.118,273.116,273.114,273.112,273.11, 273.108,273.106,273.105,273.103,273.101 ,273.099,273.098,273.096,273.094, 273.091,273.088,273.085,273.082,273.08, 273.076,273.073,273.07,273.067,273.063, 273.058,273.053,273.049,273.044,273.04, 273.035,273.031,273.025,273.017,273.011 ,273.001,272.991,272.984,272.981, 272.975)
ORBIT_NUMBER = 23123
ORBITAL_ECCENTRICITY = 0.577
ORBITAL_INCLINATION = 87.0
ORBITAL_SEMIMAJOR_AXIS = 8808.1
PERIAPSIS_ALTITUDE = 342.75
PERIAPSIS_ARGUMENT_ANGLE = 318.02
PERIAPSIS_TIME = 2022-04-21T17:49:55.000Z
SPACECRAFT_ORIENTATION = (0.0,1.0,0.0)
^MEX_ORIENTATION_DESC = "MEX_ORIENTATION_DESC.TXT"
SPACECRAFT_POINTING_MODE = NADIR
^MEX_POINTING_DESC = "MEX_POINTING_DESC.TXT"
RIGHT_ASCENSION = -1e+32
DECLINATION = -1e+32
OFFSET_ANGLE = -1e+32
SPACECRAFT_SOLAR_DISTANCE = 2.10479e+08
TARGET_NAME = MARS
/* CAMERA DATA ELEMENTS */
DETECTOR_TEMPERATURE = 18.7783
FOCAL_PLANE_TEMPERATURE = 8.7872
INST_CMPRS_NAME = "DISCRETE COSINE TRANSFORMATION (DCT)"
INST_CMPRS_RATIO = 10.4422
INST_CMPRS_QUALITY = 0
INST_CMPRS_QUANTZ_TBL_ID = 0
INSTRUMENT_TEMPERATURE = 11.0301
LENS_TEMPERATURE = 9.3989
MACROPIXEL_SIZE = 4
MISSING_FRAMES = 0
PIXEL_SUBSAMPLING_FLAG = N
SIGNAL_CHAIN_ID = 2
/* RADIOMETRIC DATA ELEMENTS */
BANDWIDTH = 48.0
CENTER_FILTER_WAVELENGTH = 748.0
RADIANCE_OFFSET = 0.598884
RADIANCE_SCALING_FACTOR = 0.00757804
REFLECTANCE_SCALING_FACTOR = 0.000766126
MEX:REFLECTANCE_OFFSET = 0.0605461
/* IMAGE OBJECT DEFINITIONS */
OBJECT = IMAGE
  INTERCHANGE_FORMAT = BINARY
  LINES = 40384
  LINE_SAMPLES = 2725
  SAMPLE_TYPE = UNSIGNED_INTEGER
  SAMPLE_BITS = 8
  BANDS = 1
  BAND_STORAGE_TYPE = BAND_SEQUENTIAL
  MAXIMUM = 255
  MEAN = 85.8557
  MINIMUM = 1
  STANDARD_DEVIATION = 27.121
END_OBJECT = IMAGE
/* MAP OBJECT DEFINITIONS */
OBJECT = IMAGE_MAP_PROJECTION
  ^DATA_SET_MAP_PROJECTION_CATALOG= "DSMAP.CAT"
  A_AXIS_RADIUS = 3396.0
  B_AXIS_RADIUS = 3396.0
  C_AXIS_RADIUS = 3396.0
  CENTER_LATITUDE = 0.0
  CENTER_LONGITUDE = 272.0
  COORDINATE_SYSTEM_NAME = PLANETOGRAPHIC
  COORDINATE_SYSTEM_TYPE = "BODY-FIXED ROTATING"
  EASTERNMOST_LONGITUDE = 273.144
  FIRST_STANDARD_PARALLEL = "N/A"
  LINE_FIRST_PIXEL = 1
  LINE_LAST_PIXEL = 40384
  LINE_PROJECTION_OFFSET = -3543.375
  MAP_PROJECTION_ROTATION = 0.0
  MAP_PROJECTION_TYPE = SINUSOIDAL
  MAP_RESOLUTION = 1185.42760773333
  MAP_SCALE = 0.05
  MAXIMUM_LATITUDE = -3.01085
  MINIMUM_LATITUDE = -37.0913
  POSITIVE_LONGITUDE_DIRECTION = EAST
  REFERENCE_LATITUDE = "N/A"
  REFERENCE_LONGITUDE = "N/A"
  SAMPLE_FIRST_PIXEL = 1
  SAMPLE_LAST_PIXEL = 2725
  SAMPLE_PROJECTION_OFFSET = 1280.875
  SECOND_STANDARD_PARALLEL = "N/A"
  WESTERNMOST_LONGITUDE = 271.004
END_OBJECT = IMAGE_MAP_PROJECTION
END
