PDS_VERSION_ID = PDS3
/* FILE DATA ELEMENTS */
RECORD_TYPE = UNDEFINED
/* POINTERS TO DATA OBJECTS */
^IMAGE = ("HN125_0000_P24.TIF")
/* IDENTIFICATION DATA ELEMENTS */
DATA_SET_ID = "MEX-M-HRSC-4-REFDR-MAPPROJECT-EXT8-V4.0"
DATA_SET_NAME = "MARS EXPRESS HRSC MAP PROJECTED REFDR EXTENSION8 V4.0"
DETECTOR_ID = MEX_HRSC_P2
EVENT_TYPE = "MARS-REGIONAL-MAPPING-Gl-Pf"
INSTRUMENT_HOST_ID = MEX
INSTRUMENT_HOST_NAME = "MARS EXPRESS"
INSTRUMENT_ID = HRSC
INSTRUMENT_NAME = "HIGH RESOLUTION STEREO CAMERA"
MISSION_NAME = "MARS EXPRESS"
MISSION_PHASE_NAME = ME_Phase_46
PROCESSING_LEVEL_ID = 4
PRODUCT_CREATION_TIME = 2023-01-28T22:22:56.000Z
PRODUCT_ID = "HN125_0000_P24.TIF"
RELEASE_ID = 0004
REVISION_ID = 0000
/* QUALITY DATA ELEMENTS */
DATA_QUALITY_ID = 1
DATA_QUALITY_DESC = "Data calculated based on original SPICE kernels"
/* TIME DATA ELEMENTS */
SPACECRAFT_CLOCK_START_COUNT = "1/0598693571.25661"
SPACECRAFT_CLOCK_STOP_COUNT = "1/0598693804.32824"
START_TIME = 2022-04-22T07:46:56.764Z
STOP_TIME = 2022-04-22T07:49:43.264Z
/* ORBITAL DATA ELEMENTS */
ASCENDING_NODE_LONGITUDE = 143.0
MAXIMUM_RESOLUTION = 0.0287
FOOTPRINT_POINT_LATITUDE = (-44.2097,-44.2109,-44.2087,-44.2036, -44.2034,-44.1372,-43.9222,-43.7064, -43.3841,-42.8474,-42.5239,-42.2, -41.9842,-41.7691,-41.5532,-41.2292, -41.0135,-40.797,-40.4722,-40.2557, -40.0391,-39.8228,-39.6061,-39.3899, -39.173,-38.9576,-38.7411,-38.523, -38.3058,-38.088,-37.8709,-37.6538, -37.4371,-37.2204,-36.8942,-36.6766, -36.2445,-35.9182,-35.7,-35.4818, -35.2644,-35.0464,-34.8293,-34.6054, -34.3875,-34.0612,-33.8436,-33.6257, -33.4082,-33.2993,-33.2742,-33.2724, -33.2697,-33.2679,-33.2618,-33.2614, -33.2618,-33.4798,-33.6973,-33.9157, -34.1341,-34.3515,-34.6855,-35.0126, -35.2309,-35.4481,-35.6663,-35.9925, -36.2105,-36.4271,-36.6449,-36.9711, -37.2995,-37.5181,-37.7345,-37.9517, -38.278,-38.4931,-38.71,-38.9284, -39.1482,-39.5809,-39.906,-40.1226, -40.4475,-40.7737,-41.0973,-41.4213, -41.6375,-41.8542,-42.071,-42.2892, -42.6105,-42.8263,-43.2566,-43.5822, -43.799,-44.0143,-44.1218,-44.2097)
FOOTPRINT_POINT_LONGITUDE = (69.1879,68.5744,68.0637,67.5577, 67.5419,67.5255,67.5355,67.5451,67.5593 ,67.5823,67.5952,67.6077,67.6158, 67.6239,67.6316,67.6429,67.6502,67.6573 ,67.6675,67.6741,67.6806,67.6869,67.693 ,67.699,67.7048,67.7106,67.7161,67.7212 ,67.7263,67.7311,67.7359,67.7405, 67.7451,67.7495,67.7556,67.7595,67.7675 ,67.7726,67.7758,67.7788,67.7819, 67.7846,67.7875,67.7902,67.7926,67.7961 ,67.7982,67.8002,67.802,67.8029,67.8031 ,68.3242,68.6747,68.9385,69.2942, 69.3092,69.3145,69.314,69.3138,69.3128, 69.3118,69.3117,69.3106,69.3094,69.3083 ,69.3082,69.3071,69.3064,69.3055, 69.3057,69.3047,69.3037,69.3005,69.2986 ,69.2986,69.2978,69.2961,69.2971, 69.2964,69.2942,69.2905,69.2895,69.2879 ,69.2869,69.2852,69.2819,69.2809, 69.2793,69.2779,69.2759,69.2736,69.2699 ,69.2699,69.2682,69.2657,69.2605,69.257 ,69.2549,69.2541,69.1879)
ORBIT_NUMBER = 23125
ORBITAL_ECCENTRICITY = 0.577
ORBITAL_INCLINATION = 87.02
ORBITAL_SEMIMAJOR_AXIS = 8806.27
PERIAPSIS_ALTITUDE = 342.28
PERIAPSIS_ARGUMENT_ANGLE = 317.68
PERIAPSIS_TIME = 2022-04-22T07:47:47.000Z
SPACECRAFT_ORIENTATION = (0.0,1.0,0.0)
^MEX_ORIENTATION_DESC = "MEX_ORIENTATION_DESC.TXT"
SPACECRAFT_POINTING_MODE = ACROSSTRACK
^MEX_POINTING_DESC = "MEX_POINTING_DESC.TXT"
RIGHT_ASCENSION = -1e+32
DECLINATION = -1e+32
OFFSET_ANGLE = -0.377
SPACECRAFT_SOLAR_DISTANCE = 2.10409e+08
TARGET_NAME = MARS
/* CAMERA DATA ELEMENTS */
DETECTOR_TEMPERATURE = 18.5744
FOCAL_PLANE_TEMPERATURE = 7.9716
INST_CMPRS_NAME = "DISCRETE COSINE TRANSFORMATION (DCT)"
INST_CMPRS_RATIO = 7.82979
INST_CMPRS_QUALITY = 0
INST_CMPRS_QUANTZ_TBL_ID = 0
INSTRUMENT_TEMPERATURE = 11.234
LENS_TEMPERATURE = 8.7872
MACROPIXEL_SIZE = 2
PIXEL_SUBSAMPLING_FLAG = N
SIGNAL_CHAIN_ID = 3
/* RADIOMETRIC DATA ELEMENTS */
BANDWIDTH = 177.0
CENTER_FILTER_WAVELENGTH = 676.5
RADIANCE_OFFSET = 5.34537
RADIANCE_SCALING_FACTOR = 0.00573703
REFLECTANCE_SCALING_FACTOR = 0.00013467
MEX:REFLECTANCE_OFFSET = 0.125477
/* IMAGE OBJECT DEFINITIONS */
OBJECT = IMAGE
  INTERCHANGE_FORMAT = BINARY
  LINES = 25818
  LINE_SAMPLES = 3416
  SAMPLE_TYPE = UNSIGNED_INTEGER
  SAMPLE_BITS = 8
  BANDS = 1
  BAND_STORAGE_TYPE = BAND_SEQUENTIAL
  MAXIMUM = 255
  MEAN = 139.941
  MINIMUM = 1
  STANDARD_DEVIATION = 33.3506
END_OBJECT = IMAGE
/* MAP OBJECT DEFINITIONS */
OBJECT = IMAGE_MAP_PROJECTION
  ^DATA_SET_MAP_PROJECTION_CATALOG= "DSMAP.CAT"
  A_AXIS_RADIUS = 3396.0
  B_AXIS_RADIUS = 3396.0
  C_AXIS_RADIUS = 3396.0
  CENTER_LATITUDE = 0.0
  CENTER_LONGITUDE = 68.0
  COORDINATE_SYSTEM_NAME = PLANETOGRAPHIC
  COORDINATE_SYSTEM_TYPE = "BODY-FIXED ROTATING"
  EASTERNMOST_LONGITUDE = 69.3145
  FIRST_STANDARD_PARALLEL = "N/A"
  LINE_FIRST_PIXEL = 1
  LINE_LAST_PIXEL = 25818
  LINE_PROJECTION_OFFSET = -78926.75
  MAP_PROJECTION_ROTATION = 0.0
  MAP_PROJECTION_TYPE = SINUSOIDAL
  MAP_RESOLUTION = 2370.85521546667
  MAP_SCALE = 0.025
  MAXIMUM_LATITUDE = -33.2614
  MINIMUM_LATITUDE = -44.2109
  POSITIVE_LONGITUDE_DIRECTION = EAST
  REFERENCE_LATITUDE = "N/A"
  REFERENCE_LONGITUDE = "N/A"
  SAMPLE_FIRST_PIXEL = 1
  SAMPLE_LAST_PIXEL = 3416
  SAMPLE_PROJECTION_OFFSET = 800.25
  SECOND_STANDARD_PARALLEL = "N/A"
  WESTERNMOST_LONGITUDE = 67.52549999999999
END_OBJECT = IMAGE_MAP_PROJECTION
END
