PDS_VERSION_ID = PDS3
/* FILE DATA ELEMENTS */
RECORD_TYPE = UNDEFINED
/* POINTERS TO DATA OBJECTS */
^IMAGE = ("HN133_0000_P24.TIF")
/* IDENTIFICATION DATA ELEMENTS */
DATA_SET_ID = "MEX-M-HRSC-4-REFDR-MAPPROJECT-EXT8-V4.0"
DATA_SET_NAME = "MARS EXPRESS HRSC MAP PROJECTED REFDR EXTENSION8 V4.0"
DETECTOR_ID = MEX_HRSC_P2
EVENT_TYPE = "MARS-LOCAL-MAPPING-Fl-Lc-La"
INSTRUMENT_HOST_ID = MEX
INSTRUMENT_HOST_NAME = "MARS EXPRESS"
INSTRUMENT_ID = HRSC
INSTRUMENT_NAME = "HIGH RESOLUTION STEREO CAMERA"
MISSION_NAME = "MARS EXPRESS"
MISSION_PHASE_NAME = ME_Phase_46
PROCESSING_LEVEL_ID = 4
PRODUCT_CREATION_TIME = 2023-01-28T22:22:56.000Z
PRODUCT_ID = "HN133_0000_P24.TIF"
RELEASE_ID = 0004
REVISION_ID = 0000
/* QUALITY DATA ELEMENTS */
DATA_QUALITY_ID = 1
DATA_QUALITY_DESC = "Data calculated based on original SPICE kernels"
/* TIME DATA ELEMENTS */
SPACECRAFT_CLOCK_START_COUNT = "1/0598894881.24879"
SPACECRAFT_CLOCK_STOP_COUNT = "1/0598895163.55053"
START_TIME = 2022-04-24T15:42:07.412Z
STOP_TIME = 2022-04-24T15:45:19.650Z
/* ORBITAL DATA ELEMENTS */
ASCENDING_NODE_LONGITUDE = 142.86
MAXIMUM_RESOLUTION = 0.0302
FOOTPRINT_POINT_LATITUDE = (-31.9189,-31.8819,-31.8406,-31.7853, -31.7838,-31.7609,-31.396,-31.1527, -30.6679,-30.4249,-30.1815,-29.939, -29.6964,-29.4502,-28.9693,-28.7263, -28.4836,-28.2411,-27.8769,-27.5136, -27.031,-26.7853,-26.5419,-26.2983, -25.8158,-25.3324,-24.85,-24.6035, -24.3565,-24.11,-23.8627,-23.6165, -23.3719,-23.1204,-22.7426,-22.491, -22.114,-21.8573,-21.5985,-21.3394, -21.08,-20.8213,-20.5567,-20.2915, -19.895,-19.4949,-19.3596,-19.3242, -19.3447,-19.3632,-19.3808,-19.4054, -19.4312,-19.432,-19.4331,-19.7037, -19.968,-20.2321,-20.497,-20.7613, -21.0234,-21.2837,-21.6755,-21.9364, -22.1942,-22.448,-22.702,-22.9548, -23.2073,-23.458,-23.7044,-24.074, -24.4474,-24.6955,-25.0653,-25.4284, -25.6703,-25.9133,-26.2775,-26.5203, -26.884,-27.1269,-27.3693,-27.7327, -27.9754,-28.2184,-28.4609,-28.8242, -29.0664,-29.3097,-29.6744,-30.0402, -30.2839,-30.5274,-30.7707,-31.1357, -31.3792,-31.7443,-31.8661,-31.9189)
FOOTPRINT_POINT_LONGITUDE = (329.9,329.425,328.931,328.315,328.299, 328.255,328.266,328.273,328.29,328.296, 328.302,328.308,328.315,328.315,328.333 ,328.338,328.342,328.347,328.352, 328.359,328.369,328.366,328.367,328.367 ,328.374,328.378,328.382,328.385, 328.387,328.39,328.391,328.394,328.398, 328.402,328.405,328.407,328.41,328.411, 328.41,328.409,328.407,328.405,328.403, 328.4,328.397,328.392,328.39,328.39, 328.694,328.975,329.252,329.673,330.132 ,330.149,330.154,330.15,330.146,330.142 ,330.138,330.133,330.129,330.126, 330.121,330.118,330.113,330.109,330.105 ,330.1,330.095,330.088,330.082,330.074, 330.068,330.063,330.056,330.049,330.044 ,330.039,330.032,330.027,330.019, 330.013,330.008,329.999,329.993,329.987 ,329.98,329.97,329.963,329.957,329.947, 329.937,329.931,329.924,329.917,329.906 ,329.899,329.887,329.883,329.9)
ORBIT_NUMBER = 23133
ORBITAL_ECCENTRICITY = 0.576
ORBITAL_INCLINATION = 87.02
ORBITAL_SEMIMAJOR_AXIS = 8799.43
PERIAPSIS_ALTITUDE = 342.61
PERIAPSIS_ARGUMENT_ANGLE = 316.31
PERIAPSIS_TIME = 2022-04-24T15:39:29.000Z
SPACECRAFT_ORIENTATION = (0.0,1.0,0.0)
^MEX_ORIENTATION_DESC = "MEX_ORIENTATION_DESC.TXT"
SPACECRAFT_POINTING_MODE = ACROSSTRACK
^MEX_POINTING_DESC = "MEX_POINTING_DESC.TXT"
RIGHT_ASCENSION = -1e+32
DECLINATION = -1e+32
OFFSET_ANGLE = 1.7
SPACECRAFT_SOLAR_DISTANCE = 2.10134e+08
TARGET_NAME = MARS
/* CAMERA DATA ELEMENTS */
DETECTOR_TEMPERATURE = 18.9822
FOCAL_PLANE_TEMPERATURE = 8.7872
INST_CMPRS_NAME = "DISCRETE COSINE TRANSFORMATION (DCT)"
INST_CMPRS_RATIO = 6.29383
INST_CMPRS_QUALITY = 0
INST_CMPRS_QUANTZ_TBL_ID = 0
INSTRUMENT_TEMPERATURE = 11.6418
LENS_TEMPERATURE = 9.3989
MACROPIXEL_SIZE = 2
MISSING_FRAMES = 0
PIXEL_SUBSAMPLING_FLAG = N
SIGNAL_CHAIN_ID = 3
/* RADIOMETRIC DATA ELEMENTS */
BANDWIDTH = 177.0
CENTER_FILTER_WAVELENGTH = 676.5
RADIANCE_OFFSET = 3.66436
RADIANCE_SCALING_FACTOR = 0.0106616
REFLECTANCE_SCALING_FACTOR = 0.000249617
MEX:REFLECTANCE_OFFSET = 0.0857923
/* IMAGE OBJECT DEFINITIONS */
OBJECT = IMAGE
  INTERCHANGE_FORMAT = BINARY
  LINES = 29514
  LINE_SAMPLES = 4166
  SAMPLE_TYPE = UNSIGNED_INTEGER
  SAMPLE_BITS = 8
  BANDS = 1
  BAND_STORAGE_TYPE = BAND_SEQUENTIAL
  MAXIMUM = 255
  MEAN = 113.21
  MINIMUM = 1
  STANDARD_DEVIATION = 24.9056
END_OBJECT = IMAGE
/* MAP OBJECT DEFINITIONS */
OBJECT = IMAGE_MAP_PROJECTION
  ^DATA_SET_MAP_PROJECTION_CATALOG= "DSMAP.CAT"
  A_AXIS_RADIUS = 3396.0
  B_AXIS_RADIUS = 3396.0
  C_AXIS_RADIUS = 3396.0
  CENTER_LATITUDE = 0.0
  CENTER_LONGITUDE = 329.0
  COORDINATE_SYSTEM_NAME = PLANETOGRAPHIC
  COORDINATE_SYSTEM_TYPE = "BODY-FIXED ROTATING"
  EASTERNMOST_LONGITUDE = 330.154
  FIRST_STANDARD_PARALLEL = "N/A"
  LINE_FIRST_PIXEL = 1
  LINE_LAST_PIXEL = 29514
  LINE_PROJECTION_OFFSET = -45999.25
  MAP_PROJECTION_ROTATION = 0.0
  MAP_PROJECTION_TYPE = SINUSOIDAL
  MAP_RESOLUTION = 2370.85521546667
  MAP_SCALE = 0.025
  MAXIMUM_LATITUDE = -19.3242
  MINIMUM_LATITUDE = -31.9189
  POSITIVE_LONGITUDE_DIRECTION = EAST
  REFERENCE_LATITUDE = "N/A"
  REFERENCE_LONGITUDE = "N/A"
  SAMPLE_FIRST_PIXEL = 1
  SAMPLE_LAST_PIXEL = 4166
  SAMPLE_PROJECTION_OFFSET = 1508.25
  SECOND_STANDARD_PARALLEL = "N/A"
  WESTERNMOST_LONGITUDE = 328.255
END_OBJECT = IMAGE_MAP_PROJECTION
END
