PDS_VERSION_ID = PDS3
/* FILE DATA ELEMENTS */
RECORD_TYPE = UNDEFINED
/* POINTERS TO DATA OBJECTS */
^IMAGE = ("HN136_0000_P14.TIF")
/* IDENTIFICATION DATA ELEMENTS */
DATA_SET_ID = "MEX-M-HRSC-4-REFDR-MAPPROJECT-EXT8-V4.0"
DATA_SET_NAME = "MARS EXPRESS HRSC MAP PROJECTED REFDR EXTENSION8 V4.0"
DETECTOR_ID = MEX_HRSC_P1
EVENT_TYPE = "MARS-REGIONAL-MAPPING-Im-Eo"
INSTRUMENT_HOST_ID = MEX
INSTRUMENT_HOST_NAME = "MARS EXPRESS"
INSTRUMENT_ID = HRSC
INSTRUMENT_NAME = "HIGH RESOLUTION STEREO CAMERA"
MISSION_NAME = "MARS EXPRESS"
MISSION_PHASE_NAME = ME_Phase_46
PROCESSING_LEVEL_ID = 4
PRODUCT_CREATION_TIME = 2023-01-28T22:22:56.000Z
PRODUCT_ID = "HN136_0000_P14.TIF"
RELEASE_ID = 0004
REVISION_ID = 0000
/* QUALITY DATA ELEMENTS */
DATA_QUALITY_ID = 1
DATA_QUALITY_DESC = "Data calculated based on original SPICE kernels"
/* TIME DATA ELEMENTS */
SPACECRAFT_CLOCK_START_COUNT = "1/0598970025.24884"
SPACECRAFT_CLOCK_STOP_COUNT = "1/0598970279.49267"
START_TIME = 2022-04-25T12:35:13.143Z
STOP_TIME = 2022-04-25T12:38:21.283Z
/* ORBITAL DATA ELEMENTS */
ASCENDING_NODE_LONGITUDE = 142.81
MAXIMUM_RESOLUTION = 0.028
FOOTPRINT_POINT_LATITUDE = (-50.157,-50.1429,-50.13,-50.1182, -50.1176,-50.1504,-49.9049,-49.6598, -49.4143,-49.0458,-48.6775,-48.432, -48.1868,-47.9417,-47.6964,-47.4511, -47.2044,-46.9584,-46.7138,-46.4674, -46.1003,-45.8556,-45.6125,-45.3683, -45.1214,-44.8787,-44.6346,-44.2677, -43.9012,-43.6568,-43.414,-43.0478, -42.8033,-42.559,-42.3157,-42.0721, -41.8275,-41.462,-41.2199,-40.9754, -40.7327,-40.4901,-40.0063,-39.5304, -39.0472,-38.8054,-38.5581,-38.0767, -37.9564,-37.9369,-37.9416,-37.9449, -37.9462,-37.9462,-37.9466,-38.3086, -38.791,-39.1546,-39.6398,-40.0016, -40.3657,-40.6083,-40.8517,-41.0949, -41.3385,-41.7036,-41.9478,-42.192, -42.5584,-42.8028,-43.0477,-43.2927, -43.5373,-43.782,-44.0269,-44.2719, -44.5168,-44.7621,-45.1292,-45.3758, -45.6217,-45.8671,-46.1121,-46.3561, -46.6016,-46.8475,-47.0939,-47.4636, -47.7097,-47.9558,-48.2024,-48.4488, -48.818,-49.0641,-49.3105,-49.5597, -49.807,-50.0527,-50.1712,-50.157)
FOOTPRINT_POINT_LONGITUDE = (24.6812,23.8811,23.308,22.8571,22.839, 22.7931,22.8174,22.8407,22.8641,22.8985 ,22.9317,22.9533,22.9742,22.9945, 23.0148,23.0345,23.0555,23.0754,23.0935 ,23.1131,23.1391,23.1562,23.1711, 23.1871,23.2055,23.2192,23.2343,23.257, 23.2789,23.2933,23.3057,23.3261,23.3398 ,23.3531,23.3653,23.3775,23.3906, 23.4084,23.4186,23.431,23.4415,23.4518, 23.4706,23.4815,23.499,23.5077,23.5215, 23.5365,23.5402,23.5409,24.1013,24.6126 ,25.0757,25.0906,25.096,25.0879,25.0766 ,25.0684,25.057,25.0474,25.0383,25.032, 25.0257,25.0193,25.0128,25.0028,24.9962 ,24.9894,24.979,24.9719,24.9648,24.9576 ,24.9501,24.9425,24.9348,24.9269, 24.9189,24.9109,24.8982,24.8902,24.8817 ,24.873,24.8639,24.8544,24.8451,24.8358 ,24.8265,24.8123,24.8024,24.7924, 24.7824,24.7721,24.7562,24.7453,24.7343 ,24.7242,24.7131,24.7013,24.6939, 24.6812)
ORBIT_NUMBER = 23136
ORBITAL_ECCENTRICITY = 0.576
ORBITAL_INCLINATION = 87.0
ORBITAL_SEMIMAJOR_AXIS = 8803.2
PERIAPSIS_ALTITUDE = 342.75
PERIAPSIS_ARGUMENT_ANGLE = 315.8
PERIAPSIS_TIME = 2022-04-25T12:36:26.000Z
SPACECRAFT_ORIENTATION = (0.0,1.0,0.0)
^MEX_ORIENTATION_DESC = "MEX_ORIENTATION_DESC.TXT"
SPACECRAFT_POINTING_MODE = ACROSSTRACK
^MEX_POINTING_DESC = "MEX_POINTING_DESC.TXT"
RIGHT_ASCENSION = -1e+32
DECLINATION = -1e+32
OFFSET_ANGLE = 0.269
SPACECRAFT_SOLAR_DISTANCE = 2.10034e+08
TARGET_NAME = MARS
/* CAMERA DATA ELEMENTS */
DETECTOR_TEMPERATURE = 17.1471
FOCAL_PLANE_TEMPERATURE = 8.5833
INST_CMPRS_NAME = "DISCRETE COSINE TRANSFORMATION (DCT)"
INST_CMPRS_RATIO = 5.84927
INST_CMPRS_QUALITY = 0
INST_CMPRS_QUANTZ_TBL_ID = 0
INSTRUMENT_TEMPERATURE = 11.234
LENS_TEMPERATURE = 9.195
MACROPIXEL_SIZE = 2
MISSING_FRAMES = 0
PIXEL_SUBSAMPLING_FLAG = N
SIGNAL_CHAIN_ID = 3
/* RADIOMETRIC DATA ELEMENTS */
BANDWIDTH = 174.0
CENTER_FILTER_WAVELENGTH = 675.0
RADIANCE_OFFSET = 3.24048
RADIANCE_SCALING_FACTOR = 0.0116956
REFLECTANCE_SCALING_FACTOR = 0.000277516
MEX:REFLECTANCE_OFFSET = 0.0768905
/* IMAGE OBJECT DEFINITIONS */
OBJECT = IMAGE
  INTERCHANGE_FORMAT = BINARY
  LINES = 29095
  LINE_SAMPLES = 3877
  SAMPLE_TYPE = UNSIGNED_INTEGER
  SAMPLE_BITS = 8
  BANDS = 1
  BAND_STORAGE_TYPE = BAND_SEQUENTIAL
  MAXIMUM = 255
  MEAN = 114.307
  MINIMUM = 1
  STANDARD_DEVIATION = 23.2923
END_OBJECT = IMAGE
/* MAP OBJECT DEFINITIONS */
OBJECT = IMAGE_MAP_PROJECTION
  ^DATA_SET_MAP_PROJECTION_CATALOG= "DSMAP.CAT"
  A_AXIS_RADIUS = 3396.0
  B_AXIS_RADIUS = 3396.0
  C_AXIS_RADIUS = 3396.0
  CENTER_LATITUDE = 0.0
  CENTER_LONGITUDE = 24.0
  COORDINATE_SYSTEM_NAME = PLANETOGRAPHIC
  COORDINATE_SYSTEM_TYPE = "BODY-FIXED ROTATING"
  EASTERNMOST_LONGITUDE = 25.096
  FIRST_STANDARD_PARALLEL = "N/A"
  LINE_FIRST_PIXEL = 1
  LINE_LAST_PIXEL = 29095
  LINE_PROJECTION_OFFSET = -89963.75
  MAP_PROJECTION_ROTATION = 0.0
  MAP_PROJECTION_TYPE = SINUSOIDAL
  MAP_RESOLUTION = 2370.85521546667
  MAP_SCALE = 0.025
  MAXIMUM_LATITUDE = -37.9369
  MINIMUM_LATITUDE = -50.1712
  POSITIVE_LONGITUDE_DIRECTION = EAST
  REFERENCE_LATITUDE = "N/A"
  REFERENCE_LONGITUDE = "N/A"
  SAMPLE_FIRST_PIXEL = 1
  SAMPLE_LAST_PIXEL = 3877
  SAMPLE_PROJECTION_OFFSET = 1849.25
  SECOND_STANDARD_PARALLEL = "N/A"
  WESTERNMOST_LONGITUDE = 22.7931
END_OBJECT = IMAGE_MAP_PROJECTION
END
