PDS_VERSION_ID = PDS3
/* FILE DATA ELEMENTS */
RECORD_TYPE = UNDEFINED
/* POINTERS TO DATA OBJECTS */
^IMAGE = ("HN136_0000_P24.TIF")
/* IDENTIFICATION DATA ELEMENTS */
DATA_SET_ID = "MEX-M-HRSC-4-REFDR-MAPPROJECT-EXT8-V4.0"
DATA_SET_NAME = "MARS EXPRESS HRSC MAP PROJECTED REFDR EXTENSION8 V4.0"
DETECTOR_ID = MEX_HRSC_P2
EVENT_TYPE = "MARS-REGIONAL-MAPPING-Im-Eo"
INSTRUMENT_HOST_ID = MEX
INSTRUMENT_HOST_NAME = "MARS EXPRESS"
INSTRUMENT_ID = HRSC
INSTRUMENT_NAME = "HIGH RESOLUTION STEREO CAMERA"
MISSION_NAME = "MARS EXPRESS"
MISSION_PHASE_NAME = ME_Phase_46
PROCESSING_LEVEL_ID = 4
PRODUCT_CREATION_TIME = 2023-01-28T22:22:56.000Z
PRODUCT_ID = "HN136_0000_P24.TIF"
RELEASE_ID = 0004
REVISION_ID = 0000
/* QUALITY DATA ELEMENTS */
DATA_QUALITY_ID = 1
DATA_QUALITY_DESC = "Data calculated based on original SPICE kernels"
/* TIME DATA ELEMENTS */
SPACECRAFT_CLOCK_START_COUNT = "1/0598970025.24884"
SPACECRAFT_CLOCK_STOP_COUNT = "1/0598970279.49267"
START_TIME = 2022-04-25T12:34:31.027Z
STOP_TIME = 2022-04-25T12:37:39.908Z
/* ORBITAL DATA ELEMENTS */
ASCENDING_NODE_LONGITUDE = 142.81
MAXIMUM_RESOLUTION = 0.0279
FOOTPRINT_POINT_LATITUDE = (-50.2869,-50.2731,-50.2515,-50.2138, -50.2129,-50.1741,-49.8135,-49.3323, -48.9712,-48.489,-48.2473,-48.0052, -47.7634,-47.4006,-46.9178,-46.6747, -46.4331,-46.1876,-45.7022,-45.3353, -45.093,-44.8485,-44.4816,-44.2376, -43.9932,-43.7492,-43.5047,-43.2587, -43.0142,-42.7703,-42.5259,-42.2808, -41.9135,-41.6698,-41.4245,-41.1784, -40.8112,-40.5656,-40.3197,-40.0733, -39.8217,-39.5721,-39.3257,-39.0794, -38.8334,-38.4707,-38.1005,-37.9772, -37.9522,-37.9737,-37.9855,-37.9931, -37.9934,-37.9939,-38.3643,-38.6115, -38.9823,-39.2274,-39.4738,-39.845, -40.0931,-40.4629,-40.7095,-40.9555, -41.2019,-41.5713,-41.9396,-42.1852, -42.4307,-42.6762,-42.9213,-43.1662, -43.4115,-43.6569,-43.902,-44.1469, -44.3918,-44.6366,-44.8812,-45.1264, -45.3694,-45.7356,-45.9796,-46.2251, -46.5917,-46.8351,-47.0779,-47.3207, -47.6849,-47.9276,-48.1698,-48.412, -48.6546,-48.8968,-49.1387,-49.3804, -49.8594,-50.1047,-50.2271,-50.2869)
FOOTPRINT_POINT_LONGITUDE = (24.6936,24.2567,23.6716,22.8242, 22.8057,22.7665,22.803,22.8506,22.8853, 22.9301,22.9516,22.9726,22.9935,23.0243 ,23.0652,23.084,23.1037,23.12,23.1564, 23.1808,23.1987,23.2144,23.2376,23.2533 ,23.2685,23.2837,23.2983,23.3115, 23.3257,23.3401,23.354,23.367,23.3865, 23.4001,23.4123,23.4235,23.4416,23.4529 ,23.4635,23.4737,23.4795,23.4867, 23.4963,23.5057,23.5151,23.5337,23.5461 ,23.5502,23.5511,24.2203,24.6926, 25.0597,25.0744,25.0797,25.0723,25.0672 ,25.0593,25.0547,25.0495,25.041,25.0349 ,25.0265,25.0207,25.0149,25.009,24.9998 ,24.9908,24.9846,24.9783,24.9719, 24.9654,24.9589,24.9521,24.9452,24.9382 ,24.9311,24.9238,24.9164,24.909,24.9011 ,24.894,24.8822,24.8742,24.8654,24.8526 ,24.8442,24.8358,24.8272,24.814,24.8049 ,24.7959,24.7866,24.7769,24.7672, 24.7574,24.7475,24.7287,24.7164,24.7103 ,24.6936)
ORBIT_NUMBER = 23136
ORBITAL_ECCENTRICITY = 0.576
ORBITAL_INCLINATION = 87.0
ORBITAL_SEMIMAJOR_AXIS = 8803.2
PERIAPSIS_ALTITUDE = 342.75
PERIAPSIS_ARGUMENT_ANGLE = 315.8
PERIAPSIS_TIME = 2022-04-25T12:36:26.000Z
SPACECRAFT_ORIENTATION = (0.0,1.0,0.0)
^MEX_ORIENTATION_DESC = "MEX_ORIENTATION_DESC.TXT"
SPACECRAFT_POINTING_MODE = ACROSSTRACK
^MEX_POINTING_DESC = "MEX_POINTING_DESC.TXT"
RIGHT_ASCENSION = -1e+32
DECLINATION = -1e+32
OFFSET_ANGLE = 0.269
SPACECRAFT_SOLAR_DISTANCE = 2.10034e+08
TARGET_NAME = MARS
/* CAMERA DATA ELEMENTS */
DETECTOR_TEMPERATURE = 18.3705
FOCAL_PLANE_TEMPERATURE = 8.5833
INST_CMPRS_NAME = "DISCRETE COSINE TRANSFORMATION (DCT)"
INST_CMPRS_RATIO = 5.20203
INST_CMPRS_QUALITY = 0
INST_CMPRS_QUANTZ_TBL_ID = 0
INSTRUMENT_TEMPERATURE = 11.234
LENS_TEMPERATURE = 9.195
MACROPIXEL_SIZE = 2
MISSING_FRAMES = 0
PIXEL_SUBSAMPLING_FLAG = N
SIGNAL_CHAIN_ID = 3
/* RADIOMETRIC DATA ELEMENTS */
BANDWIDTH = 177.0
CENTER_FILTER_WAVELENGTH = 676.5
RADIANCE_OFFSET = 3.20722
RADIANCE_SCALING_FACTOR = 0.0113637
REFLECTANCE_SCALING_FACTOR = 0.000265801
MEX:REFLECTANCE_OFFSET = 0.0750178
/* IMAGE OBJECT DEFINITIONS */
OBJECT = IMAGE
  INTERCHANGE_FORMAT = BINARY
  LINES = 29095
  LINE_SAMPLES = 3877
  SAMPLE_TYPE = UNSIGNED_INTEGER
  SAMPLE_BITS = 8
  BANDS = 1
  BAND_STORAGE_TYPE = BAND_SEQUENTIAL
  MAXIMUM = 255
  MEAN = 117.663
  MINIMUM = 1
  STANDARD_DEVIATION = 23.6138
END_OBJECT = IMAGE
/* MAP OBJECT DEFINITIONS */
OBJECT = IMAGE_MAP_PROJECTION
  ^DATA_SET_MAP_PROJECTION_CATALOG= "DSMAP.CAT"
  A_AXIS_RADIUS = 3396.0
  B_AXIS_RADIUS = 3396.0
  C_AXIS_RADIUS = 3396.0
  CENTER_LATITUDE = 0.0
  CENTER_LONGITUDE = 24.0
  COORDINATE_SYSTEM_NAME = PLANETOGRAPHIC
  COORDINATE_SYSTEM_TYPE = "BODY-FIXED ROTATING"
  EASTERNMOST_LONGITUDE = 25.0797
  FIRST_STANDARD_PARALLEL = "N/A"
  LINE_FIRST_PIXEL = 1
  LINE_LAST_PIXEL = 29095
  LINE_PROJECTION_OFFSET = -89963.75
  MAP_PROJECTION_ROTATION = 0.0
  MAP_PROJECTION_TYPE = SINUSOIDAL
  MAP_RESOLUTION = 2370.85521546667
  MAP_SCALE = 0.025
  MAXIMUM_LATITUDE = -37.9522
  MINIMUM_LATITUDE = -50.2869
  POSITIVE_LONGITUDE_DIRECTION = EAST
  REFERENCE_LATITUDE = "N/A"
  REFERENCE_LONGITUDE = "N/A"
  SAMPLE_FIRST_PIXEL = 1
  SAMPLE_LAST_PIXEL = 3877
  SAMPLE_PROJECTION_OFFSET = 1849.25
  SECOND_STANDARD_PARALLEL = "N/A"
  WESTERNMOST_LONGITUDE = 22.7665
END_OBJECT = IMAGE_MAP_PROJECTION
END
