PDS_VERSION_ID = PDS3
/* FILE DATA ELEMENTS */
RECORD_TYPE = UNDEFINED
/* POINTERS TO DATA OBJECTS */
^IMAGE = ("HN137_0000_GR4.TIF")
/* IDENTIFICATION DATA ELEMENTS */
DATA_SET_ID = "MEX-M-HRSC-4-REFDR-MAPPROJECT-EXT8-V4.0"
DATA_SET_NAME = "MARS EXPRESS HRSC MAP PROJECTED REFDR EXTENSION8 V4.0"
DETECTOR_ID = MEX_HRSC_GREEN
EVENT_TYPE = "MARS-LOCAL-CARTOGRAPHY-Te-Gl-Ts"
INSTRUMENT_HOST_ID = MEX
INSTRUMENT_HOST_NAME = "MARS EXPRESS"
INSTRUMENT_ID = HRSC
INSTRUMENT_NAME = "HIGH RESOLUTION STEREO CAMERA"
MISSION_NAME = "MARS EXPRESS"
MISSION_PHASE_NAME = ME_Phase_46
PROCESSING_LEVEL_ID = 4
PRODUCT_CREATION_TIME = 2023-01-28T22:22:56.000Z
PRODUCT_ID = "HN137_0000_GR4.TIF"
RELEASE_ID = 0004
REVISION_ID = 0000
/* QUALITY DATA ELEMENTS */
DATA_QUALITY_ID = 1
DATA_QUALITY_DESC = "Data calculated based on original SPICE kernels"
/* TIME DATA ELEMENTS */
SPACECRAFT_CLOCK_START_COUNT = "1/0598995069.24899"
SPACECRAFT_CLOCK_STOP_COUNT = "1/0598995455.65179"
START_TIME = 2022-04-25T19:32:25.913Z
STOP_TIME = 2022-04-25T19:37:41.433Z
/* ORBITAL DATA ELEMENTS */
ASCENDING_NODE_LONGITUDE = 142.79
MAXIMUM_RESOLUTION = 0.0542
FOOTPRINT_POINT_LATITUDE = (-56.5783,-56.5502,-56.5038,-56.5029, -56.5116,-56.0333,-55.5544,-55.1053, -54.5016,-53.897,-53.4936,-53.0898, -52.6874,-52.2836,-51.8787,-51.4733, -50.8651,-50.4595,-50.0542,-49.4455, -49.0396,-48.6334,-48.227,-47.6173, -47.2107,-46.8042,-46.3971,-45.9904, -45.3801,-44.77,-44.3633,-43.9566, -43.3466,-42.94,-42.5335,-41.924, -41.3148,-40.909,-40.5032,-40.0977, -39.6923,-39.2872,-38.6799,-38.275, -37.8708,-37.4667,-37.0628,-36.2564, -36.055,-36.0431,-36.0563,-36.06, -36.0601,-36.0609,-36.6681,-37.4758, -37.8805,-38.2858,-38.6909,-39.0965, -39.5022,-39.9082,-40.3144,-40.7208, -41.1286,-41.5356,-41.9418,-42.3495, -42.7556,-43.1632,-43.5708,-43.9782, -44.5899,-44.9978,-45.4055,-45.8134, -46.4251,-46.8329,-47.2408,-47.6485, -48.0562,-48.6675,-49.2787,-49.686, -50.0932,-50.5004,-50.9071,-51.5168, -51.9228,-52.5315,-53.1404,-53.5465, -53.9517,-54.3567,-54.7612,-55.1654, -55.8554,-56.3364,-56.5768,-56.5783)
FOOTPRINT_POINT_LONGITUDE = (282.64,281.638,280.384,280.362,280.314 ,280.388,280.458,280.522,280.606, 280.685,280.735,280.784,280.826,280.869 ,280.914,280.959,281.022,281.062, 281.099,281.153,281.187,281.22,281.253, 281.299,281.329,281.357,281.386,281.412 ,281.45,281.486,281.509,281.53,281.561, 281.581,281.6,281.627,281.652,281.668, 281.683,281.698,281.712,281.724,281.743 ,281.756,281.766,281.777,281.787, 281.805,281.809,281.809,282.789,283.293 ,283.307,283.312,283.307,283.293, 283.287,283.281,283.274,283.267,283.26, 283.252,283.245,283.237,283.232,283.224 ,283.214,283.206,283.194,283.186, 283.177,283.166,283.152,283.142,283.131 ,283.12,283.103,283.091,283.08,283.067, 283.054,283.034,283.014,283.0,282.985, 282.971,282.955,282.93,282.912,282.885, 282.859,282.842,282.823,282.804,282.783 ,282.762,282.725,282.696,282.682, 282.64)
ORBIT_NUMBER = 23137
ORBITAL_ECCENTRICITY = 0.576
ORBITAL_INCLINATION = 87.0
ORBITAL_SEMIMAJOR_AXIS = 8802.76
PERIAPSIS_ALTITUDE = 342.43
PERIAPSIS_ARGUMENT_ANGLE = 315.64
PERIAPSIS_TIME = 2022-04-25T19:35:30.000Z
SPACECRAFT_ORIENTATION = (0.0,1.0,0.0)
^MEX_ORIENTATION_DESC = "MEX_ORIENTATION_DESC.TXT"
SPACECRAFT_POINTING_MODE = NADIR
^MEX_POINTING_DESC = "MEX_POINTING_DESC.TXT"
RIGHT_ASCENSION = -1e+32
DECLINATION = -1e+32
OFFSET_ANGLE = -1e+32
SPACECRAFT_SOLAR_DISTANCE = 2.1e+08
TARGET_NAME = MARS
/* CAMERA DATA ELEMENTS */
DETECTOR_TEMPERATURE = 18.5744
FOCAL_PLANE_TEMPERATURE = 8.9911
INST_CMPRS_NAME = "DISCRETE COSINE TRANSFORMATION (DCT)"
INST_CMPRS_RATIO = 8.96813
INST_CMPRS_QUALITY = 0
INST_CMPRS_QUANTZ_TBL_ID = 0
INSTRUMENT_TEMPERATURE = 11.4379
LENS_TEMPERATURE = 8.9911
MACROPIXEL_SIZE = 4
MISSING_FRAMES = 0
PIXEL_SUBSAMPLING_FLAG = N
SIGNAL_CHAIN_ID = 2
/* RADIOMETRIC DATA ELEMENTS */
BANDWIDTH = 88.0
CENTER_FILTER_WAVELENGTH = 538.0
RADIANCE_OFFSET = 0.944671
RADIANCE_SCALING_FACTOR = 0.00481597
REFLECTANCE_SCALING_FACTOR = 0.000182858
MEX:REFLECTANCE_OFFSET = 0.0358684
/* IMAGE OBJECT DEFINITIONS */
OBJECT = IMAGE
  INTERCHANGE_FORMAT = BINARY
  LINES = 24360
  LINE_SAMPLES = 2373
  SAMPLE_TYPE = UNSIGNED_INTEGER
  SAMPLE_BITS = 8
  BANDS = 1
  BAND_STORAGE_TYPE = BAND_SEQUENTIAL
  MAXIMUM = 255
  MEAN = 132.136
  MINIMUM = 1
  STANDARD_DEVIATION = 21.9581
END_OBJECT = IMAGE
/* MAP OBJECT DEFINITIONS */
OBJECT = IMAGE_MAP_PROJECTION
  ^DATA_SET_MAP_PROJECTION_CATALOG= "DSMAP.CAT"
  A_AXIS_RADIUS = 3396.0
  B_AXIS_RADIUS = 3396.0
  C_AXIS_RADIUS = 3396.0
  CENTER_LATITUDE = 0.0
  CENTER_LONGITUDE = 282.0
  COORDINATE_SYSTEM_NAME = PLANETOGRAPHIC
  COORDINATE_SYSTEM_TYPE = "BODY-FIXED ROTATING"
  EASTERNMOST_LONGITUDE = 283.312
  FIRST_STANDARD_PARALLEL = "N/A"
  LINE_FIRST_PIXEL = 1
  LINE_LAST_PIXEL = 24360
  LINE_PROJECTION_OFFSET = -42734.125
  MAP_PROJECTION_ROTATION = 0.0
  MAP_PROJECTION_TYPE = SINUSOIDAL
  MAP_RESOLUTION = 1185.42760773333
  MAP_SCALE = 0.05
  MAXIMUM_LATITUDE = -36.0431
  MINIMUM_LATITUDE = -56.5783
  POSITIVE_LONGITUDE_DIRECTION = EAST
  REFERENCE_LATITUDE = "N/A"
  REFERENCE_LONGITUDE = "N/A"
  SAMPLE_FIRST_PIXEL = 1
  SAMPLE_LAST_PIXEL = 2373
  SAMPLE_PROJECTION_OFFSET = 1115.125
  SECOND_STANDARD_PARALLEL = "N/A"
  WESTERNMOST_LONGITUDE = 280.314
END_OBJECT = IMAGE_MAP_PROJECTION
END
