PDS_VERSION_ID = PDS3
/* FILE DATA ELEMENTS */
RECORD_TYPE = UNDEFINED
/* POINTERS TO DATA OBJECTS */
^IMAGE = ("HN137_0000_S14.TIF")
/* IDENTIFICATION DATA ELEMENTS */
DATA_SET_ID = "MEX-M-HRSC-4-REFDR-MAPPROJECT-EXT8-V4.0"
DATA_SET_NAME = "MARS EXPRESS HRSC MAP PROJECTED REFDR EXTENSION8 V4.0"
DETECTOR_ID = MEX_HRSC_S1
EVENT_TYPE = "MARS-LOCAL-CARTOGRAPHY-Te-Gl-Ts"
INSTRUMENT_HOST_ID = MEX
INSTRUMENT_HOST_NAME = "MARS EXPRESS"
INSTRUMENT_ID = HRSC
INSTRUMENT_NAME = "HIGH RESOLUTION STEREO CAMERA"
MISSION_NAME = "MARS EXPRESS"
MISSION_PHASE_NAME = ME_Phase_46
PROCESSING_LEVEL_ID = 4
PRODUCT_CREATION_TIME = 2023-01-28T22:22:56.000Z
PRODUCT_ID = "HN137_0000_S14.TIF"
RELEASE_ID = 0004
REVISION_ID = 0000
/* QUALITY DATA ELEMENTS */
DATA_QUALITY_ID = 1
DATA_QUALITY_DESC = "Data calculated based on original SPICE kernels"
/* TIME DATA ELEMENTS */
SPACECRAFT_CLOCK_START_COUNT = "1/0598995069.24899"
SPACECRAFT_CLOCK_STOP_COUNT = "1/0598995455.65179"
START_TIME = 2022-04-25T19:32:53.515Z
STOP_TIME = 2022-04-25T19:38:08.533Z
/* ORBITAL DATA ELEMENTS */
ASCENDING_NODE_LONGITUDE = 142.79
MAXIMUM_RESOLUTION = 0.0288
FOOTPRINT_POINT_LATITUDE = (-56.507,-56.4862,-56.4381,-56.4373, -56.5105,-56.0957,-55.4734,-55.0584, -54.6421,-54.0174,-53.393,-52.9763, -52.5743,-52.1603,-51.5327,-51.1126, -50.6981,-50.0785,-49.4578,-49.0452, -48.6321,-48.2184,-47.8059,-47.187, -46.5698,-46.1566,-45.7454,-45.3348, -44.9252,-44.5155,-44.1063,-43.6978, -43.2893,-42.8815,-42.4742,-41.8658, -41.255,-40.8506,-40.4461,-40.0423, -39.6392,-39.2368,-38.6326,-38.2299, -37.8299,-37.429,-37.0289,-36.2333, -36.0348,-36.0223,-36.0308,-36.0348, -36.0348,-36.0353,-36.6439,-37.4364, -38.0386,-38.6415,-39.0439,-39.4465, -39.8501,-40.254,-40.6587,-41.0683, -41.4786,-41.8822,-42.2907,-42.6916, -43.1005,-43.5099,-43.9182,-44.5342, -44.9454,-45.3563,-45.768,-46.1795, -46.5916,-47.0049,-47.4183,-48.0384, -48.4519,-48.8666,-49.2813,-49.6962, -50.1126,-50.7357,-51.3585,-51.7725, -52.1873,-52.6025,-53.0207,-53.4409, -53.8599,-54.2773,-54.9032,-55.3203, -55.737,-56.3623,-56.5707,-56.507)
FOOTPRINT_POINT_LONGITUDE = (282.631,281.847,280.413,280.391, 280.332,280.395,280.485,280.542,280.598 ,280.68,280.756,280.806,280.845,280.889 ,280.957,281.002,281.042,281.098, 281.152,281.186,281.219,281.252,281.283 ,281.327,281.369,281.396,281.422, 281.446,281.469,281.492,281.514,281.534 ,281.554,281.573,281.592,281.617, 281.642,281.657,281.671,281.685,281.698 ,281.71,281.728,281.739,281.749,281.759 ,281.768,281.784,281.788,281.788, 282.566,283.313,283.328,283.334,283.328 ,283.313,283.303,283.292,283.285, 283.277,283.269,283.261,283.253,283.246 ,283.239,283.229,283.22,283.208,283.198 ,283.189,283.178,283.162,283.152,283.14 ,283.129,283.117,283.104,283.092, 283.079,283.059,283.044,283.03,283.015, 283.0,282.985,282.96,282.934,282.916, 282.897,282.877,282.859,282.84,282.821, 282.799,282.766,282.743,282.719,282.682 ,282.669,282.631)
ORBIT_NUMBER = 23137
ORBITAL_ECCENTRICITY = 0.576
ORBITAL_INCLINATION = 87.0
ORBITAL_SEMIMAJOR_AXIS = 8802.76
PERIAPSIS_ALTITUDE = 342.43
PERIAPSIS_ARGUMENT_ANGLE = 315.64
PERIAPSIS_TIME = 2022-04-25T19:35:30.000Z
SPACECRAFT_ORIENTATION = (0.0,1.0,0.0)
^MEX_ORIENTATION_DESC = "MEX_ORIENTATION_DESC.TXT"
SPACECRAFT_POINTING_MODE = NADIR
^MEX_POINTING_DESC = "MEX_POINTING_DESC.TXT"
RIGHT_ASCENSION = -1e+32
DECLINATION = -1e+32
OFFSET_ANGLE = -1e+32
SPACECRAFT_SOLAR_DISTANCE = 2.1e+08
TARGET_NAME = MARS
/* CAMERA DATA ELEMENTS */
DETECTOR_TEMPERATURE = 17.7588
FOCAL_PLANE_TEMPERATURE = 8.9911
INST_CMPRS_NAME = "DISCRETE COSINE TRANSFORMATION (DCT)"
INST_CMPRS_RATIO = 8.91121
INST_CMPRS_QUALITY = 0
INST_CMPRS_QUANTZ_TBL_ID = 0
INSTRUMENT_TEMPERATURE = 11.4379
LENS_TEMPERATURE = 8.9911
MACROPIXEL_SIZE = 2
MISSING_FRAMES = 0
PIXEL_SUBSAMPLING_FLAG = N
SIGNAL_CHAIN_ID = 1
/* RADIOMETRIC DATA ELEMENTS */
BANDWIDTH = 180.0
CENTER_FILTER_WAVELENGTH = 677.0
RADIANCE_OFFSET = 2.65216
RADIANCE_SCALING_FACTOR = 0.016511
REFLECTANCE_SCALING_FACTOR = 0.000379889
MEX:REFLECTANCE_OFFSET = 0.0610215
/* IMAGE OBJECT DEFINITIONS */
OBJECT = IMAGE
  INTERCHANGE_FORMAT = BINARY
  LINES = 48719
  LINE_SAMPLES = 4746
  SAMPLE_TYPE = UNSIGNED_INTEGER
  SAMPLE_BITS = 8
  BANDS = 1
  BAND_STORAGE_TYPE = BAND_SEQUENTIAL
  MAXIMUM = 255
  MEAN = 115.164
  MINIMUM = 1
  STANDARD_DEVIATION = 22.9753
END_OBJECT = IMAGE
/* MAP OBJECT DEFINITIONS */
OBJECT = IMAGE_MAP_PROJECTION
  ^DATA_SET_MAP_PROJECTION_CATALOG= "DSMAP.CAT"
  A_AXIS_RADIUS = 3396.0
  B_AXIS_RADIUS = 3396.0
  C_AXIS_RADIUS = 3396.0
  CENTER_LATITUDE = 0.0
  CENTER_LONGITUDE = 282.0
  COORDINATE_SYSTEM_NAME = PLANETOGRAPHIC
  COORDINATE_SYSTEM_TYPE = "BODY-FIXED ROTATING"
  EASTERNMOST_LONGITUDE = 283.334
  FIRST_STANDARD_PARALLEL = "N/A"
  LINE_FIRST_PIXEL = 1
  LINE_LAST_PIXEL = 48719
  LINE_PROJECTION_OFFSET = -85467.75
  MAP_PROJECTION_ROTATION = 0.0
  MAP_PROJECTION_TYPE = SINUSOIDAL
  MAP_RESOLUTION = 2370.85521546667
  MAP_SCALE = 0.025
  MAXIMUM_LATITUDE = -36.0223
  MINIMUM_LATITUDE = -56.5707
  POSITIVE_LONGITUDE_DIRECTION = EAST
  REFERENCE_LATITUDE = "N/A"
  REFERENCE_LONGITUDE = "N/A"
  SAMPLE_FIRST_PIXEL = 1
  SAMPLE_LAST_PIXEL = 4746
  SAMPLE_PROJECTION_OFFSET = 2230.75
  SECOND_STANDARD_PARALLEL = "N/A"
  WESTERNMOST_LONGITUDE = 280.332
END_OBJECT = IMAGE_MAP_PROJECTION
END
