PDS_VERSION_ID = PDS3
/* FILE DATA ELEMENTS */
RECORD_TYPE = UNDEFINED
/* POINTERS TO DATA OBJECTS */
^IMAGE = ("HN139_0000_P14.TIF")
/* IDENTIFICATION DATA ELEMENTS */
DATA_SET_ID = "MEX-M-HRSC-4-REFDR-MAPPROJECT-EXT8-V4.0"
DATA_SET_NAME = "MARS EXPRESS HRSC MAP PROJECTED REFDR EXTENSION8 V4.0"
DETECTOR_ID = MEX_HRSC_P1
EVENT_TYPE = "MARS-REGIONAL-MAPPING-Fl-Gl-Pf"
INSTRUMENT_HOST_ID = MEX
INSTRUMENT_HOST_NAME = "MARS EXPRESS"
INSTRUMENT_ID = HRSC
INSTRUMENT_NAME = "HIGH RESOLUTION STEREO CAMERA"
MISSION_NAME = "MARS EXPRESS"
MISSION_PHASE_NAME = ME_Phase_46
PROCESSING_LEVEL_ID = 4
PRODUCT_CREATION_TIME = 2023-01-28T22:22:56.000Z
PRODUCT_ID = "HN139_0000_P14.TIF"
RELEASE_ID = 0004
REVISION_ID = 0000
/* QUALITY DATA ELEMENTS */
DATA_QUALITY_ID = 1
DATA_QUALITY_DESC = "Data calculated based on original SPICE kernels"
/* TIME DATA ELEMENTS */
SPACECRAFT_CLOCK_START_COUNT = "1/0599045367.25681"
SPACECRAFT_CLOCK_STOP_COUNT = "1/0599045645.48272"
START_TIME = 2022-04-26T09:30:58.921Z
STOP_TIME = 2022-04-26T09:34:27.537Z
/* ORBITAL DATA ELEMENTS */
ASCENDING_NODE_LONGITUDE = 142.75
MAXIMUM_RESOLUTION = 0.0285
FOOTPRINT_POINT_LATITUDE = (-55.4471,-55.4199,-55.3939,-55.3654, -55.3645,-55.4259,-55.1534,-54.8811, -54.6079,-54.3348,-53.9275,-53.6556, -53.3833,-53.1106,-52.7017,-52.2932, -52.0203,-51.6107,-51.338,-51.0646, -50.791,-50.3815,-49.9718,-49.6985, -49.4249,-49.1518,-48.8787,-48.6055, -48.3326,-47.9233,-47.514,-47.2409, -46.8319,-46.5592,-46.2869,-46.0151, -45.7429,-45.3331,-45.06,-44.7892, -44.5187,-44.2478,-43.9759,-43.7052, -43.2979,-43.0272,-42.621,-41.9456, -41.8108,-41.7928,-41.8108,-41.8314, -41.8465,-41.847,-41.8476,-42.1184, -42.659,-42.9299,-43.2016,-43.609, -43.8805,-44.1521,-44.423,-44.6963, -45.1046,-45.3771,-45.6495,-45.9224, -46.3317,-46.6047,-47.0144,-47.2876, -47.5611,-47.8348,-48.2446,-48.5186, -48.9296,-49.3401,-49.6139,-49.8869, -50.1614,-50.5725,-50.8467,-51.1202, -51.3944,-51.8032,-52.0769,-52.4851, -52.7559,-53.0317,-53.3056,-53.5793, -53.852,-54.1224,-54.3946,-54.6674, -55.0712,-55.3515,-55.4894,-55.4471)
FOOTPRINT_POINT_LONGITUDE = (79.9865,79.1568,78.4753,77.8081, 77.7875,77.7934,77.8205,77.8469,77.8726 ,77.8976,77.9345,77.9583,77.9814, 78.0038,78.0365,78.068,78.0881,78.1174, 78.1363,78.1546,78.1723,78.1982,78.223, 78.2389,78.2543,78.2694,78.284,78.2981, 78.3119,78.3318,78.3509,78.363,78.3806, 78.3918,78.4028,78.4134,78.4237,78.438, 78.4471,78.4564,78.4654,78.474,78.482, 78.49,78.501,78.5081,78.5182,78.5338, 78.5368,78.5371,79.0311,79.668,80.2037, 80.2207,80.2268,80.2266,80.224,80.2231, 80.2232,80.2225,80.2216,80.2206,80.2181 ,80.2192,80.2177,80.2168,80.2156, 80.2149,80.2134,80.2123,80.2105,80.2092 ,80.2082,80.2073,80.2042,80.2033, 80.2016,80.1987,80.1967,80.1932,80.192, 80.189,80.187,80.1836,80.1813,80.1732, 80.1696,80.1599,80.1509,80.1507,80.147, 80.1428,80.1365,80.1262,80.1189,80.1127 ,80.093,80.1005,80.1,79.9865)
ORBIT_NUMBER = 23139
ORBITAL_ECCENTRICITY = 0.577
ORBITAL_INCLINATION = 87.02
ORBITAL_SEMIMAJOR_AXIS = 8802.57
PERIAPSIS_ALTITUDE = 341.6
PERIAPSIS_ARGUMENT_ANGLE = 315.28
PERIAPSIS_TIME = 2022-04-26T09:33:24.000Z
SPACECRAFT_ORIENTATION = (0.0,1.0,0.0)
^MEX_ORIENTATION_DESC = "MEX_ORIENTATION_DESC.TXT"
SPACECRAFT_POINTING_MODE = ACROSSTRACK
^MEX_POINTING_DESC = "MEX_POINTING_DESC.TXT"
RIGHT_ASCENSION = -1e+32
DECLINATION = -1e+32
OFFSET_ANGLE = -0.82
SPACECRAFT_SOLAR_DISTANCE = 2.09934e+08
TARGET_NAME = MARS
/* CAMERA DATA ELEMENTS */
DETECTOR_TEMPERATURE = 17.5549
FOCAL_PLANE_TEMPERATURE = 7.9716
INST_CMPRS_NAME = "DISCRETE COSINE TRANSFORMATION (DCT)"
INST_CMPRS_RATIO = 11.2334
INST_CMPRS_QUALITY = 0
INST_CMPRS_QUANTZ_TBL_ID = 0
INSTRUMENT_TEMPERATURE = 11.0301
LENS_TEMPERATURE = 7.156
MACROPIXEL_SIZE = 2
MISSING_FRAMES = 0
PIXEL_SUBSAMPLING_FLAG = N
SIGNAL_CHAIN_ID = 3
/* RADIOMETRIC DATA ELEMENTS */
BANDWIDTH = 174.0
CENTER_FILTER_WAVELENGTH = 675.0
RADIANCE_OFFSET = 4.32575
RADIANCE_SCALING_FACTOR = 0.0107224
REFLECTANCE_SCALING_FACTOR = 0.000254182
MEX:REFLECTANCE_OFFSET = 0.102545
/* IMAGE OBJECT DEFINITIONS */
OBJECT = IMAGE
  INTERCHANGE_FORMAT = BINARY
  LINES = 32453
  LINE_SAMPLES = 3809
  SAMPLE_TYPE = UNSIGNED_INTEGER
  SAMPLE_BITS = 8
  BANDS = 1
  BAND_STORAGE_TYPE = BAND_SEQUENTIAL
  MAXIMUM = 255
  MEAN = 189.68
  MINIMUM = 1
  STANDARD_DEVIATION = 28.1581
END_OBJECT = IMAGE
/* MAP OBJECT DEFINITIONS */
OBJECT = IMAGE_MAP_PROJECTION
  ^DATA_SET_MAP_PROJECTION_CATALOG= "DSMAP.CAT"
  A_AXIS_RADIUS = 3396.0
  B_AXIS_RADIUS = 3396.0
  C_AXIS_RADIUS = 3396.0
  CENTER_LATITUDE = 0.0
  CENTER_LONGITUDE = 79.0
  COORDINATE_SYSTEM_NAME = PLANETOGRAPHIC
  COORDINATE_SYSTEM_TYPE = "BODY-FIXED ROTATING"
  EASTERNMOST_LONGITUDE = 80.2268
  FIRST_STANDARD_PARALLEL = "N/A"
  LINE_FIRST_PIXEL = 1
  LINE_LAST_PIXEL = 32453
  LINE_PROJECTION_OFFSET = -99068.75
  MAP_PROJECTION_ROTATION = 0.0
  MAP_PROJECTION_TYPE = SINUSOIDAL
  MAP_RESOLUTION = 2370.85521546667
  MAP_SCALE = 0.025
  MAXIMUM_LATITUDE = -41.7928
  MINIMUM_LATITUDE = -55.4894
  POSITIVE_LONGITUDE_DIRECTION = EAST
  REFERENCE_LATITUDE = "N/A"
  REFERENCE_LONGITUDE = "N/A"
  SAMPLE_FIRST_PIXEL = 1
  SAMPLE_LAST_PIXEL = 3809
  SAMPLE_PROJECTION_OFFSET = 1659.25
  SECOND_STANDARD_PARALLEL = "N/A"
  WESTERNMOST_LONGITUDE = 77.78749999999999
END_OBJECT = IMAGE_MAP_PROJECTION
END
