PDS_VERSION_ID = PDS3
/* FILE DATA ELEMENTS */
RECORD_TYPE = UNDEFINED
/* POINTERS TO DATA OBJECTS */
^IMAGE = ("HN160_0000_ND4.TIF")
/* IDENTIFICATION DATA ELEMENTS */
DATA_SET_ID = "MEX-M-HRSC-4-REFDR-MAPPROJECT-EXT8-V4.0"
DATA_SET_NAME = "MARS EXPRESS HRSC MAP PROJECTED REFDR EXTENSION8 V4.0"
DETECTOR_ID = MEX_HRSC_NADIR
EVENT_TYPE = "MARS-REGIONAL-MAPPING-Im-Fl-Pf"
INSTRUMENT_HOST_ID = MEX
INSTRUMENT_HOST_NAME = "MARS EXPRESS"
INSTRUMENT_ID = HRSC
INSTRUMENT_NAME = "HIGH RESOLUTION STEREO CAMERA"
MISSION_NAME = "MARS EXPRESS"
MISSION_PHASE_NAME = ME_Phase_46
PROCESSING_LEVEL_ID = 4
PRODUCT_CREATION_TIME = 2023-01-28T22:22:56.000Z
PRODUCT_ID = "HN160_0000_ND4.TIF"
RELEASE_ID = 0004
REVISION_ID = 0000
/* QUALITY DATA ELEMENTS */
DATA_QUALITY_ID = 1
DATA_QUALITY_DESC = "Data calculated based on original SPICE kernels"
/* TIME DATA ELEMENTS */
SPACECRAFT_CLOCK_START_COUNT = "1/0599573410.23965"
SPACECRAFT_CLOCK_STOP_COUNT = "1/0599573642.54540"
START_TIME = 2022-05-02T12:11:16.684Z
STOP_TIME = 2022-05-02T12:14:03.690Z
/* ORBITAL DATA ELEMENTS */
ASCENDING_NODE_LONGITUDE = 142.37
MAXIMUM_RESOLUTION = 0.0136
FOOTPRINT_POINT_LATITUDE = (-52.4915,-52.4794,-52.4536,-52.4337, -52.433,-52.4293,-51.9957,-51.5619, -51.3447,-51.019,-50.8019,-50.5848, -50.2592,-50.0421,-49.8246,-49.607, -49.3897,-49.1722,-48.9547,-48.6286, -48.411,-48.0845,-47.7582,-47.5404, -47.3228,-46.9965,-46.7788,-46.5612, -46.3437,-46.1262,-45.7999,-45.5823, -45.3648,-45.0386,-44.8212,-44.6037, -44.3863,-44.1689,-43.9516,-43.7343, -43.2997,-42.8654,-42.4313,-41.9973, -41.672,-41.5636,-41.5632,-41.5704, -41.5795,-41.5853,-41.5936,-41.5938, -41.5941,-41.9201,-42.355,-42.5725, -42.7901,-43.0077,-43.2254,-43.4431, -43.6609,-43.8787,-44.0965,-44.4234, -44.6413,-44.8593,-45.0773,-45.2953, -45.5134,-45.7315,-45.9496,-46.1677, -46.3858,-46.604,-46.9312,-47.2585, -47.4767,-47.804,-48.0222,-48.3495, -48.5676,-48.7858,-49.0039,-49.2221, -49.4401,-49.6582,-49.8763,-50.0943, -50.3123,-50.5303,-50.7484,-50.9663, -51.1842,-51.4021,-51.6198,-51.8375, -52.0552,-52.3817,-52.4905,-52.4915)
FOOTPRINT_POINT_LONGITUDE = (93.6988,93.2099,92.3614,91.8124, 91.7934,91.7376,91.7852,91.8322,91.852, 91.8835,91.9047,91.9268,91.9615,91.9838 ,92.0017,92.0171,92.0366,92.0541, 92.0707,92.0998,92.1151,92.1376,92.1625 ,92.1737,92.1893,92.2128,92.2258, 92.2401,92.2545,92.2693,92.2897,92.3032 ,92.3165,92.3357,92.3481,92.3604, 92.3716,92.3834,92.3953,92.4063,92.4277 ,92.4486,92.4689,92.4882,92.5014, 92.5061,92.5061,92.8,93.2227,93.5466, 94.1281,94.1442,94.1521,94.1431,94.1316 ,94.1256,94.1194,94.1133,94.1071, 94.1008,94.0942,94.0878,94.0813,94.0709 ,94.0638,94.057,94.0503,94.0433,94.0358 ,94.028,94.0207,94.013,94.0049,93.9962, 93.9834,93.97,93.9605,93.9472,93.938, 93.9245,93.9153,93.9048,93.8953,93.8864 ,93.878,93.8683,93.8587,93.8487,93.8386 ,93.828,93.8134,93.8028,93.7901,93.7784 ,93.768,93.7589,93.7483,93.7331,93.7274 ,93.6988)
ORBIT_NUMBER = 23160
ORBITAL_ECCENTRICITY = 0.576
ORBITAL_INCLINATION = 87.01
ORBITAL_SEMIMAJOR_AXIS = 8797.23
PERIAPSIS_ALTITUDE = 341.09
PERIAPSIS_ARGUMENT_ANGLE = 311.72
PERIAPSIS_TIME = 2022-05-02T12:12:23.000Z
SPACECRAFT_ORIENTATION = (0.0,1.0,0.0)
^MEX_ORIENTATION_DESC = "MEX_ORIENTATION_DESC.TXT"
SPACECRAFT_POINTING_MODE = ACROSSTRACK
^MEX_POINTING_DESC = "MEX_POINTING_DESC.TXT"
RIGHT_ASCENSION = -1e+32
DECLINATION = -1e+32
OFFSET_ANGLE = 0.13
SPACECRAFT_SOLAR_DISTANCE = 2.09276e+08
TARGET_NAME = MARS
/* CAMERA DATA ELEMENTS */
DETECTOR_TEMPERATURE = 18.1666
FOCAL_PLANE_TEMPERATURE = 7.7677
INST_CMPRS_NAME = "DISCRETE COSINE TRANSFORMATION (DCT)"
INST_CMPRS_RATIO = 7.06317
INST_CMPRS_QUALITY = 0
INST_CMPRS_QUANTZ_TBL_ID = 0
INSTRUMENT_TEMPERATURE = 11.234
LENS_TEMPERATURE = 8.7872
MACROPIXEL_SIZE = 1
MISSING_FRAMES = 0
PIXEL_SUBSAMPLING_FLAG = N
SIGNAL_CHAIN_ID = 0
/* RADIOMETRIC DATA ELEMENTS */
BANDWIDTH = 177.0
CENTER_FILTER_WAVELENGTH = 677.5
RADIANCE_OFFSET = 5.27029
RADIANCE_SCALING_FACTOR = 0.0100495
REFLECTANCE_SCALING_FACTOR = 0.000233813
MEX:REFLECTANCE_OFFSET = 0.12262
/* IMAGE OBJECT DEFINITIONS */
OBJECT = IMAGE
  INTERCHANGE_FORMAT = BINARY
  LINES = 51816
  LINE_SAMPLES = 7735
  SAMPLE_TYPE = UNSIGNED_INTEGER
  SAMPLE_BITS = 8
  BANDS = 1
  BAND_STORAGE_TYPE = BAND_SEQUENTIAL
  MAXIMUM = 254
  MEAN = 129.227
  MINIMUM = 1
  STANDARD_DEVIATION = 33.6548
END_OBJECT = IMAGE
/* MAP OBJECT DEFINITIONS */
OBJECT = IMAGE_MAP_PROJECTION
  ^DATA_SET_MAP_PROJECTION_CATALOG= "DSMAP.CAT"
  A_AXIS_RADIUS = 3396.0
  B_AXIS_RADIUS = 3396.0
  C_AXIS_RADIUS = 3396.0
  CENTER_LATITUDE = 0.0
  CENTER_LONGITUDE = 93.0
  COORDINATE_SYSTEM_NAME = PLANETOGRAPHIC
  COORDINATE_SYSTEM_TYPE = "BODY-FIXED ROTATING"
  EASTERNMOST_LONGITUDE = 94.1521
  FIRST_STANDARD_PARALLEL = "N/A"
  LINE_FIRST_PIXEL = 1
  LINE_LAST_PIXEL = 51816
  LINE_PROJECTION_OFFSET = -197082.0
  MAP_PROJECTION_ROTATION = 0.0
  MAP_PROJECTION_TYPE = SINUSOIDAL
  MAP_RESOLUTION = 4741.71043093333
  MAP_SCALE = 0.0125
  MAXIMUM_LATITUDE = -41.5632
  MINIMUM_LATITUDE = -52.4915
  POSITIVE_LONGITUDE_DIRECTION = EAST
  REFERENCE_LATITUDE = "N/A"
  REFERENCE_LONGITUDE = "N/A"
  SAMPLE_FIRST_PIXEL = 1
  SAMPLE_LAST_PIXEL = 7735
  SAMPLE_PROJECTION_OFFSET = 3649.0
  SECOND_STANDARD_PARALLEL = "N/A"
  WESTERNMOST_LONGITUDE = 91.7376
END_OBJECT = IMAGE_MAP_PROJECTION
END
