PDS_VERSION_ID = PDS3
/* FILE DATA ELEMENTS */
RECORD_TYPE = UNDEFINED
/* POINTERS TO DATA OBJECTS */
^IMAGE = ("HN160_0000_S14.TIF")
/* IDENTIFICATION DATA ELEMENTS */
DATA_SET_ID = "MEX-M-HRSC-4-REFDR-MAPPROJECT-EXT8-V4.0"
DATA_SET_NAME = "MARS EXPRESS HRSC MAP PROJECTED REFDR EXTENSION8 V4.0"
DETECTOR_ID = MEX_HRSC_S1
EVENT_TYPE = "MARS-REGIONAL-MAPPING-Im-Fl-Pf"
INSTRUMENT_HOST_ID = MEX
INSTRUMENT_HOST_NAME = "MARS EXPRESS"
INSTRUMENT_ID = HRSC
INSTRUMENT_NAME = "HIGH RESOLUTION STEREO CAMERA"
MISSION_NAME = "MARS EXPRESS"
MISSION_PHASE_NAME = ME_Phase_46
PROCESSING_LEVEL_ID = 4
PRODUCT_CREATION_TIME = 2023-01-28T22:22:56.000Z
PRODUCT_ID = "HN160_0000_S14.TIF"
RELEASE_ID = 0004
REVISION_ID = 0000
/* QUALITY DATA ELEMENTS */
DATA_QUALITY_ID = 1
DATA_QUALITY_DESC = "Data calculated based on original SPICE kernels"
/* TIME DATA ELEMENTS */
SPACECRAFT_CLOCK_START_COUNT = "1/0599573410.23965"
SPACECRAFT_CLOCK_STOP_COUNT = "1/0599573642.54540"
START_TIME = 2022-05-02T12:11:47.449Z
STOP_TIME = 2022-05-02T12:14:35.431Z
/* ORBITAL DATA ELEMENTS */
ASCENDING_NODE_LONGITUDE = 142.37
MAXIMUM_RESOLUTION = 0.0288
FOOTPRINT_POINT_LATITUDE = (-52.4064,-52.3951,-52.3745,-52.3626, -52.362,-52.4367,-52.2176,-51.9987, -51.7784,-51.448,-51.0179,-50.7994, -50.5785,-50.3549,-50.0216,-49.8091, -49.4854,-49.2672,-49.0535,-48.8225, -48.5051,-48.0755,-47.8556,-47.4338, -47.2167,-46.998,-46.6792,-46.4637, -46.2469,-46.0302,-45.7068,-45.4912, -45.1678,-44.9526,-44.7377,-44.4166, -44.0943,-43.8795,-43.6655,-43.4516, -43.2383,-43.0243,-42.8106,-42.5963, -42.2762,-42.0625,-41.7448,-41.638, -41.6003,-41.6042,-41.6066,-41.61, -41.6128,-41.6126,-41.613,-41.9321, -42.1459,-42.3598,-42.6799,-43.0011, -43.2155,-43.4301,-43.6444,-43.8595, -44.0748,-44.2899,-44.6117,-44.8275, -45.0446,-45.2607,-45.4768,-45.6916, -45.9083,-46.1247,-46.3409,-46.5548, -46.7707,-47.0936,-47.4148,-47.6319, -47.8471,-48.1721,-48.39,-48.6071, -48.8214,-49.0431,-49.2639,-49.5938, -49.8126,-50.0314,-50.2503,-50.5776, -51.0047,-51.2205,-51.4361,-51.6594, -51.9937,-52.3308,-52.4412,-52.4064)
FOOTPRINT_POINT_LONGITUDE = (93.7038,93.1167,92.2514,91.8261, 91.8076,91.7467,91.7704,91.7935,91.8171 ,91.852,91.8897,91.9106,91.9327,91.9564 ,91.9897,92.005,92.0307,92.0491,92.0643 ,92.0885,92.1083,92.138,92.1558,92.1791 ,92.1945,92.2105,92.2285,92.242,92.2562 ,92.2701,92.2896,92.3023,92.321,92.3331 ,92.3448,92.3614,92.3782,92.3892, 92.3996,92.4098,92.4195,92.4295,92.4392 ,92.4491,92.4629,92.4722,92.4843, 92.4887,92.4901,92.8998,93.2101,93.6008 ,94.1523,94.1684,94.1742,94.165,94.159, 94.1528,94.1432,94.1335,94.127,94.1204, 94.1135,94.1067,94.0998,94.0928,94.0816 ,94.0744,94.0674,94.0599,94.0523, 94.0442,94.0364,94.0284,94.0202,94.0111 ,94.0024,93.9889,93.9743,93.9654, 93.9557,93.9414,93.9321,93.9224,93.9116 ,93.9016,93.8925,93.8781,93.8679, 93.8574,93.8469,93.8303,93.8044,93.7919 ,93.7792,93.7687,93.7524,93.7365, 93.7305,93.7038)
ORBIT_NUMBER = 23160
ORBITAL_ECCENTRICITY = 0.576
ORBITAL_INCLINATION = 87.01
ORBITAL_SEMIMAJOR_AXIS = 8797.23
PERIAPSIS_ALTITUDE = 341.09
PERIAPSIS_ARGUMENT_ANGLE = 311.72
PERIAPSIS_TIME = 2022-05-02T12:12:23.000Z
SPACECRAFT_ORIENTATION = (0.0,1.0,0.0)
^MEX_ORIENTATION_DESC = "MEX_ORIENTATION_DESC.TXT"
SPACECRAFT_POINTING_MODE = ACROSSTRACK
^MEX_POINTING_DESC = "MEX_POINTING_DESC.TXT"
RIGHT_ASCENSION = -1e+32
DECLINATION = -1e+32
OFFSET_ANGLE = 0.13
SPACECRAFT_SOLAR_DISTANCE = 2.09276e+08
TARGET_NAME = MARS
/* CAMERA DATA ELEMENTS */
DETECTOR_TEMPERATURE = 16.7393
FOCAL_PLANE_TEMPERATURE = 7.7677
INST_CMPRS_NAME = "DISCRETE COSINE TRANSFORMATION (DCT)"
INST_CMPRS_RATIO = 11.7426
INST_CMPRS_QUALITY = 0
INST_CMPRS_QUANTZ_TBL_ID = 0
INSTRUMENT_TEMPERATURE = 11.234
LENS_TEMPERATURE = 8.7872
MACROPIXEL_SIZE = 2
MISSING_FRAMES = 1
PIXEL_SUBSAMPLING_FLAG = N
SIGNAL_CHAIN_ID = 1
/* RADIOMETRIC DATA ELEMENTS */
BANDWIDTH = 180.0
CENTER_FILTER_WAVELENGTH = 677.0
RADIANCE_OFFSET = 6.26745
RADIANCE_SCALING_FACTOR = 0.00942474
REFLECTANCE_SCALING_FACTOR = 0.000215354
MEX:REFLECTANCE_OFFSET = 0.14321
/* IMAGE OBJECT DEFINITIONS */
OBJECT = IMAGE
  INTERCHANGE_FORMAT = BINARY
  LINES = 25908
  LINE_SAMPLES = 3868
  SAMPLE_TYPE = UNSIGNED_INTEGER
  SAMPLE_BITS = 8
  BANDS = 1
  BAND_STORAGE_TYPE = BAND_SEQUENTIAL
  MAXIMUM = 255
  MEAN = 135.168
  MINIMUM = 1
  STANDARD_DEVIATION = 36.1021
END_OBJECT = IMAGE
/* MAP OBJECT DEFINITIONS */
OBJECT = IMAGE_MAP_PROJECTION
  ^DATA_SET_MAP_PROJECTION_CATALOG= "DSMAP.CAT"
  A_AXIS_RADIUS = 3396.0
  B_AXIS_RADIUS = 3396.0
  C_AXIS_RADIUS = 3396.0
  CENTER_LATITUDE = 0.0
  CENTER_LONGITUDE = 93.0
  COORDINATE_SYSTEM_NAME = PLANETOGRAPHIC
  COORDINATE_SYSTEM_TYPE = "BODY-FIXED ROTATING"
  EASTERNMOST_LONGITUDE = 94.1742
  FIRST_STANDARD_PARALLEL = "N/A"
  LINE_FIRST_PIXEL = 1
  LINE_LAST_PIXEL = 25908
  LINE_PROJECTION_OFFSET = -98541.25
  MAP_PROJECTION_ROTATION = 0.0
  MAP_PROJECTION_TYPE = SINUSOIDAL
  MAP_RESOLUTION = 2370.85521546667
  MAP_SCALE = 0.025
  MAXIMUM_LATITUDE = -41.6003
  MINIMUM_LATITUDE = -52.4412
  POSITIVE_LONGITUDE_DIRECTION = EAST
  REFERENCE_LATITUDE = "N/A"
  REFERENCE_LONGITUDE = "N/A"
  SAMPLE_FIRST_PIXEL = 1
  SAMPLE_LAST_PIXEL = 3868
  SAMPLE_PROJECTION_OFFSET = 1824.25
  SECOND_STANDARD_PARALLEL = "N/A"
  WESTERNMOST_LONGITUDE = 91.7467
END_OBJECT = IMAGE_MAP_PROJECTION
END
