PDS_VERSION_ID = PDS3
/* FILE DATA ELEMENTS */
RECORD_TYPE = UNDEFINED
/* POINTERS TO DATA OBJECTS */
^IMAGE = ("HN163_0009_GR4.TIF")
/* IDENTIFICATION DATA ELEMENTS */
DATA_SET_ID = "MEX-M-HRSC-4-REFDR-MAPPROJECT-EXT8-V4.0"
DATA_SET_NAME = "MARS EXPRESS HRSC MAP PROJECTED REFDR EXTENSION8 V4.0"
DETECTOR_ID = MEX_HRSC_GREEN
EVENT_TYPE = "MARS-REGIONAL-MAPPING-Te-Im-Fl"
INSTRUMENT_HOST_ID = MEX
INSTRUMENT_HOST_NAME = "MARS EXPRESS"
INSTRUMENT_ID = HRSC
INSTRUMENT_NAME = "HIGH RESOLUTION STEREO CAMERA"
MISSION_NAME = "MARS EXPRESS"
MISSION_PHASE_NAME = ME_Phase_46
PROCESSING_LEVEL_ID = 4
PRODUCT_CREATION_TIME = 2023-01-28T22:22:56.000Z
PRODUCT_ID = "HN163_0009_GR4.TIF"
RELEASE_ID = 0004
REVISION_ID = 0000
/* QUALITY DATA ELEMENTS */
DATA_QUALITY_ID = 1
DATA_QUALITY_DESC = "Data calculated based on original SPICE kernels"
/* TIME DATA ELEMENTS */
SPACECRAFT_CLOCK_START_COUNT = "1/0599648867.25686"
SPACECRAFT_CLOCK_STOP_COUNT = "1/0599649077.49383"
START_TIME = 2022-05-03T09:08:58.512Z
STOP_TIME = 2022-05-03T09:11:23.472Z
/* ORBITAL DATA ELEMENTS */
ASCENDING_NODE_LONGITUDE = 142.32
MAXIMUM_RESOLUTION = 0.0543
FOOTPRINT_POINT_LATITUDE = (-50.7364,-50.7257,-50.7168,-50.7006, -50.6857,-50.6851,-50.6921,-50.5092, -50.3265,-50.1438,-49.7795,-49.5969, -49.4142,-49.2314,-49.0493,-48.8669, -48.6837,-48.5006,-48.3181,-48.1354, -47.9529,-47.7706,-47.497,-47.3144, -47.132,-46.9497,-46.7675,-46.5851, -46.4028,-46.1292,-45.9469,-45.6735, -45.4913,-45.3091,-45.1269,-44.9447, -44.7627,-44.5807,-44.3985,-44.2165, -43.8526,-43.5799,-43.2082,-42.8444, -42.3908,-42.028,-41.6654,-41.3934, -41.3028,-41.2772,-41.2856,-41.2915, -41.2964,-41.3005,-41.306,-41.3061, -41.307,-41.6703,-42.0337,-42.3974, -42.7613,-42.9434,-43.2164,-43.5894, -43.9537,-44.2272,-44.501,-44.6839, -44.8659,-45.0486,-45.3224,-45.5051, -45.6877,-45.9615,-46.144,-46.3271, -46.6013,-46.7843,-46.9671,-47.15, -47.4238,-47.6068,-47.7897,-47.9727, -48.1554,-48.3383,-48.5221,-48.705, -48.8875,-49.0705,-49.3459,-49.5295, -49.7128,-49.8961,-50.0796,-50.2628, -50.446,-50.6291,-50.7206,-50.7364)
FOOTPRINT_POINT_LONGITUDE = (147.399,146.925,146.586,146.042, 145.599,145.582,145.543,145.561,145.579 ,145.596,145.625,145.642,145.658, 145.674,145.687,145.702,145.719,145.736 ,145.749,145.764,145.778,145.79,145.81, 145.823,145.836,145.848,145.859,145.871 ,145.883,145.9,145.912,145.929,145.939, 145.95,145.961,145.971,145.981,145.991, 146.001,146.011,146.029,146.043,146.059 ,146.078,146.097,146.112,146.127, 146.138,146.142,146.143,146.506,146.795 ,147.067,147.325,147.748,147.764, 147.769,147.759,147.749,147.739,147.728 ,147.723,147.715,147.704,147.692, 147.683,147.674,147.669,147.662,147.656 ,147.647,147.64,147.634,147.623,147.616 ,147.61,147.6,147.593,147.586,147.579, 147.566,147.559,147.552,147.544,147.536 ,147.528,147.522,147.514,147.504, 147.496,147.485,147.478,147.47,147.462, 147.454,147.446,147.437,147.428,147.423 ,147.399)
ORBIT_NUMBER = 23163
ORBITAL_ECCENTRICITY = 0.576
ORBITAL_INCLINATION = 87.0
ORBITAL_SEMIMAJOR_AXIS = 8795.05
PERIAPSIS_ALTITUDE = 342.48
PERIAPSIS_ARGUMENT_ANGLE = 311.24
PERIAPSIS_TIME = 2022-05-03T09:09:25.000Z
SPACECRAFT_ORIENTATION = (0.0,1.0,0.0)
^MEX_ORIENTATION_DESC = "MEX_ORIENTATION_DESC.TXT"
SPACECRAFT_POINTING_MODE = ACROSSTRACK
^MEX_POINTING_DESC = "MEX_POINTING_DESC.TXT"
RIGHT_ASCENSION = -1e+32
DECLINATION = -1e+32
OFFSET_ANGLE = 0.12
SPACECRAFT_SOLAR_DISTANCE = 2.09188e+08
TARGET_NAME = MARS
/* CAMERA DATA ELEMENTS */
DETECTOR_TEMPERATURE = 16.9432
FOCAL_PLANE_TEMPERATURE = 8.3794
INST_CMPRS_NAME = "DISCRETE COSINE TRANSFORMATION (DCT)"
INST_CMPRS_RATIO = 13.445
INST_CMPRS_QUALITY = 0
INST_CMPRS_QUANTZ_TBL_ID = 0
INSTRUMENT_TEMPERATURE = 11.8457
LENS_TEMPERATURE = 8.7872
MACROPIXEL_SIZE = 4
PIXEL_SUBSAMPLING_FLAG = N
SIGNAL_CHAIN_ID = 2
/* RADIOMETRIC DATA ELEMENTS */
BANDWIDTH = 88.0
CENTER_FILTER_WAVELENGTH = 538.0
RADIANCE_OFFSET = 1.6495
RADIANCE_SCALING_FACTOR = 0.00314844
REFLECTANCE_SCALING_FACTOR = 0.00011862
MEX:REFLECTANCE_OFFSET = 0.0621459
/* IMAGE OBJECT DEFINITIONS */
OBJECT = IMAGE
  INTERCHANGE_FORMAT = BINARY
  LINES = 11242
  LINE_SAMPLES = 1787
  SAMPLE_TYPE = UNSIGNED_INTEGER
  SAMPLE_BITS = 8
  BANDS = 1
  BAND_STORAGE_TYPE = BAND_SEQUENTIAL
  MAXIMUM = 255
  MEAN = 128.019
  MINIMUM = 1
  STANDARD_DEVIATION = 30.7527
END_OBJECT = IMAGE
/* MAP OBJECT DEFINITIONS */
OBJECT = IMAGE_MAP_PROJECTION
  ^DATA_SET_MAP_PROJECTION_CATALOG= "DSMAP.CAT"
  A_AXIS_RADIUS = 3396.0
  B_AXIS_RADIUS = 3396.0
  C_AXIS_RADIUS = 3396.0
  CENTER_LATITUDE = 0.0
  CENTER_LONGITUDE = 147.0
  COORDINATE_SYSTEM_NAME = PLANETOGRAPHIC
  COORDINATE_SYSTEM_TYPE = "BODY-FIXED ROTATING"
  EASTERNMOST_LONGITUDE = 147.769
  FIRST_STANDARD_PARALLEL = "N/A"
  LINE_FIRST_PIXEL = 1
  LINE_LAST_PIXEL = 11242
  LINE_PROJECTION_OFFSET = -48934.375
  MAP_PROJECTION_ROTATION = 0.0
  MAP_PROJECTION_TYPE = SINUSOIDAL
  MAP_RESOLUTION = 1185.42760773333
  MAP_SCALE = 0.05
  MAXIMUM_LATITUDE = -41.2772
  MINIMUM_LATITUDE = -50.7364
  POSITIVE_LONGITUDE_DIRECTION = EAST
  REFERENCE_LATITUDE = "N/A"
  REFERENCE_LONGITUDE = "N/A"
  SAMPLE_FIRST_PIXEL = 1
  SAMPLE_LAST_PIXEL = 1787
  SAMPLE_PROJECTION_OFFSET = 1103.375
  SECOND_STANDARD_PARALLEL = "N/A"
  WESTERNMOST_LONGITUDE = 145.543
END_OBJECT = IMAGE_MAP_PROJECTION
END
