PDS_VERSION_ID = PDS3
/* FILE DATA ELEMENTS */
RECORD_TYPE = UNDEFINED
/* POINTERS TO DATA OBJECTS */
^IMAGE = ("HN163_0009_RE4.TIF")
/* IDENTIFICATION DATA ELEMENTS */
DATA_SET_ID = "MEX-M-HRSC-4-REFDR-MAPPROJECT-EXT8-V4.0"
DATA_SET_NAME = "MARS EXPRESS HRSC MAP PROJECTED REFDR EXTENSION8 V4.0"
DETECTOR_ID = MEX_HRSC_RED
EVENT_TYPE = "MARS-REGIONAL-MAPPING-Te-Im-Fl"
INSTRUMENT_HOST_ID = MEX
INSTRUMENT_HOST_NAME = "MARS EXPRESS"
INSTRUMENT_ID = HRSC
INSTRUMENT_NAME = "HIGH RESOLUTION STEREO CAMERA"
MISSION_NAME = "MARS EXPRESS"
MISSION_PHASE_NAME = ME_Phase_46
PROCESSING_LEVEL_ID = 4
PRODUCT_CREATION_TIME = 2023-01-28T22:22:56.000Z
PRODUCT_ID = "HN163_0009_RE4.TIF"
RELEASE_ID = 0004
REVISION_ID = 0000
/* QUALITY DATA ELEMENTS */
DATA_QUALITY_ID = 1
DATA_QUALITY_DESC = "Data calculated based on original SPICE kernels"
/* TIME DATA ELEMENTS */
SPACECRAFT_CLOCK_START_COUNT = "1/0599648867.25686"
SPACECRAFT_CLOCK_STOP_COUNT = "1/0599649077.49383"
START_TIME = 2022-05-03T09:08:27.296Z
STOP_TIME = 2022-05-03T09:10:49.080Z
/* ORBITAL DATA ELEMENTS */
ASCENDING_NODE_LONGITUDE = 142.32
MAXIMUM_RESOLUTION = 0.0566
FOOTPRINT_POINT_LATITUDE = (-50.8332,-50.8193,-50.8003,-50.7834, -50.7692,-50.7685,-50.7141,-50.2636, -49.9842,-49.8014,-49.6193,-49.437, -49.1621,-48.9778,-48.6182,-48.4356, -48.2513,-48.0693,-47.8847,-47.6994, -47.4245,-47.2409,-47.0562,-46.8706, -46.594,-46.4096,-46.1334,-45.9481, -45.6723,-45.395,-45.2106,-45.026, -44.8406,-44.6552,-44.3784,-44.1938, -44.0088,-43.8239,-43.6394,-43.4507, -43.265,-43.0807,-42.8977,-42.71, -42.4324,-42.2462,-42.0613,-41.8756, -41.5974,-41.5052,-41.4896,-41.4985, -41.5063,-41.5183,-41.5275,-41.5278, -41.5288,-41.8076,-42.0868,-42.2728, -42.4583,-42.644,-42.8296,-43.0153, -43.2014,-43.3879,-43.7561,-43.9427, -44.2233,-44.4085,-44.6843,-44.8712, -45.1493,-45.335,-45.6131,-45.7987, -45.9849,-46.1715,-46.3545,-46.5393, -46.8162,-47.0011,-47.1857,-47.3723, -47.5586,-47.7429,-47.927,-48.1123, -48.4791,-48.7557,-48.9415,-49.1258, -49.308,-49.6703,-50.0336,-50.2163, -50.4905,-50.6735,-50.7652,-50.8332)
FOOTPRINT_POINT_LONGITUDE = (147.405,146.906,146.337,145.906, 145.577,145.559,145.525,145.572,145.594 ,145.61,145.627,145.644,145.667,145.682 ,145.716,145.731,145.745,145.76,145.774 ,145.787,145.808,145.821,145.834, 145.846,145.865,145.877,145.896,145.907 ,145.925,145.942,145.953,145.965, 145.975,145.985,146.001,146.011,146.021 ,146.031,146.041,146.049,146.058, 146.067,146.078,146.085,146.098,146.106 ,146.115,146.123,146.134,146.139, 146.139,146.44,146.726,147.223,147.734, 147.749,147.754,147.747,147.74,147.735, 147.73,147.725,147.72,147.715,147.71, 147.704,147.695,147.689,147.679,147.674 ,147.666,147.66,147.651,147.645,147.635 ,147.629,147.622,147.615,147.61,147.603 ,147.593,147.587,147.58,147.572,147.564 ,147.557,147.55,147.543,147.529,147.517 ,147.509,147.501,147.494,147.48,147.466 ,147.458,147.445,147.437,147.432, 147.405)
ORBIT_NUMBER = 23163
ORBITAL_ECCENTRICITY = 0.576
ORBITAL_INCLINATION = 87.0
ORBITAL_SEMIMAJOR_AXIS = 8795.05
PERIAPSIS_ALTITUDE = 342.48
PERIAPSIS_ARGUMENT_ANGLE = 311.24
PERIAPSIS_TIME = 2022-05-03T09:09:25.000Z
SPACECRAFT_ORIENTATION = (0.0,1.0,0.0)
^MEX_ORIENTATION_DESC = "MEX_ORIENTATION_DESC.TXT"
SPACECRAFT_POINTING_MODE = ACROSSTRACK
^MEX_POINTING_DESC = "MEX_POINTING_DESC.TXT"
RIGHT_ASCENSION = -1e+32
DECLINATION = -1e+32
OFFSET_ANGLE = 0.12
SPACECRAFT_SOLAR_DISTANCE = 2.09188e+08
TARGET_NAME = MARS
/* CAMERA DATA ELEMENTS */
DETECTOR_TEMPERATURE = 18.5744
FOCAL_PLANE_TEMPERATURE = 8.3794
INST_CMPRS_NAME = "DISCRETE COSINE TRANSFORMATION (DCT)"
INST_CMPRS_RATIO = 18.5684
INST_CMPRS_QUALITY = 0
INST_CMPRS_QUANTZ_TBL_ID = 0
INSTRUMENT_TEMPERATURE = 11.8457
LENS_TEMPERATURE = 8.7872
MACROPIXEL_SIZE = 4
MISSING_FRAMES = 0
PIXEL_SUBSAMPLING_FLAG = N
SIGNAL_CHAIN_ID = 2
/* RADIOMETRIC DATA ELEMENTS */
BANDWIDTH = 48.0
CENTER_FILTER_WAVELENGTH = 748.0
RADIANCE_OFFSET = 1.31655
RADIANCE_SCALING_FACTOR = 0.00330003
REFLECTANCE_SCALING_FACTOR = 0.000329546
MEX:REFLECTANCE_OFFSET = 0.131473
/* IMAGE OBJECT DEFINITIONS */
OBJECT = IMAGE
  INTERCHANGE_FORMAT = BINARY
  LINES = 11242
  LINE_SAMPLES = 1787
  SAMPLE_TYPE = UNSIGNED_INTEGER
  SAMPLE_BITS = 8
  BANDS = 1
  BAND_STORAGE_TYPE = BAND_SEQUENTIAL
  MAXIMUM = 255
  MEAN = 108.468
  MINIMUM = 1
  STANDARD_DEVIATION = 35.6266
END_OBJECT = IMAGE
/* MAP OBJECT DEFINITIONS */
OBJECT = IMAGE_MAP_PROJECTION
  ^DATA_SET_MAP_PROJECTION_CATALOG= "DSMAP.CAT"
  A_AXIS_RADIUS = 3396.0
  B_AXIS_RADIUS = 3396.0
  C_AXIS_RADIUS = 3396.0
  CENTER_LATITUDE = 0.0
  CENTER_LONGITUDE = 147.0
  COORDINATE_SYSTEM_NAME = PLANETOGRAPHIC
  COORDINATE_SYSTEM_TYPE = "BODY-FIXED ROTATING"
  EASTERNMOST_LONGITUDE = 147.754
  FIRST_STANDARD_PARALLEL = "N/A"
  LINE_FIRST_PIXEL = 1
  LINE_LAST_PIXEL = 11242
  LINE_PROJECTION_OFFSET = -48934.375
  MAP_PROJECTION_ROTATION = 0.0
  MAP_PROJECTION_TYPE = SINUSOIDAL
  MAP_RESOLUTION = 1185.42760773333
  MAP_SCALE = 0.05
  MAXIMUM_LATITUDE = -41.4896
  MINIMUM_LATITUDE = -50.8332
  POSITIVE_LONGITUDE_DIRECTION = EAST
  REFERENCE_LATITUDE = "N/A"
  REFERENCE_LONGITUDE = "N/A"
  SAMPLE_FIRST_PIXEL = 1
  SAMPLE_LAST_PIXEL = 1787
  SAMPLE_PROJECTION_OFFSET = 1103.375
  SECOND_STANDARD_PARALLEL = "N/A"
  WESTERNMOST_LONGITUDE = 145.525
END_OBJECT = IMAGE_MAP_PROJECTION
END
