PDS_VERSION_ID = PDS3
/* FILE DATA ELEMENTS */
RECORD_TYPE = UNDEFINED
/* POINTERS TO DATA OBJECTS */
^IMAGE = ("HN177_0000_BL4.TIF")
/* IDENTIFICATION DATA ELEMENTS */
DATA_SET_ID = "MEX-M-HRSC-4-REFDR-MAPPROJECT-EXT8-V4.0"
DATA_SET_NAME = "MARS EXPRESS HRSC MAP PROJECTED REFDR EXTENSION8 V4.0"
DETECTOR_ID = MEX_HRSC_BLUE
EVENT_TYPE = "MARS-REGIONAL-MAPPING-Vo-Te-Im"
INSTRUMENT_HOST_ID = MEX
INSTRUMENT_HOST_NAME = "MARS EXPRESS"
INSTRUMENT_ID = HRSC
INSTRUMENT_NAME = "HIGH RESOLUTION STEREO CAMERA"
MISSION_NAME = "MARS EXPRESS"
MISSION_PHASE_NAME = ME_Phase_46
PROCESSING_LEVEL_ID = 4
PRODUCT_CREATION_TIME = 2023-01-28T22:22:56.000Z
PRODUCT_ID = "HN177_0000_BL4.TIF"
RELEASE_ID = 0004
REVISION_ID = 0000
/* QUALITY DATA ELEMENTS */
DATA_QUALITY_ID = 1
DATA_QUALITY_DESC = "Data calculated based on original SPICE kernels"
/* TIME DATA ELEMENTS */
SPACECRAFT_CLOCK_START_COUNT = "1/0600000823.25687"
SPACECRAFT_CLOCK_STOP_COUNT = "1/0600001043.07437"
START_TIME = 2022-05-07T10:54:44.055Z
STOP_TIME = 2022-05-07T10:57:17.797Z
/* ORBITAL DATA ELEMENTS */
ASCENDING_NODE_LONGITUDE = 142.06
MAXIMUM_RESOLUTION = 0.0543
FOOTPRINT_POINT_LATITUDE = (-53.0916,-53.077,-53.0571,-53.0224, -53.0215,-53.0066,-52.8077,-52.5093, -52.3102,-52.1113,-51.9114,-51.7119, -51.513,-51.3132,-51.0133,-50.8137, -50.6141,-50.3149,-50.0155,-49.7156, -49.5148,-49.3152,-49.1154,-48.8158, -48.6161,-48.3179,-48.1181,-47.9181, -47.7183,-47.5185,-47.3187,-47.1188, -46.9191,-46.7194,-46.5192,-46.22, -46.0203,-45.8207,-45.6212,-45.4218, -45.1224,-44.9225,-44.7226,-44.5231, -44.3235,-44.124,-43.9246,-43.6255, -43.1274,-43.0278,-43.009,-43.0236, -43.0364,-43.051,-43.0513,-43.0522, -43.3518,-43.5516,-43.7515,-44.0509, -44.2514,-44.4514,-44.6515,-44.8514, -45.052,-45.2522,-45.452,-45.6523, -45.9527,-46.2529,-46.5533,-46.8537, -47.1539,-47.3542,-47.5544,-47.855, -48.0554,-48.2561,-48.4565,-48.6572, -48.8579,-49.0581,-49.2592,-49.4599, -49.6597,-49.8596,-50.0596,-50.3598, -50.5601,-50.8607,-51.1611,-51.3615, -51.5619,-51.9607,-52.2606,-52.4605, -52.7611,-52.9622,-53.062,-53.0916)
FOOTPRINT_POINT_LONGITUDE = (157.19,156.711,156.14,155.294,155.276, 155.225,155.249,155.285,155.308,155.332 ,155.352,155.373,155.396,155.416, 155.445,155.464,155.484,155.514,155.542 ,155.569,155.583,155.601,155.618, 155.644,155.661,155.69,155.706,155.721, 155.736,155.751,155.766,155.781,155.795 ,155.81,155.822,155.844,155.857,155.871 ,155.884,155.897,155.916,155.927, 155.938,155.95,155.961,155.972,155.983, 155.999,156.025,156.031,156.031,156.502 ,156.984,157.68,157.696,157.701,157.69, 157.683,157.676,157.665,157.657,157.65, 157.642,157.634,157.626,157.618,157.61, 157.602,157.589,157.576,157.563,157.55, 157.537,157.528,157.519,157.504,157.495 ,157.485,157.475,157.464,157.454, 157.444,157.432,157.421,157.411,157.401 ,157.391,157.374,157.363,157.345, 157.327,157.315,157.303,157.28,157.261, 157.248,157.228,157.213,157.206,157.19)
ORBIT_NUMBER = 23177
ORBITAL_ECCENTRICITY = 0.576
ORBITAL_INCLINATION = 87.01
ORBITAL_SEMIMAJOR_AXIS = 8789.99
PERIAPSIS_ALTITUDE = 342.31
PERIAPSIS_ARGUMENT_ANGLE = 308.87
PERIAPSIS_TIME = 2022-05-07T10:55:21.000Z
SPACECRAFT_ORIENTATION = (0.0,1.0,0.0)
^MEX_ORIENTATION_DESC = "MEX_ORIENTATION_DESC.TXT"
SPACECRAFT_POINTING_MODE = ACROSSTRACK
^MEX_POINTING_DESC = "MEX_POINTING_DESC.TXT"
RIGHT_ASCENSION = -1e+32
DECLINATION = -1e+32
OFFSET_ANGLE = 0.3
SPACECRAFT_SOLAR_DISTANCE = 2.08793e+08
TARGET_NAME = MARS
/* CAMERA DATA ELEMENTS */
DETECTOR_TEMPERATURE = 16.7393
FOCAL_PLANE_TEMPERATURE = 7.7677
INST_CMPRS_NAME = "DISCRETE COSINE TRANSFORMATION (DCT)"
INST_CMPRS_RATIO = 5.52952
INST_CMPRS_QUALITY = 0
INST_CMPRS_QUANTZ_TBL_ID = 0
INSTRUMENT_TEMPERATURE = 11.0301
LENS_TEMPERATURE = 8.1755
MACROPIXEL_SIZE = 4
MISSING_FRAMES = 0
PIXEL_SUBSAMPLING_FLAG = N
SIGNAL_CHAIN_ID = 2
/* RADIOMETRIC DATA ELEMENTS */
BANDWIDTH = 76.0
CENTER_FILTER_WAVELENGTH = 444.0
RADIANCE_OFFSET = 0.789723
RADIANCE_SCALING_FACTOR = 0.00111907
REFLECTANCE_SCALING_FACTOR = 5.01238e-05
MEX:REFLECTANCE_OFFSET = 0.0353723
/* IMAGE OBJECT DEFINITIONS */
OBJECT = IMAGE
  INTERCHANGE_FORMAT = BINARY
  LINES = 11941
  LINE_SAMPLES = 1885
  SAMPLE_TYPE = UNSIGNED_INTEGER
  SAMPLE_BITS = 8
  BANDS = 1
  BAND_STORAGE_TYPE = BAND_SEQUENTIAL
  MAXIMUM = 254
  MEAN = 139.884
  MINIMUM = 1
  STANDARD_DEVIATION = 29.6313
END_OBJECT = IMAGE
/* MAP OBJECT DEFINITIONS */
OBJECT = IMAGE_MAP_PROJECTION
  ^DATA_SET_MAP_PROJECTION_CATALOG= "DSMAP.CAT"
  A_AXIS_RADIUS = 3396.0
  B_AXIS_RADIUS = 3396.0
  C_AXIS_RADIUS = 3396.0
  CENTER_LATITUDE = 0.0
  CENTER_LONGITUDE = 157.0
  COORDINATE_SYSTEM_NAME = PLANETOGRAPHIC
  COORDINATE_SYSTEM_TYPE = "BODY-FIXED ROTATING"
  EASTERNMOST_LONGITUDE = 157.701
  FIRST_STANDARD_PARALLEL = "N/A"
  LINE_FIRST_PIXEL = 1
  LINE_LAST_PIXEL = 11941
  LINE_PROJECTION_OFFSET = -50979.375
  MAP_PROJECTION_ROTATION = 0.0
  MAP_PROJECTION_TYPE = SINUSOIDAL
  MAP_RESOLUTION = 1185.42760773333
  MAP_SCALE = 0.05
  MAXIMUM_LATITUDE = -43.009
  MINIMUM_LATITUDE = -53.0916
  POSITIVE_LONGITUDE_DIRECTION = EAST
  REFERENCE_LATITUDE = "N/A"
  REFERENCE_LONGITUDE = "N/A"
  SAMPLE_FIRST_PIXEL = 1
  SAMPLE_LAST_PIXEL = 1885
  SAMPLE_PROJECTION_OFFSET = 1274.125
  SECOND_STANDARD_PARALLEL = "N/A"
  WESTERNMOST_LONGITUDE = 155.225
END_OBJECT = IMAGE_MAP_PROJECTION
END
