PDS_VERSION_ID = PDS3
/* FILE DATA ELEMENTS */
RECORD_TYPE = UNDEFINED
/* POINTERS TO DATA OBJECTS */
^IMAGE = ("HN177_0000_IR4.TIF")
/* IDENTIFICATION DATA ELEMENTS */
DATA_SET_ID = "MEX-M-HRSC-4-REFDR-MAPPROJECT-EXT8-V4.0"
DATA_SET_NAME = "MARS EXPRESS HRSC MAP PROJECTED REFDR EXTENSION8 V4.0"
DETECTOR_ID = MEX_HRSC_IR
EVENT_TYPE = "MARS-REGIONAL-MAPPING-Vo-Te-Im"
INSTRUMENT_HOST_ID = MEX
INSTRUMENT_HOST_NAME = "MARS EXPRESS"
INSTRUMENT_ID = HRSC
INSTRUMENT_NAME = "HIGH RESOLUTION STEREO CAMERA"
MISSION_NAME = "MARS EXPRESS"
MISSION_PHASE_NAME = ME_Phase_46
PROCESSING_LEVEL_ID = 4
PRODUCT_CREATION_TIME = 2023-01-28T22:22:56.000Z
PRODUCT_ID = "HN177_0000_IR4.TIF"
RELEASE_ID = 0004
REVISION_ID = 0000
/* QUALITY DATA ELEMENTS */
DATA_QUALITY_ID = 1
DATA_QUALITY_DESC = "Data calculated based on original SPICE kernels"
/* TIME DATA ELEMENTS */
SPACECRAFT_CLOCK_START_COUNT = "1/0600000823.25687"
SPACECRAFT_CLOCK_STOP_COUNT = "1/0600001043.07437"
START_TIME = 2022-05-07T10:55:14.637Z
STOP_TIME = 2022-05-07T10:57:50.178Z
/* ORBITAL DATA ELEMENTS */
ASCENDING_NODE_LONGITUDE = 142.06
MAXIMUM_RESOLUTION = 0.0567
FOOTPRINT_POINT_LATITUDE = (-53.0075,-52.9975,-52.9851,-52.9655, -52.965,-53.0135,-52.7106,-52.4074, -52.2048,-51.9053,-51.7043,-51.4019, -51.203,-51.0028,-50.7022,-50.5016, -50.2007,-49.9997,-49.7998,-49.6041, -49.4043,-49.204,-49.0042,-48.8042, -48.6027,-48.2991,-48.1003,-47.9013, -47.7019,-47.503,-47.3039,-47.1051, -46.9062,-46.6081,-46.3117,-46.1117, -45.9131,-45.7145,-45.5154,-45.2185, -45.0202,-44.6272,-44.3316,-44.1346, -43.9374,-43.7405,-43.4449,-43.1498, -43.0515,-43.0028,-43.0061,-43.0105, -43.0158,-43.0184,-43.0185,-43.0194, -43.3147,-43.5116,-43.709,-43.906, -44.1047,-44.3007,-44.4983,-44.7955, -44.9935,-45.1893,-45.3893,-45.6869, -45.8853,-46.1837,-46.4827,-46.6819, -46.8813,-47.0815,-47.3815,-47.6817, -47.9811,-48.1807,-48.3799,-48.5799, -48.778,-48.9786,-49.3741,-49.5771, -49.7805,-49.9826,-50.286,-50.5876, -50.7887,-50.9894,-51.1904,-51.4916, -51.6921,-51.8983,-52.1035,-52.3055, -52.5074,-52.9038,-53.0046,-53.0075)
FOOTPRINT_POINT_LONGITUDE = (157.196,156.628,156.055,155.298, 155.279,155.221,155.257,155.293,155.316 ,155.347,155.368,155.4,155.419,155.438, 155.467,155.487,155.515,155.534,155.552 ,155.565,155.582,155.6,155.616,155.633, 155.651,155.679,155.694,155.708,155.723 ,155.738,155.752,155.766,155.78,155.801 ,155.819,155.834,155.847,155.859, 155.873,155.89,155.903,155.923,155.939, 155.95,155.96,155.971,155.986,156.001, 156.006,156.008,156.282,156.732,157.306 ,157.703,157.719,157.724,157.713, 157.705,157.698,157.69,157.683,157.674, 157.667,157.654,157.646,157.637,157.629 ,157.617,157.608,157.595,157.581, 157.572,157.563,157.554,157.539,157.525 ,157.51,157.5,157.489,157.479,157.468, 157.457,157.434,157.424,157.413,157.402 ,157.385,157.367,157.355,157.343,157.33 ,157.311,157.298,157.286,157.274,157.26 ,157.247,157.217,157.21,157.196)
ORBIT_NUMBER = 23177
ORBITAL_ECCENTRICITY = 0.576
ORBITAL_INCLINATION = 87.01
ORBITAL_SEMIMAJOR_AXIS = 8789.99
PERIAPSIS_ALTITUDE = 342.31
PERIAPSIS_ARGUMENT_ANGLE = 308.87
PERIAPSIS_TIME = 2022-05-07T10:55:21.000Z
SPACECRAFT_ORIENTATION = (0.0,1.0,0.0)
^MEX_ORIENTATION_DESC = "MEX_ORIENTATION_DESC.TXT"
SPACECRAFT_POINTING_MODE = ACROSSTRACK
^MEX_POINTING_DESC = "MEX_POINTING_DESC.TXT"
RIGHT_ASCENSION = -1e+32
DECLINATION = -1e+32
OFFSET_ANGLE = 0.3
SPACECRAFT_SOLAR_DISTANCE = 2.08793e+08
TARGET_NAME = MARS
/* CAMERA DATA ELEMENTS */
DETECTOR_TEMPERATURE = 17.351
FOCAL_PLANE_TEMPERATURE = 7.7677
INST_CMPRS_NAME = "DISCRETE COSINE TRANSFORMATION (DCT)"
INST_CMPRS_RATIO = 10.766
INST_CMPRS_QUALITY = 0
INST_CMPRS_QUANTZ_TBL_ID = 0
INSTRUMENT_TEMPERATURE = 11.0301
LENS_TEMPERATURE = 8.1755
MACROPIXEL_SIZE = 4
MISSING_FRAMES = 0
PIXEL_SUBSAMPLING_FLAG = N
SIGNAL_CHAIN_ID = 2
/* RADIOMETRIC DATA ELEMENTS */
BANDWIDTH = 81.0
CENTER_FILTER_WAVELENGTH = 955.5
RADIANCE_OFFSET = 1.2845
RADIANCE_SCALING_FACTOR = 0.00322776
REFLECTANCE_SCALING_FACTOR = 0.000303572
MEX:REFLECTANCE_OFFSET = 0.120808
/* IMAGE OBJECT DEFINITIONS */
OBJECT = IMAGE
  INTERCHANGE_FORMAT = BINARY
  LINES = 11941
  LINE_SAMPLES = 1885
  SAMPLE_TYPE = UNSIGNED_INTEGER
  SAMPLE_BITS = 8
  BANDS = 1
  BAND_STORAGE_TYPE = BAND_SEQUENTIAL
  MAXIMUM = 255
  MEAN = 121.021
  MINIMUM = 1
  STANDARD_DEVIATION = 30.9016
END_OBJECT = IMAGE
/* MAP OBJECT DEFINITIONS */
OBJECT = IMAGE_MAP_PROJECTION
  ^DATA_SET_MAP_PROJECTION_CATALOG= "DSMAP.CAT"
  A_AXIS_RADIUS = 3396.0
  B_AXIS_RADIUS = 3396.0
  C_AXIS_RADIUS = 3396.0
  CENTER_LATITUDE = 0.0
  CENTER_LONGITUDE = 157.0
  COORDINATE_SYSTEM_NAME = PLANETOGRAPHIC
  COORDINATE_SYSTEM_TYPE = "BODY-FIXED ROTATING"
  EASTERNMOST_LONGITUDE = 157.724
  FIRST_STANDARD_PARALLEL = "N/A"
  LINE_FIRST_PIXEL = 1
  LINE_LAST_PIXEL = 11941
  LINE_PROJECTION_OFFSET = -50979.375
  MAP_PROJECTION_ROTATION = 0.0
  MAP_PROJECTION_TYPE = SINUSOIDAL
  MAP_RESOLUTION = 1185.42760773333
  MAP_SCALE = 0.05
  MAXIMUM_LATITUDE = -43.0028
  MINIMUM_LATITUDE = -53.0135
  POSITIVE_LONGITUDE_DIRECTION = EAST
  REFERENCE_LATITUDE = "N/A"
  REFERENCE_LONGITUDE = "N/A"
  SAMPLE_FIRST_PIXEL = 1
  SAMPLE_LAST_PIXEL = 1885
  SAMPLE_PROJECTION_OFFSET = 1274.125
  SECOND_STANDARD_PARALLEL = "N/A"
  WESTERNMOST_LONGITUDE = 155.221
END_OBJECT = IMAGE_MAP_PROJECTION
END
