PDS_VERSION_ID = PDS3
/* FILE DATA ELEMENTS */
RECORD_TYPE = UNDEFINED
/* POINTERS TO DATA OBJECTS */
^IMAGE = ("HN177_0000_ND4.TIF")
/* IDENTIFICATION DATA ELEMENTS */
DATA_SET_ID = "MEX-M-HRSC-4-REFDR-MAPPROJECT-EXT8-V4.0"
DATA_SET_NAME = "MARS EXPRESS HRSC MAP PROJECTED REFDR EXTENSION8 V4.0"
DETECTOR_ID = MEX_HRSC_NADIR
EVENT_TYPE = "MARS-REGIONAL-MAPPING-Vo-Te-Im"
INSTRUMENT_HOST_ID = MEX
INSTRUMENT_HOST_NAME = "MARS EXPRESS"
INSTRUMENT_ID = HRSC
INSTRUMENT_NAME = "HIGH RESOLUTION STEREO CAMERA"
MISSION_NAME = "MARS EXPRESS"
MISSION_PHASE_NAME = ME_Phase_46
PROCESSING_LEVEL_ID = 4
PRODUCT_CREATION_TIME = 2023-01-28T22:22:56.000Z
PRODUCT_ID = "HN177_0000_ND4.TIF"
RELEASE_ID = 0004
REVISION_ID = 0000
/* QUALITY DATA ELEMENTS */
DATA_QUALITY_ID = 1
DATA_QUALITY_DESC = "Data calculated based on original SPICE kernels"
/* TIME DATA ELEMENTS */
SPACECRAFT_CLOCK_START_COUNT = "1/0600000823.25687"
SPACECRAFT_CLOCK_STOP_COUNT = "1/0600001043.07437"
START_TIME = 2022-05-07T10:54:49.245Z
STOP_TIME = 2022-05-07T10:57:23.236Z
/* ORBITAL DATA ELEMENTS */
ASCENDING_NODE_LONGITUDE = 142.06
MAXIMUM_RESOLUTION = 0.0136
FOOTPRINT_POINT_LATITUDE = (-53.0781,-53.0615,-53.0412,-53.0276, -53.0136,-53.0128,-53.009,-52.8093, -52.6095,-52.4097,-52.2099,-52.01, -51.8099,-51.6101,-51.4101,-51.21, -51.0099,-50.8099,-50.6099,-50.3098, -50.0097,-49.8097,-49.6093,-49.4092, -49.2092,-49.0091,-48.8091,-48.609, -48.4093,-48.2092,-48.0092,-47.8092, -47.6092,-47.4092,-47.2092,-47.0093, -46.8094,-46.6095,-46.4096,-46.2099, -45.9102,-45.5109,-45.1116,-44.7124, -44.3101,-43.9113,-43.5129,-43.1146, -43.0151,-43.0044,-43.0183,-43.0255, -43.0346,-43.0419,-43.0422,-43.0425, -43.4417,-43.8411,-44.1408,-44.5406, -44.744,-44.944,-45.1442,-45.3443, -45.5444,-45.7447,-46.0451,-46.2454, -46.5459,-46.7463,-46.9468,-47.1472, -47.3477,-47.5483,-47.7488,-47.9494, -48.2503,-48.451,-48.6516,-48.8523, -49.053,-49.2537,-49.5548,-49.7555, -49.9562,-50.1569,-50.3576,-50.6587, -50.9597,-51.2608,-51.4615,-51.6622, -51.8629,-52.1638,-52.3644,-52.565, -52.7656,-52.9663,-53.0666,-53.0781)
FOOTPRINT_POINT_LONGITUDE = (157.189,156.605,155.997,155.635, 155.289,155.27,155.213,155.237,155.262, 155.285,155.309,155.331,155.35,155.373, 155.395,155.413,155.433,155.453,155.473 ,155.502,155.531,155.55,155.563,155.58, 155.598,155.615,155.632,155.649,155.671 ,155.686,155.702,155.717,155.732, 155.747,155.762,155.776,155.791,155.804 ,155.816,155.832,155.852,155.879, 155.904,155.926,155.949,155.97,155.992, 156.013,156.018,156.018,156.521,156.82, 157.251,157.679,157.695,157.704,157.689 ,157.675,157.663,157.648,157.64,157.632 ,157.624,157.616,157.608,157.599, 157.586,157.578,157.565,157.556,157.547 ,157.538,157.529,157.52,157.51,157.5, 157.486,157.475,157.465,157.454,157.444 ,157.433,157.417,157.406,157.396, 157.385,157.374,157.356,157.339,157.32, 157.308,157.295,157.283,157.266,157.253 ,157.24,157.226,157.211,157.204, 157.189)
ORBIT_NUMBER = 23177
ORBITAL_ECCENTRICITY = 0.576
ORBITAL_INCLINATION = 87.01
ORBITAL_SEMIMAJOR_AXIS = 8789.99
PERIAPSIS_ALTITUDE = 342.31
PERIAPSIS_ARGUMENT_ANGLE = 308.87
PERIAPSIS_TIME = 2022-05-07T10:55:21.000Z
SPACECRAFT_ORIENTATION = (0.0,1.0,0.0)
^MEX_ORIENTATION_DESC = "MEX_ORIENTATION_DESC.TXT"
SPACECRAFT_POINTING_MODE = ACROSSTRACK
^MEX_POINTING_DESC = "MEX_POINTING_DESC.TXT"
RIGHT_ASCENSION = -1e+32
DECLINATION = -1e+32
OFFSET_ANGLE = 0.3
SPACECRAFT_SOLAR_DISTANCE = 2.08793e+08
TARGET_NAME = MARS
/* CAMERA DATA ELEMENTS */
DETECTOR_TEMPERATURE = 16.7393
FOCAL_PLANE_TEMPERATURE = 7.7677
INST_CMPRS_NAME = "DISCRETE COSINE TRANSFORMATION (DCT)"
INST_CMPRS_RATIO = 6.31722
INST_CMPRS_QUALITY = 0
INST_CMPRS_QUANTZ_TBL_ID = 0
INSTRUMENT_TEMPERATURE = 11.0301
LENS_TEMPERATURE = 8.1755
MACROPIXEL_SIZE = 1
MISSING_FRAMES = 2
PIXEL_SUBSAMPLING_FLAG = N
SIGNAL_CHAIN_ID = 0
/* RADIOMETRIC DATA ELEMENTS */
BANDWIDTH = 177.0
CENTER_FILTER_WAVELENGTH = 677.5
RADIANCE_OFFSET = 4.83513
RADIANCE_SCALING_FACTOR = 0.0111872
REFLECTANCE_SCALING_FACTOR = 0.000259082
MEX:REFLECTANCE_OFFSET = 0.111976
/* IMAGE OBJECT DEFINITIONS */
OBJECT = IMAGE
  INTERCHANGE_FORMAT = BINARY
  LINES = 47763
  LINE_SAMPLES = 7538
  SAMPLE_TYPE = UNSIGNED_INTEGER
  SAMPLE_BITS = 8
  BANDS = 1
  BAND_STORAGE_TYPE = BAND_SEQUENTIAL
  MAXIMUM = 255
  MEAN = 125.705
  MINIMUM = 1
  STANDARD_DEVIATION = 29.7527
END_OBJECT = IMAGE
/* MAP OBJECT DEFINITIONS */
OBJECT = IMAGE_MAP_PROJECTION
  ^DATA_SET_MAP_PROJECTION_CATALOG= "DSMAP.CAT"
  A_AXIS_RADIUS = 3396.0
  B_AXIS_RADIUS = 3396.0
  C_AXIS_RADIUS = 3396.0
  CENTER_LATITUDE = 0.0
  CENTER_LONGITUDE = 157.0
  COORDINATE_SYSTEM_NAME = PLANETOGRAPHIC
  COORDINATE_SYSTEM_TYPE = "BODY-FIXED ROTATING"
  EASTERNMOST_LONGITUDE = 157.704
  FIRST_STANDARD_PARALLEL = "N/A"
  LINE_FIRST_PIXEL = 1
  LINE_LAST_PIXEL = 47763
  LINE_PROJECTION_OFFSET = -203916.0
  MAP_PROJECTION_ROTATION = 0.0
  MAP_PROJECTION_TYPE = SINUSOIDAL
  MAP_RESOLUTION = 4741.71043093333
  MAP_SCALE = 0.0125
  MAXIMUM_LATITUDE = -43.0044
  MINIMUM_LATITUDE = -53.0781
  POSITIVE_LONGITUDE_DIRECTION = EAST
  REFERENCE_LATITUDE = "N/A"
  REFERENCE_LONGITUDE = "N/A"
  SAMPLE_FIRST_PIXEL = 1
  SAMPLE_LAST_PIXEL = 7538
  SAMPLE_PROJECTION_OFFSET = 5098.0
  SECOND_STANDARD_PARALLEL = "N/A"
  WESTERNMOST_LONGITUDE = 155.213
END_OBJECT = IMAGE_MAP_PROJECTION
END
