PDS_VERSION_ID = PDS3
/* FILE DATA ELEMENTS */
RECORD_TYPE = UNDEFINED
/* POINTERS TO DATA OBJECTS */
^IMAGE = ("HN194_0000_P14.TIF")
/* IDENTIFICATION DATA ELEMENTS */
DATA_SET_ID = "MEX-M-HRSC-4-REFDR-MAPPROJECT-EXT8-V4.0"
DATA_SET_NAME = "MARS EXPRESS HRSC MAP PROJECTED REFDR EXTENSION8 V4.0"
DETECTOR_ID = MEX_HRSC_P1
EVENT_TYPE = "MARS-REGIONAL-CARTOGRAPHY-Te-Gl-Pf"
INSTRUMENT_HOST_ID = MEX
INSTRUMENT_HOST_NAME = "MARS EXPRESS"
INSTRUMENT_ID = HRSC
INSTRUMENT_NAME = "HIGH RESOLUTION STEREO CAMERA"
MISSION_NAME = "MARS EXPRESS"
MISSION_PHASE_NAME = ME_Phase_46
PROCESSING_LEVEL_ID = 4
PRODUCT_CREATION_TIME = 2023-01-28T22:22:56.000Z
PRODUCT_ID = "HN194_0000_P14.TIF"
RELEASE_ID = 0004
REVISION_ID = 0000
/* QUALITY DATA ELEMENTS */
DATA_QUALITY_ID = 1
DATA_QUALITY_DESC = "Data calculated based on original SPICE kernels"
/* TIME DATA ELEMENTS */
SPACECRAFT_CLOCK_START_COUNT = "1/0600427881.24887"
SPACECRAFT_CLOCK_STOP_COUNT = "1/0600428216.64978"
START_TIME = 2022-05-12T09:33:05.540Z
STOP_TIME = 2022-05-12T09:37:19.115Z
/* ORBITAL DATA ELEMENTS */
ASCENDING_NODE_LONGITUDE = 141.76
MAXIMUM_RESOLUTION = 0.028
FOOTPRINT_POINT_LATITUDE = (-73.7147,-73.6536,-73.5916,-73.5208, -73.5184,-73.5794,-73.0324,-72.4846, -72.1214,-71.7643,-71.4068,-71.0482, -70.6896,-70.3325,-69.9738,-69.4336, -69.0729,-68.7096,-68.348,-67.9882, -67.6273,-67.0859,-66.7256,-66.364, -66.0023,-65.6404,-65.1277,-64.6722, -64.3683,-64.0641,-63.606,-63.1508, -62.8461,-62.3898,-62.0855,-61.7809, -61.4758,-61.1726,-60.8678,-60.4077, -60.1028,-59.6454,-59.3409,-58.8834, -58.5783,-58.2739,-57.8178,-57.2108, -57.0586,-57.0473,-57.0844,-57.1342, -57.1349,-57.1357,-57.4419,-57.7478, -58.0534,-58.512,-58.8177,-59.2763, -59.5822,-60.0409,-60.346,-60.6557, -61.1145,-61.4199,-61.8783,-62.3342, -62.6452,-62.9462,-63.2535,-63.7122, -64.0164,-64.3232,-64.7826,-65.0883, -65.3942,-65.7549,-66.1193,-66.4832, -67.0281,-67.3897,-67.7545,-68.1179, -68.483,-69.0342,-69.3961,-69.7592, -70.122,-70.4842,-70.8456,-71.2058, -71.5675,-71.9292,-72.2901,-72.8425, -73.2119,-73.582,-73.7672,-73.7147)
FOOTPRINT_POINT_LONGITUDE = (222.022,220.119,218.57,217.065,217.019 ,217.018,217.318,217.597,217.771, 217.934,218.091,218.24,218.383,218.521, 218.653,218.84,218.959,219.072,219.181, 219.286,219.388,219.533,219.625,219.714 ,219.799,219.881,219.992,220.085, 220.145,220.204,220.286,220.367,220.418 ,220.493,220.541,220.587,220.631, 220.675,220.717,220.779,220.818,220.874 ,220.91,220.962,220.995,221.027,221.074 ,221.134,221.149,221.15,221.962,223.387 ,223.41,223.418,223.412,223.406,223.398 ,223.386,223.378,223.364,223.355,223.34 ,223.328,223.318,223.301,223.288, 223.268,223.242,223.242,223.215,223.205 ,223.182,223.163,223.15,223.128,223.111 ,223.094,223.072,223.049,223.024, 222.982,222.949,222.924,222.895,222.87, 222.843,222.806,222.773,222.738,222.701 ,222.659,222.613,222.571,222.527, 222.481,222.405,222.349,222.294,222.266 ,222.022)
ORBIT_NUMBER = 23194
ORBITAL_ECCENTRICITY = 0.576
ORBITAL_INCLINATION = 87.03
ORBITAL_SEMIMAJOR_AXIS = 8783.32
PERIAPSIS_ALTITUDE = 340.44
PERIAPSIS_ARGUMENT_ANGLE = 305.95
PERIAPSIS_TIME = 2022-05-12T09:37:47.000Z
SPACECRAFT_ORIENTATION = (0.0,1.0,0.0)
^MEX_ORIENTATION_DESC = "MEX_ORIENTATION_DESC.TXT"
SPACECRAFT_POINTING_MODE = ACROSSTRACK
^MEX_POINTING_DESC = "MEX_POINTING_DESC.TXT"
RIGHT_ASCENSION = -1e+32
DECLINATION = -1e+32
OFFSET_ANGLE = -1.0
SPACECRAFT_SOLAR_DISTANCE = 2.08355e+08
TARGET_NAME = MARS
/* CAMERA DATA ELEMENTS */
DETECTOR_TEMPERATURE = 17.7588
FOCAL_PLANE_TEMPERATURE = 8.5833
INST_CMPRS_NAME = "DISCRETE COSINE TRANSFORMATION (DCT)"
INST_CMPRS_RATIO = 12.6828
INST_CMPRS_QUALITY = 0
INST_CMPRS_QUANTZ_TBL_ID = 0
INSTRUMENT_TEMPERATURE = 11.0301
LENS_TEMPERATURE = 8.7872
MACROPIXEL_SIZE = 2
MISSING_FRAMES = 1
PIXEL_SUBSAMPLING_FLAG = N
SIGNAL_CHAIN_ID = 3
/* RADIOMETRIC DATA ELEMENTS */
BANDWIDTH = 174.0
CENTER_FILTER_WAVELENGTH = 675.0
RADIANCE_OFFSET = 5.47816
RADIANCE_SCALING_FACTOR = 0.0139451
REFLECTANCE_SCALING_FACTOR = 0.000325624
MEX:REFLECTANCE_OFFSET = 0.127917
/* IMAGE OBJECT DEFINITIONS */
OBJECT = IMAGE
  INTERCHANGE_FORMAT = BINARY
  LINES = 39577
  LINE_SAMPLES = 5235
  SAMPLE_TYPE = UNSIGNED_INTEGER
  SAMPLE_BITS = 8
  BANDS = 1
  BAND_STORAGE_TYPE = BAND_SEQUENTIAL
  MAXIMUM = 255
  MEAN = 152.615
  MINIMUM = 1
  STANDARD_DEVIATION = 90.9004
END_OBJECT = IMAGE
/* MAP OBJECT DEFINITIONS */
OBJECT = IMAGE_MAP_PROJECTION
  ^DATA_SET_MAP_PROJECTION_CATALOG= "DSMAP.CAT"
  A_AXIS_RADIUS = 3396.0
  B_AXIS_RADIUS = 3396.0
  C_AXIS_RADIUS = 3396.0
  CENTER_LATITUDE = 0.0
  CENTER_LONGITUDE = 222.0
  COORDINATE_SYSTEM_NAME = PLANETOGRAPHIC
  COORDINATE_SYSTEM_TYPE = "BODY-FIXED ROTATING"
  EASTERNMOST_LONGITUDE = 223.418
  FIRST_STANDARD_PARALLEL = "N/A"
  LINE_FIRST_PIXEL = 1
  LINE_LAST_PIXEL = 39577
  LINE_PROJECTION_OFFSET = -135340.25
  MAP_PROJECTION_ROTATION = 0.0
  MAP_PROJECTION_TYPE = SINUSOIDAL
  MAP_RESOLUTION = 2370.85521546667
  MAP_SCALE = 0.025
  MAXIMUM_LATITUDE = -57.0473
  MINIMUM_LATITUDE = -73.7672
  POSITIVE_LONGITUDE_DIRECTION = EAST
  REFERENCE_LATITUDE = "N/A"
  REFERENCE_LONGITUDE = "N/A"
  SAMPLE_FIRST_PIXEL = 1
  SAMPLE_LAST_PIXEL = 5235
  SAMPLE_PROJECTION_OFFSET = 3415.75
  SECOND_STANDARD_PARALLEL = "N/A"
  WESTERNMOST_LONGITUDE = 217.018
END_OBJECT = IMAGE_MAP_PROJECTION
END
